BEGIN:VCALENDAR
VERSION:2.0
PRODID:-//Live Music Halifax - ECPv6.15.20//NONSGML v1.0//EN
CALSCALE:GREGORIAN
METHOD:PUBLISH
X-ORIGINAL-URL:https://livemusichalifax.ca
X-WR-CALDESC:Events for Live Music Halifax
REFRESH-INTERVAL;VALUE=DURATION:PT1H
X-Robots-Tag:noindex
X-PUBLISHED-TTL:PT1H
BEGIN:VTIMEZONE
TZID:America/Halifax
BEGIN:DAYLIGHT
TZOFFSETFROM:-0400
TZOFFSETTO:-0300
TZNAME:ADT
DTSTART:20240310T060000
END:DAYLIGHT
BEGIN:STANDARD
TZOFFSETFROM:-0300
TZOFFSETTO:-0400
TZNAME:AST
DTSTART:20241103T050000
END:STANDARD
BEGIN:DAYLIGHT
TZOFFSETFROM:-0400
TZOFFSETTO:-0300
TZNAME:ADT
DTSTART:20250309T060000
END:DAYLIGHT
BEGIN:STANDARD
TZOFFSETFROM:-0300
TZOFFSETTO:-0400
TZNAME:AST
DTSTART:20251102T050000
END:STANDARD
BEGIN:DAYLIGHT
TZOFFSETFROM:-0400
TZOFFSETTO:-0300
TZNAME:ADT
DTSTART:20260308T060000
END:DAYLIGHT
BEGIN:STANDARD
TZOFFSETFROM:-0300
TZOFFSETTO:-0400
TZNAME:AST
DTSTART:20261101T050000
END:STANDARD
BEGIN:DAYLIGHT
TZOFFSETFROM:-0400
TZOFFSETTO:-0300
TZNAME:ADT
DTSTART:20270314T060000
END:DAYLIGHT
BEGIN:STANDARD
TZOFFSETFROM:-0300
TZOFFSETTO:-0400
TZNAME:AST
DTSTART:20271107T050000
END:STANDARD
END:VTIMEZONE
BEGIN:VEVENT
DTSTART;TZID=America/Halifax:20260104T110000
DTEND;TZID=America/Halifax:20260104T140000
DTSTAMP:20260419T194155
CREATED:20251230T141704Z
LAST-MODIFIED:20251230T141816Z
UID:10003687-1767524400-1767535200@livemusichalifax.ca
SUMMARY:Patrick Simms and Silvio Pupo
DESCRIPTION:Popular jazz pianist Silvio Pupo\, who plays Wednesday nights at The Local\, teams up with Halifax singer Patrick Simms who trained as an opera singer at Dalhousie University but well versed in old school jazz crooning\, folk music and blues.
URL:https://livemusichalifax.ca/event/patrick-simms-and-silvio-pupo-2/
LOCATION:The Roastory\, 12 Ella Lane\, Bedford\, B4B2J6
ATTACH;FMTTYPE=image/png:https://livemusichalifax.ca/wp-content/uploads/2025/10/silvio-pupo-pat-simms-e1760399172711.png
END:VEVENT
BEGIN:VEVENT
DTSTART;TZID=America/Halifax:20251130T110000
DTEND;TZID=America/Halifax:20251130T140000
DTSTAMP:20260419T194155
CREATED:20251128T150237Z
LAST-MODIFIED:20251230T142000Z
UID:10003731-1764500400-1764511200@livemusichalifax.ca
SUMMARY:Patrick Simms and Silvio Pupo
DESCRIPTION:Popular jazz pianist Silvio Pupo\, who plays Wednesday nights at The Local\, teams up with Halifax singer Patrick Simms who trained as an opera singer at Dalhousie University but well versed in old school jazz crooning\, folk music and blues.
URL:https://livemusichalifax.ca/event/patrick-simms-and-silvio-pupo/
LOCATION:The Roastory\, 12 Ella Lane\, Bedford\, B4B2J6
ATTACH;FMTTYPE=image/png:https://livemusichalifax.ca/wp-content/uploads/2025/10/silvio-pupo-pat-simms-e1760399172711.png
END:VEVENT
BEGIN:VEVENT
DTSTART;TZID=America/Halifax:20251109T110000
DTEND;TZID=America/Halifax:20251109T133000
DTSTAMP:20260419T194155
CREATED:20250922T175901Z
LAST-MODIFIED:20251103T180733Z
UID:10003074-1762686000-1762695000@livemusichalifax.ca
SUMMARY:Paul St. Amand & Kenneth Pasher
DESCRIPTION:Singer & trumpeter Paul St-Amand teams up with guitarist Kenneth Pasher for a midday jazz set at The Roastory: where every cup has a rhythm. Bedford’s coolest new cafe is rooted in two timeless crafts: the art of specialty coffee and the soul of jazz and blues.
URL:https://livemusichalifax.ca/event/paul-st-amand-kenneth-pasher/2025-11-09/
LOCATION:The Roastory\, 12 Ella Lane\, Bedford\, B4B2J6
ATTACH;FMTTYPE=image/png:https://livemusichalifax.ca/wp-content/uploads/2025/08/Paul-St.-Amand-Kenneth-Pasher.jpg-e1756089928424.png
END:VEVENT
BEGIN:VEVENT
DTSTART;TZID=America/Halifax:20251102T110000
DTEND;TZID=America/Halifax:20251102T130000
DTSTAMP:20260419T194155
CREATED:20251031T144944Z
LAST-MODIFIED:20251031T145039Z
UID:10002952-1762081200-1762088400@livemusichalifax.ca
SUMMARY:Silvio Pupo & Patrick Simms
DESCRIPTION:Well-known jazz pianist Silvio Pupo\, who plays Wednesday nights at The Local\, teams up with Halifax singer Patrick Simms who trained as an opera singer at Dalhousie University but well versed in old school jazz crooning\, folk music and blues.
URL:https://livemusichalifax.ca/event/silvio-pupo-patrick-simms-2/
LOCATION:The Roastory\, 12 Ella Lane\, Bedford\, B4B2J6
ATTACH;FMTTYPE=image/png:https://livemusichalifax.ca/wp-content/uploads/2025/10/silvio-pupo-pat-simms-e1760399172711.png
END:VEVENT
BEGIN:VEVENT
DTSTART;TZID=America/Halifax:20251019T110000
DTEND;TZID=America/Halifax:20251019T130000
DTSTAMP:20260419T194155
CREATED:20251013T232231Z
LAST-MODIFIED:20251013T235224Z
UID:10002867-1760871600-1760878800@livemusichalifax.ca
SUMMARY:Silvio Pupo & Patrick Simms
DESCRIPTION:Well-known jazz pianist Silvio Pupo\, who plays Wednesday nights at The Local\, teams up with Halifax singer Patrick Simms who trained as an opera singer at Dalhousie University but well versed in old school jazz crooning\, folk music and blues.
URL:https://livemusichalifax.ca/event/silvio-pupo-patrick-simms/
LOCATION:The Roastory\, 12 Ella Lane\, Bedford\, B4B2J6
ATTACH;FMTTYPE=image/png:https://livemusichalifax.ca/wp-content/uploads/2025/10/silvio-pupo-pat-simms-e1760399172711.png
END:VEVENT
BEGIN:VEVENT
DTSTART;TZID=America/Halifax:20251012T110000
DTEND;TZID=America/Halifax:20251012T133000
DTSTAMP:20260419T194155
CREATED:20250922T175901Z
LAST-MODIFIED:20251103T180733Z
UID:10002200-1760266800-1760275800@livemusichalifax.ca
SUMMARY:Paul St. Amand & Kenneth Pasher
DESCRIPTION:Singer & trumpeter Paul St-Amand teams up with guitarist Kenneth Pasher for a midday jazz set at The Roastory: where every cup has a rhythm. Bedford’s coolest new cafe is rooted in two timeless crafts: the art of specialty coffee and the soul of jazz and blues.
URL:https://livemusichalifax.ca/event/paul-st-amand-kenneth-pasher/2025-10-12/
LOCATION:The Roastory\, 12 Ella Lane\, Bedford\, B4B2J6
ATTACH;FMTTYPE=image/png:https://livemusichalifax.ca/wp-content/uploads/2025/08/Paul-St.-Amand-Kenneth-Pasher.jpg-e1756089928424.png
END:VEVENT
BEGIN:VEVENT
DTSTART;TZID=America/Halifax:20250831T110000
DTEND;TZID=America/Halifax:20250831T130000
DTSTAMP:20260419T194155
CREATED:20251013T214557Z
LAST-MODIFIED:20251013T214557Z
UID:10001870-1756638000-1756645200@livemusichalifax.ca
SUMMARY:Paul St-Amand & Kenneth Pasher
DESCRIPTION:Singer & trumpeter Paul St-Amand teams up with guitarist Kenneth Pasher for a midday jazz set at The Roastory: where every cup has a rhythm. Bedford’s coolest new cafe is rooted in two timeless crafts: the art of specialty coffee and the soul of jazz and blues.
URL:https://livemusichalifax.ca/event/st-amand-pasher-at-the-roastory/
LOCATION:The Roastory\, 12 Ella Lane\, Bedford\, B4B2J6
ATTACH;FMTTYPE=image/png:https://livemusichalifax.ca/wp-content/uploads/2025/08/Paul-St.-Amand-Kenneth-Pasher.jpg-e1756089928424.png
END:VEVENT
END:VCALENDAR