BEGIN:VCALENDAR
VERSION:2.0
PRODID:-//Live Music Halifax - ECPv6.15.20//NONSGML v1.0//EN
CALSCALE:GREGORIAN
METHOD:PUBLISH
X-ORIGINAL-URL:https://livemusichalifax.ca
X-WR-CALDESC:Events for Live Music Halifax
REFRESH-INTERVAL;VALUE=DURATION:PT1H
X-Robots-Tag:noindex
X-PUBLISHED-TTL:PT1H
BEGIN:VTIMEZONE
TZID:America/Halifax
BEGIN:DAYLIGHT
TZOFFSETFROM:-0400
TZOFFSETTO:-0300
TZNAME:ADT
DTSTART:20250309T060000
END:DAYLIGHT
BEGIN:STANDARD
TZOFFSETFROM:-0300
TZOFFSETTO:-0400
TZNAME:AST
DTSTART:20251102T050000
END:STANDARD
BEGIN:DAYLIGHT
TZOFFSETFROM:-0400
TZOFFSETTO:-0300
TZNAME:ADT
DTSTART:20260308T060000
END:DAYLIGHT
BEGIN:STANDARD
TZOFFSETFROM:-0300
TZOFFSETTO:-0400
TZNAME:AST
DTSTART:20261101T050000
END:STANDARD
BEGIN:DAYLIGHT
TZOFFSETFROM:-0400
TZOFFSETTO:-0300
TZNAME:ADT
DTSTART:20270314T060000
END:DAYLIGHT
BEGIN:STANDARD
TZOFFSETFROM:-0300
TZOFFSETTO:-0400
TZNAME:AST
DTSTART:20271107T050000
END:STANDARD
END:VTIMEZONE
BEGIN:VEVENT
DTSTART;TZID=America/Halifax:20260419T200000
DTEND;TZID=America/Halifax:20260419T220000
DTSTAMP:20260419T211623
CREATED:20260403T134254Z
LAST-MODIFIED:20260403T134653Z
UID:10004137-1776628800-1776636000@livemusichalifax.ca
SUMMARY:Sunday Open Mic
DESCRIPTION:Local jazz musician Bethany Fulde hosts a come-one\, come-all open mic at the Local every Sunday.
URL:https://livemusichalifax.ca/event/sunday-open-mic/2026-04-19/
LOCATION:The Local\, 2037 Gottingen St\, Halifax
ATTACH;FMTTYPE=image/png:https://livemusichalifax.ca/wp-content/uploads/2025/11/IMG_4717-scaled-e1762136964939.png
END:VEVENT
BEGIN:VEVENT
DTSTART;TZID=America/Halifax:20260422T193000
DTEND;TZID=America/Halifax:20260422T230000
DTSTAMP:20260419T211623
CREATED:20250706T175019Z
LAST-MODIFIED:20250709T025405Z
UID:10001443-1776886200-1776898800@livemusichalifax.ca
SUMMARY:Jazz Night @ The Local
DESCRIPTION:Jazz night with Silvio Pupo\, keys\, Ronald Hynes\, bass and Damien Moynihan\, percussion.
URL:https://livemusichalifax.ca/event/jazz-night/2026-04-22/
LOCATION:The Local\, 2037 Gottingen St\, Halifax
ATTACH;FMTTYPE=image/jpeg:https://livemusichalifax.ca/wp-content/uploads/2025/07/the-local-e1751825022755.jpg
END:VEVENT
BEGIN:VEVENT
DTSTART;TZID=America/Halifax:20260426T200000
DTEND;TZID=America/Halifax:20260426T220000
DTSTAMP:20260419T211623
CREATED:20260403T134254Z
LAST-MODIFIED:20260403T134653Z
UID:10004138-1777233600-1777240800@livemusichalifax.ca
SUMMARY:Sunday Open Mic
DESCRIPTION:Local jazz musician Bethany Fulde hosts a come-one\, come-all open mic at the Local every Sunday.
URL:https://livemusichalifax.ca/event/sunday-open-mic/2026-04-26/
LOCATION:The Local\, 2037 Gottingen St\, Halifax
ATTACH;FMTTYPE=image/png:https://livemusichalifax.ca/wp-content/uploads/2025/11/IMG_4717-scaled-e1762136964939.png
END:VEVENT
BEGIN:VEVENT
DTSTART;TZID=America/Halifax:20260429T193000
DTEND;TZID=America/Halifax:20260429T230000
DTSTAMP:20260419T211623
CREATED:20250706T175019Z
LAST-MODIFIED:20250709T025405Z
UID:10001444-1777491000-1777503600@livemusichalifax.ca
SUMMARY:Jazz Night @ The Local
DESCRIPTION:Jazz night with Silvio Pupo\, keys\, Ronald Hynes\, bass and Damien Moynihan\, percussion.
URL:https://livemusichalifax.ca/event/jazz-night/2026-04-29/
LOCATION:The Local\, 2037 Gottingen St\, Halifax
ATTACH;FMTTYPE=image/jpeg:https://livemusichalifax.ca/wp-content/uploads/2025/07/the-local-e1751825022755.jpg
END:VEVENT
BEGIN:VEVENT
DTSTART;TZID=America/Halifax:20260503T200000
DTEND;TZID=America/Halifax:20260503T220000
DTSTAMP:20260419T211623
CREATED:20260403T134254Z
LAST-MODIFIED:20260403T134653Z
UID:10004139-1777838400-1777845600@livemusichalifax.ca
SUMMARY:Sunday Open Mic
DESCRIPTION:Local jazz musician Bethany Fulde hosts a come-one\, come-all open mic at the Local every Sunday.
URL:https://livemusichalifax.ca/event/sunday-open-mic/2026-05-03/
LOCATION:The Local\, 2037 Gottingen St\, Halifax
ATTACH;FMTTYPE=image/png:https://livemusichalifax.ca/wp-content/uploads/2025/11/IMG_4717-scaled-e1762136964939.png
END:VEVENT
BEGIN:VEVENT
DTSTART;TZID=America/Halifax:20260506T193000
DTEND;TZID=America/Halifax:20260506T230000
DTSTAMP:20260419T211623
CREATED:20250706T175019Z
LAST-MODIFIED:20250709T025405Z
UID:10001445-1778095800-1778108400@livemusichalifax.ca
SUMMARY:Jazz Night @ The Local
DESCRIPTION:Jazz night with Silvio Pupo\, keys\, Ronald Hynes\, bass and Damien Moynihan\, percussion.
URL:https://livemusichalifax.ca/event/jazz-night/2026-05-06/
LOCATION:The Local\, 2037 Gottingen St\, Halifax
ATTACH;FMTTYPE=image/jpeg:https://livemusichalifax.ca/wp-content/uploads/2025/07/the-local-e1751825022755.jpg
END:VEVENT
BEGIN:VEVENT
DTSTART;TZID=America/Halifax:20260510T200000
DTEND;TZID=America/Halifax:20260510T220000
DTSTAMP:20260419T211623
CREATED:20260403T134254Z
LAST-MODIFIED:20260403T134653Z
UID:10004140-1778443200-1778450400@livemusichalifax.ca
SUMMARY:Sunday Open Mic
DESCRIPTION:Local jazz musician Bethany Fulde hosts a come-one\, come-all open mic at the Local every Sunday.
URL:https://livemusichalifax.ca/event/sunday-open-mic/2026-05-10/
LOCATION:The Local\, 2037 Gottingen St\, Halifax
ATTACH;FMTTYPE=image/png:https://livemusichalifax.ca/wp-content/uploads/2025/11/IMG_4717-scaled-e1762136964939.png
END:VEVENT
BEGIN:VEVENT
DTSTART;TZID=America/Halifax:20260513T193000
DTEND;TZID=America/Halifax:20260513T230000
DTSTAMP:20260419T211623
CREATED:20250706T175019Z
LAST-MODIFIED:20250709T025405Z
UID:10001446-1778700600-1778713200@livemusichalifax.ca
SUMMARY:Jazz Night @ The Local
DESCRIPTION:Jazz night with Silvio Pupo\, keys\, Ronald Hynes\, bass and Damien Moynihan\, percussion.
URL:https://livemusichalifax.ca/event/jazz-night/2026-05-13/
LOCATION:The Local\, 2037 Gottingen St\, Halifax
ATTACH;FMTTYPE=image/jpeg:https://livemusichalifax.ca/wp-content/uploads/2025/07/the-local-e1751825022755.jpg
END:VEVENT
BEGIN:VEVENT
DTSTART;TZID=America/Halifax:20260517T200000
DTEND;TZID=America/Halifax:20260517T220000
DTSTAMP:20260419T211623
CREATED:20260403T134254Z
LAST-MODIFIED:20260403T134653Z
UID:10004141-1779048000-1779055200@livemusichalifax.ca
SUMMARY:Sunday Open Mic
DESCRIPTION:Local jazz musician Bethany Fulde hosts a come-one\, come-all open mic at the Local every Sunday.
URL:https://livemusichalifax.ca/event/sunday-open-mic/2026-05-17/
LOCATION:The Local\, 2037 Gottingen St\, Halifax
ATTACH;FMTTYPE=image/png:https://livemusichalifax.ca/wp-content/uploads/2025/11/IMG_4717-scaled-e1762136964939.png
END:VEVENT
BEGIN:VEVENT
DTSTART;TZID=America/Halifax:20260520T193000
DTEND;TZID=America/Halifax:20260520T230000
DTSTAMP:20260419T211623
CREATED:20250706T175019Z
LAST-MODIFIED:20250709T025405Z
UID:10001447-1779305400-1779318000@livemusichalifax.ca
SUMMARY:Jazz Night @ The Local
DESCRIPTION:Jazz night with Silvio Pupo\, keys\, Ronald Hynes\, bass and Damien Moynihan\, percussion.
URL:https://livemusichalifax.ca/event/jazz-night/2026-05-20/
LOCATION:The Local\, 2037 Gottingen St\, Halifax
ATTACH;FMTTYPE=image/jpeg:https://livemusichalifax.ca/wp-content/uploads/2025/07/the-local-e1751825022755.jpg
END:VEVENT
BEGIN:VEVENT
DTSTART;TZID=America/Halifax:20260524T200000
DTEND;TZID=America/Halifax:20260524T220000
DTSTAMP:20260419T211623
CREATED:20260403T134254Z
LAST-MODIFIED:20260403T134653Z
UID:10004142-1779652800-1779660000@livemusichalifax.ca
SUMMARY:Sunday Open Mic
DESCRIPTION:Local jazz musician Bethany Fulde hosts a come-one\, come-all open mic at the Local every Sunday.
URL:https://livemusichalifax.ca/event/sunday-open-mic/2026-05-24/
LOCATION:The Local\, 2037 Gottingen St\, Halifax
ATTACH;FMTTYPE=image/png:https://livemusichalifax.ca/wp-content/uploads/2025/11/IMG_4717-scaled-e1762136964939.png
END:VEVENT
BEGIN:VEVENT
DTSTART;TZID=America/Halifax:20260527T193000
DTEND;TZID=America/Halifax:20260527T230000
DTSTAMP:20260419T211623
CREATED:20250706T175019Z
LAST-MODIFIED:20250709T025405Z
UID:10001448-1779910200-1779922800@livemusichalifax.ca
SUMMARY:Jazz Night @ The Local
DESCRIPTION:Jazz night with Silvio Pupo\, keys\, Ronald Hynes\, bass and Damien Moynihan\, percussion.
URL:https://livemusichalifax.ca/event/jazz-night/2026-05-27/
LOCATION:The Local\, 2037 Gottingen St\, Halifax
ATTACH;FMTTYPE=image/jpeg:https://livemusichalifax.ca/wp-content/uploads/2025/07/the-local-e1751825022755.jpg
END:VEVENT
BEGIN:VEVENT
DTSTART;TZID=America/Halifax:20260531T200000
DTEND;TZID=America/Halifax:20260531T220000
DTSTAMP:20260419T211623
CREATED:20260403T134254Z
LAST-MODIFIED:20260403T134653Z
UID:10004143-1780257600-1780264800@livemusichalifax.ca
SUMMARY:Sunday Open Mic
DESCRIPTION:Local jazz musician Bethany Fulde hosts a come-one\, come-all open mic at the Local every Sunday.
URL:https://livemusichalifax.ca/event/sunday-open-mic/2026-05-31/
LOCATION:The Local\, 2037 Gottingen St\, Halifax
ATTACH;FMTTYPE=image/png:https://livemusichalifax.ca/wp-content/uploads/2025/11/IMG_4717-scaled-e1762136964939.png
END:VEVENT
BEGIN:VEVENT
DTSTART;TZID=America/Halifax:20260603T193000
DTEND;TZID=America/Halifax:20260603T230000
DTSTAMP:20260419T211623
CREATED:20250706T175019Z
LAST-MODIFIED:20250709T025405Z
UID:10001449-1780515000-1780527600@livemusichalifax.ca
SUMMARY:Jazz Night @ The Local
DESCRIPTION:Jazz night with Silvio Pupo\, keys\, Ronald Hynes\, bass and Damien Moynihan\, percussion.
URL:https://livemusichalifax.ca/event/jazz-night/2026-06-03/
LOCATION:The Local\, 2037 Gottingen St\, Halifax
ATTACH;FMTTYPE=image/jpeg:https://livemusichalifax.ca/wp-content/uploads/2025/07/the-local-e1751825022755.jpg
END:VEVENT
BEGIN:VEVENT
DTSTART;TZID=America/Halifax:20260607T200000
DTEND;TZID=America/Halifax:20260607T220000
DTSTAMP:20260419T211623
CREATED:20260403T134254Z
LAST-MODIFIED:20260403T134653Z
UID:10004144-1780862400-1780869600@livemusichalifax.ca
SUMMARY:Sunday Open Mic
DESCRIPTION:Local jazz musician Bethany Fulde hosts a come-one\, come-all open mic at the Local every Sunday.
URL:https://livemusichalifax.ca/event/sunday-open-mic/2026-06-07/
LOCATION:The Local\, 2037 Gottingen St\, Halifax
ATTACH;FMTTYPE=image/png:https://livemusichalifax.ca/wp-content/uploads/2025/11/IMG_4717-scaled-e1762136964939.png
END:VEVENT
BEGIN:VEVENT
DTSTART;TZID=America/Halifax:20260610T193000
DTEND;TZID=America/Halifax:20260610T230000
DTSTAMP:20260419T211623
CREATED:20250706T175019Z
LAST-MODIFIED:20250709T025405Z
UID:10001450-1781119800-1781132400@livemusichalifax.ca
SUMMARY:Jazz Night @ The Local
DESCRIPTION:Jazz night with Silvio Pupo\, keys\, Ronald Hynes\, bass and Damien Moynihan\, percussion.
URL:https://livemusichalifax.ca/event/jazz-night/2026-06-10/
LOCATION:The Local\, 2037 Gottingen St\, Halifax
ATTACH;FMTTYPE=image/jpeg:https://livemusichalifax.ca/wp-content/uploads/2025/07/the-local-e1751825022755.jpg
END:VEVENT
BEGIN:VEVENT
DTSTART;TZID=America/Halifax:20260614T200000
DTEND;TZID=America/Halifax:20260614T220000
DTSTAMP:20260419T211623
CREATED:20260403T134254Z
LAST-MODIFIED:20260403T134653Z
UID:10004145-1781467200-1781474400@livemusichalifax.ca
SUMMARY:Sunday Open Mic
DESCRIPTION:Local jazz musician Bethany Fulde hosts a come-one\, come-all open mic at the Local every Sunday.
URL:https://livemusichalifax.ca/event/sunday-open-mic/2026-06-14/
LOCATION:The Local\, 2037 Gottingen St\, Halifax
ATTACH;FMTTYPE=image/png:https://livemusichalifax.ca/wp-content/uploads/2025/11/IMG_4717-scaled-e1762136964939.png
END:VEVENT
BEGIN:VEVENT
DTSTART;TZID=America/Halifax:20260617T193000
DTEND;TZID=America/Halifax:20260617T230000
DTSTAMP:20260419T211623
CREATED:20250706T175019Z
LAST-MODIFIED:20250709T025405Z
UID:10001451-1781724600-1781737200@livemusichalifax.ca
SUMMARY:Jazz Night @ The Local
DESCRIPTION:Jazz night with Silvio Pupo\, keys\, Ronald Hynes\, bass and Damien Moynihan\, percussion.
URL:https://livemusichalifax.ca/event/jazz-night/2026-06-17/
LOCATION:The Local\, 2037 Gottingen St\, Halifax
ATTACH;FMTTYPE=image/jpeg:https://livemusichalifax.ca/wp-content/uploads/2025/07/the-local-e1751825022755.jpg
END:VEVENT
BEGIN:VEVENT
DTSTART;TZID=America/Halifax:20260621T200000
DTEND;TZID=America/Halifax:20260621T220000
DTSTAMP:20260419T211623
CREATED:20260403T134254Z
LAST-MODIFIED:20260403T134653Z
UID:10004146-1782072000-1782079200@livemusichalifax.ca
SUMMARY:Sunday Open Mic
DESCRIPTION:Local jazz musician Bethany Fulde hosts a come-one\, come-all open mic at the Local every Sunday.
URL:https://livemusichalifax.ca/event/sunday-open-mic/2026-06-21/
LOCATION:The Local\, 2037 Gottingen St\, Halifax
ATTACH;FMTTYPE=image/png:https://livemusichalifax.ca/wp-content/uploads/2025/11/IMG_4717-scaled-e1762136964939.png
END:VEVENT
BEGIN:VEVENT
DTSTART;TZID=America/Halifax:20260624T193000
DTEND;TZID=America/Halifax:20260624T230000
DTSTAMP:20260419T211623
CREATED:20250706T175019Z
LAST-MODIFIED:20250709T025405Z
UID:10001452-1782329400-1782342000@livemusichalifax.ca
SUMMARY:Jazz Night @ The Local
DESCRIPTION:Jazz night with Silvio Pupo\, keys\, Ronald Hynes\, bass and Damien Moynihan\, percussion.
URL:https://livemusichalifax.ca/event/jazz-night/2026-06-24/
LOCATION:The Local\, 2037 Gottingen St\, Halifax
ATTACH;FMTTYPE=image/jpeg:https://livemusichalifax.ca/wp-content/uploads/2025/07/the-local-e1751825022755.jpg
END:VEVENT
BEGIN:VEVENT
DTSTART;TZID=America/Halifax:20260628T200000
DTEND;TZID=America/Halifax:20260628T220000
DTSTAMP:20260419T211623
CREATED:20260403T134254Z
LAST-MODIFIED:20260403T134653Z
UID:10004147-1782676800-1782684000@livemusichalifax.ca
SUMMARY:Sunday Open Mic
DESCRIPTION:Local jazz musician Bethany Fulde hosts a come-one\, come-all open mic at the Local every Sunday.
URL:https://livemusichalifax.ca/event/sunday-open-mic/2026-06-28/
LOCATION:The Local\, 2037 Gottingen St\, Halifax
ATTACH;FMTTYPE=image/png:https://livemusichalifax.ca/wp-content/uploads/2025/11/IMG_4717-scaled-e1762136964939.png
END:VEVENT
BEGIN:VEVENT
DTSTART;TZID=America/Halifax:20260701T193000
DTEND;TZID=America/Halifax:20260701T230000
DTSTAMP:20260419T211623
CREATED:20250706T175019Z
LAST-MODIFIED:20250709T025405Z
UID:10001453-1782934200-1782946800@livemusichalifax.ca
SUMMARY:Jazz Night @ The Local
DESCRIPTION:Jazz night with Silvio Pupo\, keys\, Ronald Hynes\, bass and Damien Moynihan\, percussion.
URL:https://livemusichalifax.ca/event/jazz-night/2026-07-01/
LOCATION:The Local\, 2037 Gottingen St\, Halifax
ATTACH;FMTTYPE=image/jpeg:https://livemusichalifax.ca/wp-content/uploads/2025/07/the-local-e1751825022755.jpg
END:VEVENT
BEGIN:VEVENT
DTSTART;TZID=America/Halifax:20260708T193000
DTEND;TZID=America/Halifax:20260708T230000
DTSTAMP:20260419T211623
CREATED:20250706T175019Z
LAST-MODIFIED:20250709T025405Z
UID:10001454-1783539000-1783551600@livemusichalifax.ca
SUMMARY:Jazz Night @ The Local
DESCRIPTION:Jazz night with Silvio Pupo\, keys\, Ronald Hynes\, bass and Damien Moynihan\, percussion.
URL:https://livemusichalifax.ca/event/jazz-night/2026-07-08/
LOCATION:The Local\, 2037 Gottingen St\, Halifax
ATTACH;FMTTYPE=image/jpeg:https://livemusichalifax.ca/wp-content/uploads/2025/07/the-local-e1751825022755.jpg
END:VEVENT
BEGIN:VEVENT
DTSTART;TZID=America/Halifax:20260715T193000
DTEND;TZID=America/Halifax:20260715T230000
DTSTAMP:20260419T211623
CREATED:20250706T175019Z
LAST-MODIFIED:20250709T025405Z
UID:10001455-1784143800-1784156400@livemusichalifax.ca
SUMMARY:Jazz Night @ The Local
DESCRIPTION:Jazz night with Silvio Pupo\, keys\, Ronald Hynes\, bass and Damien Moynihan\, percussion.
URL:https://livemusichalifax.ca/event/jazz-night/2026-07-15/
LOCATION:The Local\, 2037 Gottingen St\, Halifax
ATTACH;FMTTYPE=image/jpeg:https://livemusichalifax.ca/wp-content/uploads/2025/07/the-local-e1751825022755.jpg
END:VEVENT
BEGIN:VEVENT
DTSTART;TZID=America/Halifax:20260722T193000
DTEND;TZID=America/Halifax:20260722T230000
DTSTAMP:20260419T211623
CREATED:20250706T175019Z
LAST-MODIFIED:20250709T025405Z
UID:10001456-1784748600-1784761200@livemusichalifax.ca
SUMMARY:Jazz Night @ The Local
DESCRIPTION:Jazz night with Silvio Pupo\, keys\, Ronald Hynes\, bass and Damien Moynihan\, percussion.
URL:https://livemusichalifax.ca/event/jazz-night/2026-07-22/
LOCATION:The Local\, 2037 Gottingen St\, Halifax
ATTACH;FMTTYPE=image/jpeg:https://livemusichalifax.ca/wp-content/uploads/2025/07/the-local-e1751825022755.jpg
END:VEVENT
BEGIN:VEVENT
DTSTART;TZID=America/Halifax:20260729T193000
DTEND;TZID=America/Halifax:20260729T230000
DTSTAMP:20260419T211623
CREATED:20250706T175019Z
LAST-MODIFIED:20250709T025405Z
UID:10001457-1785353400-1785366000@livemusichalifax.ca
SUMMARY:Jazz Night @ The Local
DESCRIPTION:Jazz night with Silvio Pupo\, keys\, Ronald Hynes\, bass and Damien Moynihan\, percussion.
URL:https://livemusichalifax.ca/event/jazz-night/2026-07-29/
LOCATION:The Local\, 2037 Gottingen St\, Halifax
ATTACH;FMTTYPE=image/jpeg:https://livemusichalifax.ca/wp-content/uploads/2025/07/the-local-e1751825022755.jpg
END:VEVENT
BEGIN:VEVENT
DTSTART;TZID=America/Halifax:20260805T193000
DTEND;TZID=America/Halifax:20260805T230000
DTSTAMP:20260419T211623
CREATED:20250706T175019Z
LAST-MODIFIED:20250709T025405Z
UID:10001458-1785958200-1785970800@livemusichalifax.ca
SUMMARY:Jazz Night @ The Local
DESCRIPTION:Jazz night with Silvio Pupo\, keys\, Ronald Hynes\, bass and Damien Moynihan\, percussion.
URL:https://livemusichalifax.ca/event/jazz-night/2026-08-05/
LOCATION:The Local\, 2037 Gottingen St\, Halifax
ATTACH;FMTTYPE=image/jpeg:https://livemusichalifax.ca/wp-content/uploads/2025/07/the-local-e1751825022755.jpg
END:VEVENT
BEGIN:VEVENT
DTSTART;TZID=America/Halifax:20260812T193000
DTEND;TZID=America/Halifax:20260812T230000
DTSTAMP:20260419T211623
CREATED:20250706T175019Z
LAST-MODIFIED:20250709T025405Z
UID:10001459-1786563000-1786575600@livemusichalifax.ca
SUMMARY:Jazz Night @ The Local
DESCRIPTION:Jazz night with Silvio Pupo\, keys\, Ronald Hynes\, bass and Damien Moynihan\, percussion.
URL:https://livemusichalifax.ca/event/jazz-night/2026-08-12/
LOCATION:The Local\, 2037 Gottingen St\, Halifax
ATTACH;FMTTYPE=image/jpeg:https://livemusichalifax.ca/wp-content/uploads/2025/07/the-local-e1751825022755.jpg
END:VEVENT
BEGIN:VEVENT
DTSTART;TZID=America/Halifax:20260819T193000
DTEND;TZID=America/Halifax:20260819T230000
DTSTAMP:20260419T211623
CREATED:20250706T175019Z
LAST-MODIFIED:20250709T025405Z
UID:10001460-1787167800-1787180400@livemusichalifax.ca
SUMMARY:Jazz Night @ The Local
DESCRIPTION:Jazz night with Silvio Pupo\, keys\, Ronald Hynes\, bass and Damien Moynihan\, percussion.
URL:https://livemusichalifax.ca/event/jazz-night/2026-08-19/
LOCATION:The Local\, 2037 Gottingen St\, Halifax
ATTACH;FMTTYPE=image/jpeg:https://livemusichalifax.ca/wp-content/uploads/2025/07/the-local-e1751825022755.jpg
END:VEVENT
BEGIN:VEVENT
DTSTART;TZID=America/Halifax:20260826T193000
DTEND;TZID=America/Halifax:20260826T230000
DTSTAMP:20260419T211623
CREATED:20250706T175019Z
LAST-MODIFIED:20250709T025405Z
UID:10001461-1787772600-1787785200@livemusichalifax.ca
SUMMARY:Jazz Night @ The Local
DESCRIPTION:Jazz night with Silvio Pupo\, keys\, Ronald Hynes\, bass and Damien Moynihan\, percussion.
URL:https://livemusichalifax.ca/event/jazz-night/2026-08-26/
LOCATION:The Local\, 2037 Gottingen St\, Halifax
ATTACH;FMTTYPE=image/jpeg:https://livemusichalifax.ca/wp-content/uploads/2025/07/the-local-e1751825022755.jpg
END:VEVENT
END:VCALENDAR