BEGIN:VCALENDAR
VERSION:2.0
PRODID:-//Live Music Halifax - ECPv6.15.20//NONSGML v1.0//EN
CALSCALE:GREGORIAN
METHOD:PUBLISH
X-ORIGINAL-URL:https://livemusichalifax.ca
X-WR-CALDESC:Events for Live Music Halifax
REFRESH-INTERVAL;VALUE=DURATION:PT1H
X-Robots-Tag:noindex
X-PUBLISHED-TTL:PT1H
BEGIN:VTIMEZONE
TZID:America/Halifax
BEGIN:DAYLIGHT
TZOFFSETFROM:-0400
TZOFFSETTO:-0300
TZNAME:ADT
DTSTART:20240310T060000
END:DAYLIGHT
BEGIN:STANDARD
TZOFFSETFROM:-0300
TZOFFSETTO:-0400
TZNAME:AST
DTSTART:20241103T050000
END:STANDARD
BEGIN:DAYLIGHT
TZOFFSETFROM:-0400
TZOFFSETTO:-0300
TZNAME:ADT
DTSTART:20250309T060000
END:DAYLIGHT
BEGIN:STANDARD
TZOFFSETFROM:-0300
TZOFFSETTO:-0400
TZNAME:AST
DTSTART:20251102T050000
END:STANDARD
BEGIN:DAYLIGHT
TZOFFSETFROM:-0400
TZOFFSETTO:-0300
TZNAME:ADT
DTSTART:20260308T060000
END:DAYLIGHT
BEGIN:STANDARD
TZOFFSETFROM:-0300
TZOFFSETTO:-0400
TZNAME:AST
DTSTART:20261101T050000
END:STANDARD
END:VTIMEZONE
BEGIN:VEVENT
DTSTART;TZID=America/Halifax:20251112T190000
DTEND;TZID=America/Halifax:20251112T220000
DTSTAMP:20260420T175219
CREATED:20251109T165511Z
LAST-MODIFIED:20251109T193903Z
UID:10003085-1762974000-1762984800@livemusichalifax.ca
SUMMARY:The Johnsons
DESCRIPTION:Father and Son duo (Tom and Seamus) from Halifax specializing in Folk\, Roots and Original Music.
URL:https://livemusichalifax.ca/event/4618/
LOCATION:Staggers\, 26 Portland St.\, Dartmouth
ATTACH;FMTTYPE=image/jpeg:https://livemusichalifax.ca/wp-content/uploads/2025/11/the-johnsons-e1762707303345.jpg
END:VEVENT
BEGIN:VEVENT
DTSTART;TZID=America/Halifax:20250827T070000
DTEND;TZID=America/Halifax:20250827T220000
DTSTAMP:20260420T175219
CREATED:20251013T214643Z
LAST-MODIFIED:20251013T214643Z
UID:10001762-1756278000-1756332000@livemusichalifax.ca
SUMMARY:John McLaren
DESCRIPTION:Introducing John McLaren\, an award-winning violinist who has made a remarkable transition into the realm of guitar\, captivating audiences with his distinctive sound and innovative approach. Known for his unique style that incorporates percussive elements and altered tunings\, John’s guitar playing is a masterful blend of traditional and modern fingerpicking techniques\, beautifully showcased in his original compositions. \nWith a rich musical background that combines Cape Breton fiddle and classical violin\, John has amassed hundreds of thousands of views online and delivered captivating live performances across North America. His ever-expanding catalogue of recorded instrumental music firmly establishes him as a formidable force in the instrumental genre. \nJohn’s debut single\, “The Pathless Path\,” was featured on the globally renowned Candyrat Records YouTube channel\, setting a high standard for instrumental guitar music. His most recent album\, “John McLaren Part II\,” has received enthusiastic responses from audiences around the world\, even earning accolades from talk show hosts like those at Atlantic Axess\, who featured the full album on CFTA 107.9 FM. Esteemed two-time Grammy-nominated jazz guitarist Raul Midon has praised John’s guitar work as “Awesome!” and “Cool!”—a testament to his exceptional talent. \nWith the release of his new single\, “Turning Away from Sin\,” produced by the legendary guitarist Antoine Dufour\, on May 31st\, 2025\, and with a third album currently in the works\, John McLaren continues to push the boundaries of his artistry. Stay tuned to see what exciting new sounds and surprises this talented musician has in store—he’s an artist you won’t want to miss!
URL:https://livemusichalifax.ca/event/john-mclaren/
LOCATION:Staggers\, 26 Portland St.\, Dartmouth
ATTACH;FMTTYPE=image/jpeg:https://livemusichalifax.ca/wp-content/uploads/2025/08/john-mclaren.jpg
END:VEVENT
END:VCALENDAR