BEGIN:VCALENDAR
VERSION:2.0
PRODID:-//Live Music Halifax - ECPv6.15.20//NONSGML v1.0//EN
CALSCALE:GREGORIAN
METHOD:PUBLISH
X-ORIGINAL-URL:https://livemusichalifax.ca
X-WR-CALDESC:Events for Live Music Halifax
REFRESH-INTERVAL;VALUE=DURATION:PT1H
X-Robots-Tag:noindex
X-PUBLISHED-TTL:PT1H
BEGIN:VTIMEZONE
TZID:America/Halifax
BEGIN:DAYLIGHT
TZOFFSETFROM:-0400
TZOFFSETTO:-0300
TZNAME:ADT
DTSTART:20240310T060000
END:DAYLIGHT
BEGIN:STANDARD
TZOFFSETFROM:-0300
TZOFFSETTO:-0400
TZNAME:AST
DTSTART:20241103T050000
END:STANDARD
BEGIN:DAYLIGHT
TZOFFSETFROM:-0400
TZOFFSETTO:-0300
TZNAME:ADT
DTSTART:20250309T060000
END:DAYLIGHT
BEGIN:STANDARD
TZOFFSETFROM:-0300
TZOFFSETTO:-0400
TZNAME:AST
DTSTART:20251102T050000
END:STANDARD
BEGIN:DAYLIGHT
TZOFFSETFROM:-0400
TZOFFSETTO:-0300
TZNAME:ADT
DTSTART:20260308T060000
END:DAYLIGHT
BEGIN:STANDARD
TZOFFSETFROM:-0300
TZOFFSETTO:-0400
TZNAME:AST
DTSTART:20261101T050000
END:STANDARD
END:VTIMEZONE
BEGIN:VEVENT
DTSTART;TZID=America/Halifax:20250923T180000
DTEND;TZID=America/Halifax:20250923T233000
DTSTAMP:20260420T165819
CREATED:20250730T143239Z
LAST-MODIFIED:20250923T000711Z
UID:10002663-1758650400-1758670200@livemusichalifax.ca
SUMMARY:Sundown Salut
DESCRIPTION:Sundown Salut with Matt Mays\, the Sheepdogs & Kathleen Edwards\nA 20th anniversary outdoor celebration of Mays shows at the iconic Shore Club!\nGates: 5 PM | Show: 6 PM\n\nTickets go on sale Friday\, Jan. 31 at 10 AM. This event is rain or shine and restricted to ages 19+. Valid photo ID is required for entry.\n\nTickets are general admission\, standing room only. Limited Tier 1 pricing begins at $93.96 (including tax and service fee). If you require the accessible riser\, please contact info@sonicconcerts.com. Space is limited.\n\nPLEASE NOTE: There is NO PARKING along Shore Club Road. In the coming months\, ticket holders will receive early access to VIP\, parking\, and transportation add-ons\, with further information to be announced.\n\nTiered pricing\nTier 1 – $93.96 (very limited)Tier 2 – $99.08Tier 3 – $109.34\n\nThe Lobster Pot Package: The ultimate Shore Club experience! This all-in-one bundle includes 4 lobster suppers\, 4 deck tickets\, and 1 parking space\, with your choice of two seating times: 3:30 p.m. and 5:00 p.m.\nThe Mental Health Foundation of Nova Scotia will receive $1 from every ticket sold\, funding mental health and addictions programs that improve mental wellness in communities across the province.
URL:https://livemusichalifax.ca/event/sundown-salut-with-matt-mays-the-sheepdogs-kathleen-edwards/2025-09-23/
LOCATION:Shore Club\, 241 Shore Club Road\, Halifax
ATTACH;FMTTYPE=image/jpeg:https://livemusichalifax.ca/wp-content/uploads/2025/07/Matt-Mays-etc-e1753885833490.jpg
END:VEVENT
BEGIN:VEVENT
DTSTART;TZID=America/Halifax:20250922T080000
DTEND;TZID=America/Halifax:20250922T170000
DTSTAMP:20260420T165819
CREATED:20250730T143239Z
LAST-MODIFIED:20250923T000711Z
UID:10001679-1758528000-1758560400@livemusichalifax.ca
SUMMARY:Sundown Salut
DESCRIPTION:Sundown Salut with Matt Mays\, the Sheepdogs & Kathleen Edwards\nA 20th anniversary outdoor celebration of Mays shows at the iconic Shore Club!\nGates: 5 PM | Show: 6 PM\n\nTickets go on sale Friday\, Jan. 31 at 10 AM. This event is rain or shine and restricted to ages 19+. Valid photo ID is required for entry.\n\nTickets are general admission\, standing room only. Limited Tier 1 pricing begins at $93.96 (including tax and service fee). If you require the accessible riser\, please contact info@sonicconcerts.com. Space is limited.\n\nPLEASE NOTE: There is NO PARKING along Shore Club Road. In the coming months\, ticket holders will receive early access to VIP\, parking\, and transportation add-ons\, with further information to be announced.\n\nTiered pricing\nTier 1 – $93.96 (very limited)Tier 2 – $99.08Tier 3 – $109.34\n\nThe Lobster Pot Package: The ultimate Shore Club experience! This all-in-one bundle includes 4 lobster suppers\, 4 deck tickets\, and 1 parking space\, with your choice of two seating times: 3:30 p.m. and 5:00 p.m.\nThe Mental Health Foundation of Nova Scotia will receive $1 from every ticket sold\, funding mental health and addictions programs that improve mental wellness in communities across the province.
URL:https://livemusichalifax.ca/event/sundown-salut-with-matt-mays-the-sheepdogs-kathleen-edwards/2025-09-22/
LOCATION:Shore Club\, 241 Shore Club Road\, Halifax
ATTACH;FMTTYPE=image/jpeg:https://livemusichalifax.ca/wp-content/uploads/2025/07/Matt-Mays-etc-e1753885833490.jpg
END:VEVENT
BEGIN:VEVENT
DTSTART;TZID=America/Halifax:20250913T220000
DTEND;TZID=America/Halifax:20250914T010000
DTSTAMP:20260420T165819
CREATED:20250920T160944Z
LAST-MODIFIED:20250920T160944Z
UID:10002105-1757800800-1757811600@livemusichalifax.ca
SUMMARY:ASIA & NUGRUV
DESCRIPTION:The Last of the Great Dance Halls \nThe Shore Club Hubbards
URL:https://livemusichalifax.ca/event/asia-nugruv-2/
LOCATION:Shore Club\, 241 Shore Club Road\, Halifax
ATTACH;FMTTYPE=image/jpeg:https://livemusichalifax.ca/wp-content/uploads/2025/09/IMG_3166.jpeg
ORGANIZER;CN="Moi":MAILTO:Stu@wordpix.ca
END:VEVENT
BEGIN:VEVENT
DTSTART;TZID=America/Halifax:20250830T213000
DTEND;TZID=America/Halifax:20250830T233000
DTSTAMP:20260420T165819
CREATED:20251013T214643Z
LAST-MODIFIED:20251013T214643Z
UID:10001839-1756589400-1756596600@livemusichalifax.ca
SUMMARY:Mellotones
DESCRIPTION:For over two decades\, The Mellotones have been bringing their high-octane party to stages around the world. Lighting up dance floors wherever they go\, the R&B Funk band is an 8-piece powerhouse. \nTickets at door
URL:https://livemusichalifax.ca/event/mellotones/
LOCATION:Shore Club\, 241 Shore Club Road\, Halifax
ATTACH;FMTTYPE=image/avif:https://livemusichalifax.ca/wp-content/uploads/2025/08/mellotones.jpg.avif
END:VEVENT
BEGIN:VEVENT
DTSTART;TZID=America/Halifax:20250821T180000
DTEND;TZID=America/Halifax:20250821T220000
DTSTAMP:20260420T165819
CREATED:20251013T214659Z
LAST-MODIFIED:20251013T214659Z
UID:10001678-1755799200-1755813600@livemusichalifax.ca
SUMMARY:Sundown Salut
DESCRIPTION:Sundown Salut with Matt Mays\, the Sheepdogs & Kathleen Edwards\nA 20th anniversary outdoor celebration of Mays shows at the iconic Shore Club!\nGates: 5 PM | Show: 6 PM\n\nTickets go on sale Friday\, Jan. 31 at 10 AM. This event is rain or shine and restricted to ages 19+. Valid photo ID is required for entry.\n\nTickets are general admission\, standing room only. Limited Tier 1 pricing begins at $93.96 (including tax and service fee). If you require the accessible riser\, please contact info@sonicconcerts.com. Space is limited.\n\nPLEASE NOTE: There is NO PARKING along Shore Club Road. In the coming months\, ticket holders will receive early access to VIP\, parking\, and transportation add-ons\, with further information to be announced.\n\nTiered pricing\nTier 1 – $93.96 (very limited)Tier 2 – $99.08Tier 3 – $109.34\n\nThe Lobster Pot Package: The ultimate Shore Club experience! This all-in-one bundle includes 4 lobster suppers\, 4 deck tickets\, and 1 parking space\, with your choice of two seating times: 3:30 p.m. and 5:00 p.m.\nThe Mental Health Foundation of Nova Scotia will receive $1 from every ticket sold\, funding mental health and addictions programs that improve mental wellness in communities across the province.
URL:https://livemusichalifax.ca/event/sundown-salut/
LOCATION:Shore Club\, 241 Shore Club Road\, Halifax
ATTACH;FMTTYPE=image/jpeg:https://livemusichalifax.ca/wp-content/uploads/2025/07/Matt-Mays-etc-e1753885833490.jpg
END:VEVENT
END:VCALENDAR