BEGIN:VCALENDAR
VERSION:2.0
PRODID:-//Live Music Halifax - ECPv6.15.20//NONSGML v1.0//EN
CALSCALE:GREGORIAN
METHOD:PUBLISH
X-WR-CALNAME:Live Music Halifax
X-ORIGINAL-URL:https://livemusichalifax.ca
X-WR-CALDESC:Events for Live Music Halifax
REFRESH-INTERVAL;VALUE=DURATION:PT1H
X-Robots-Tag:noindex
X-PUBLISHED-TTL:PT1H
BEGIN:VTIMEZONE
TZID:America/Halifax
BEGIN:DAYLIGHT
TZOFFSETFROM:-0400
TZOFFSETTO:-0300
TZNAME:ADT
DTSTART:20250309T060000
END:DAYLIGHT
BEGIN:STANDARD
TZOFFSETFROM:-0300
TZOFFSETTO:-0400
TZNAME:AST
DTSTART:20251102T050000
END:STANDARD
BEGIN:DAYLIGHT
TZOFFSETFROM:-0400
TZOFFSETTO:-0300
TZNAME:ADT
DTSTART:20260308T060000
END:DAYLIGHT
BEGIN:STANDARD
TZOFFSETFROM:-0300
TZOFFSETTO:-0400
TZNAME:AST
DTSTART:20261101T050000
END:STANDARD
BEGIN:DAYLIGHT
TZOFFSETFROM:-0400
TZOFFSETTO:-0300
TZNAME:ADT
DTSTART:20270314T060000
END:DAYLIGHT
BEGIN:STANDARD
TZOFFSETFROM:-0300
TZOFFSETTO:-0400
TZNAME:AST
DTSTART:20271107T050000
END:STANDARD
END:VTIMEZONE
BEGIN:VEVENT
DTSTART;TZID=America/Halifax:20260419T170000
DTEND;TZID=America/Halifax:20260419T210000
DTSTAMP:20260419T174938
CREATED:20260409T224921Z
LAST-MODIFIED:20260409T225455Z
UID:10004493-1776618000-1776632400@livemusichalifax.ca
SUMMARY:Jazz @ the Lion's Head!
DESCRIPTION:Jazz is back at the Lion’s Head! \nMainstay jazz crew l-r Geordie Haley\, Jeff Goodspeed\, David Burton and Jamie Gatti. Players subject to change. Interesting guests each week.
URL:https://livemusichalifax.ca/event/jazz-the-lions-head-4/2026-04-19/
LOCATION:Lion’s Head Tavern\, 3085 Robie St\, Halifax
ATTACH;FMTTYPE=image/jpeg:https://livemusichalifax.ca/wp-content/uploads/2026/04/Jazz-at-Lions-Head-e1775775193714.jpeg
END:VEVENT
BEGIN:VEVENT
DTSTART;TZID=America/Halifax:20260426T170000
DTEND;TZID=America/Halifax:20260426T210000
DTSTAMP:20260419T174938
CREATED:20260409T224921Z
LAST-MODIFIED:20260409T225455Z
UID:10004494-1777222800-1777237200@livemusichalifax.ca
SUMMARY:Jazz @ the Lion's Head!
DESCRIPTION:Jazz is back at the Lion’s Head! \nMainstay jazz crew l-r Geordie Haley\, Jeff Goodspeed\, David Burton and Jamie Gatti. Players subject to change. Interesting guests each week.
URL:https://livemusichalifax.ca/event/jazz-the-lions-head-4/2026-04-26/
LOCATION:Lion’s Head Tavern\, 3085 Robie St\, Halifax
ATTACH;FMTTYPE=image/jpeg:https://livemusichalifax.ca/wp-content/uploads/2026/04/Jazz-at-Lions-Head-e1775775193714.jpeg
END:VEVENT
BEGIN:VEVENT
DTSTART;TZID=America/Halifax:20260503T170000
DTEND;TZID=America/Halifax:20260503T210000
DTSTAMP:20260419T174938
CREATED:20260409T224921Z
LAST-MODIFIED:20260409T225455Z
UID:10004495-1777827600-1777842000@livemusichalifax.ca
SUMMARY:Jazz @ the Lion's Head!
DESCRIPTION:Jazz is back at the Lion’s Head! \nMainstay jazz crew l-r Geordie Haley\, Jeff Goodspeed\, David Burton and Jamie Gatti. Players subject to change. Interesting guests each week.
URL:https://livemusichalifax.ca/event/jazz-the-lions-head-4/2026-05-03/
LOCATION:Lion’s Head Tavern\, 3085 Robie St\, Halifax
ATTACH;FMTTYPE=image/jpeg:https://livemusichalifax.ca/wp-content/uploads/2026/04/Jazz-at-Lions-Head-e1775775193714.jpeg
END:VEVENT
BEGIN:VEVENT
DTSTART;TZID=America/Halifax:20260510T170000
DTEND;TZID=America/Halifax:20260510T210000
DTSTAMP:20260419T174938
CREATED:20260409T224921Z
LAST-MODIFIED:20260409T225455Z
UID:10004496-1778432400-1778446800@livemusichalifax.ca
SUMMARY:Jazz @ the Lion's Head!
DESCRIPTION:Jazz is back at the Lion’s Head! \nMainstay jazz crew l-r Geordie Haley\, Jeff Goodspeed\, David Burton and Jamie Gatti. Players subject to change. Interesting guests each week.
URL:https://livemusichalifax.ca/event/jazz-the-lions-head-4/2026-05-10/
LOCATION:Lion’s Head Tavern\, 3085 Robie St\, Halifax
ATTACH;FMTTYPE=image/jpeg:https://livemusichalifax.ca/wp-content/uploads/2026/04/Jazz-at-Lions-Head-e1775775193714.jpeg
END:VEVENT
BEGIN:VEVENT
DTSTART;TZID=America/Halifax:20260517T170000
DTEND;TZID=America/Halifax:20260517T210000
DTSTAMP:20260419T174938
CREATED:20260409T224921Z
LAST-MODIFIED:20260409T225455Z
UID:10004497-1779037200-1779051600@livemusichalifax.ca
SUMMARY:Jazz @ the Lion's Head!
DESCRIPTION:Jazz is back at the Lion’s Head! \nMainstay jazz crew l-r Geordie Haley\, Jeff Goodspeed\, David Burton and Jamie Gatti. Players subject to change. Interesting guests each week.
URL:https://livemusichalifax.ca/event/jazz-the-lions-head-4/2026-05-17/
LOCATION:Lion’s Head Tavern\, 3085 Robie St\, Halifax
ATTACH;FMTTYPE=image/jpeg:https://livemusichalifax.ca/wp-content/uploads/2026/04/Jazz-at-Lions-Head-e1775775193714.jpeg
END:VEVENT
BEGIN:VEVENT
DTSTART;TZID=America/Halifax:20260524T170000
DTEND;TZID=America/Halifax:20260524T210000
DTSTAMP:20260419T174938
CREATED:20260409T224921Z
LAST-MODIFIED:20260409T225455Z
UID:10004498-1779642000-1779656400@livemusichalifax.ca
SUMMARY:Jazz @ the Lion's Head!
DESCRIPTION:Jazz is back at the Lion’s Head! \nMainstay jazz crew l-r Geordie Haley\, Jeff Goodspeed\, David Burton and Jamie Gatti. Players subject to change. Interesting guests each week.
URL:https://livemusichalifax.ca/event/jazz-the-lions-head-4/2026-05-24/
LOCATION:Lion’s Head Tavern\, 3085 Robie St\, Halifax
ATTACH;FMTTYPE=image/jpeg:https://livemusichalifax.ca/wp-content/uploads/2026/04/Jazz-at-Lions-Head-e1775775193714.jpeg
END:VEVENT
BEGIN:VEVENT
DTSTART;TZID=America/Halifax:20260531T170000
DTEND;TZID=America/Halifax:20260531T210000
DTSTAMP:20260419T174938
CREATED:20260409T224921Z
LAST-MODIFIED:20260409T225455Z
UID:10004499-1780246800-1780261200@livemusichalifax.ca
SUMMARY:Jazz @ the Lion's Head!
DESCRIPTION:Jazz is back at the Lion’s Head! \nMainstay jazz crew l-r Geordie Haley\, Jeff Goodspeed\, David Burton and Jamie Gatti. Players subject to change. Interesting guests each week.
URL:https://livemusichalifax.ca/event/jazz-the-lions-head-4/2026-05-31/
LOCATION:Lion’s Head Tavern\, 3085 Robie St\, Halifax
ATTACH;FMTTYPE=image/jpeg:https://livemusichalifax.ca/wp-content/uploads/2026/04/Jazz-at-Lions-Head-e1775775193714.jpeg
END:VEVENT
BEGIN:VEVENT
DTSTART;TZID=America/Halifax:20260607T170000
DTEND;TZID=America/Halifax:20260607T210000
DTSTAMP:20260419T174938
CREATED:20260409T224921Z
LAST-MODIFIED:20260409T225455Z
UID:10004500-1780851600-1780866000@livemusichalifax.ca
SUMMARY:Jazz @ the Lion's Head!
DESCRIPTION:Jazz is back at the Lion’s Head! \nMainstay jazz crew l-r Geordie Haley\, Jeff Goodspeed\, David Burton and Jamie Gatti. Players subject to change. Interesting guests each week.
URL:https://livemusichalifax.ca/event/jazz-the-lions-head-4/2026-06-07/
LOCATION:Lion’s Head Tavern\, 3085 Robie St\, Halifax
ATTACH;FMTTYPE=image/jpeg:https://livemusichalifax.ca/wp-content/uploads/2026/04/Jazz-at-Lions-Head-e1775775193714.jpeg
END:VEVENT
BEGIN:VEVENT
DTSTART;TZID=America/Halifax:20260614T170000
DTEND;TZID=America/Halifax:20260614T210000
DTSTAMP:20260419T174938
CREATED:20260409T224921Z
LAST-MODIFIED:20260409T225455Z
UID:10004501-1781456400-1781470800@livemusichalifax.ca
SUMMARY:Jazz @ the Lion's Head!
DESCRIPTION:Jazz is back at the Lion’s Head! \nMainstay jazz crew l-r Geordie Haley\, Jeff Goodspeed\, David Burton and Jamie Gatti. Players subject to change. Interesting guests each week.
URL:https://livemusichalifax.ca/event/jazz-the-lions-head-4/2026-06-14/
LOCATION:Lion’s Head Tavern\, 3085 Robie St\, Halifax
ATTACH;FMTTYPE=image/jpeg:https://livemusichalifax.ca/wp-content/uploads/2026/04/Jazz-at-Lions-Head-e1775775193714.jpeg
END:VEVENT
BEGIN:VEVENT
DTSTART;TZID=America/Halifax:20260621T170000
DTEND;TZID=America/Halifax:20260621T210000
DTSTAMP:20260419T174938
CREATED:20260409T224921Z
LAST-MODIFIED:20260409T225455Z
UID:10004502-1782061200-1782075600@livemusichalifax.ca
SUMMARY:Jazz @ the Lion's Head!
DESCRIPTION:Jazz is back at the Lion’s Head! \nMainstay jazz crew l-r Geordie Haley\, Jeff Goodspeed\, David Burton and Jamie Gatti. Players subject to change. Interesting guests each week.
URL:https://livemusichalifax.ca/event/jazz-the-lions-head-4/2026-06-21/
LOCATION:Lion’s Head Tavern\, 3085 Robie St\, Halifax
ATTACH;FMTTYPE=image/jpeg:https://livemusichalifax.ca/wp-content/uploads/2026/04/Jazz-at-Lions-Head-e1775775193714.jpeg
END:VEVENT
BEGIN:VEVENT
DTSTART;TZID=America/Halifax:20260628T170000
DTEND;TZID=America/Halifax:20260628T210000
DTSTAMP:20260419T174938
CREATED:20260409T224921Z
LAST-MODIFIED:20260409T225455Z
UID:10004503-1782666000-1782680400@livemusichalifax.ca
SUMMARY:Jazz @ the Lion's Head!
DESCRIPTION:Jazz is back at the Lion’s Head! \nMainstay jazz crew l-r Geordie Haley\, Jeff Goodspeed\, David Burton and Jamie Gatti. Players subject to change. Interesting guests each week.
URL:https://livemusichalifax.ca/event/jazz-the-lions-head-4/2026-06-28/
LOCATION:Lion’s Head Tavern\, 3085 Robie St\, Halifax
ATTACH;FMTTYPE=image/jpeg:https://livemusichalifax.ca/wp-content/uploads/2026/04/Jazz-at-Lions-Head-e1775775193714.jpeg
END:VEVENT
BEGIN:VEVENT
DTSTART;TZID=America/Halifax:20260705T170000
DTEND;TZID=America/Halifax:20260705T210000
DTSTAMP:20260419T174938
CREATED:20260409T224921Z
LAST-MODIFIED:20260409T225455Z
UID:10004504-1783270800-1783285200@livemusichalifax.ca
SUMMARY:Jazz @ the Lion's Head!
DESCRIPTION:Jazz is back at the Lion’s Head! \nMainstay jazz crew l-r Geordie Haley\, Jeff Goodspeed\, David Burton and Jamie Gatti. Players subject to change. Interesting guests each week.
URL:https://livemusichalifax.ca/event/jazz-the-lions-head-4/2026-07-05/
LOCATION:Lion’s Head Tavern\, 3085 Robie St\, Halifax
ATTACH;FMTTYPE=image/jpeg:https://livemusichalifax.ca/wp-content/uploads/2026/04/Jazz-at-Lions-Head-e1775775193714.jpeg
END:VEVENT
BEGIN:VEVENT
DTSTART;TZID=America/Halifax:20260712T170000
DTEND;TZID=America/Halifax:20260712T210000
DTSTAMP:20260419T174938
CREATED:20260409T224921Z
LAST-MODIFIED:20260409T225455Z
UID:10004505-1783875600-1783890000@livemusichalifax.ca
SUMMARY:Jazz @ the Lion's Head!
DESCRIPTION:Jazz is back at the Lion’s Head! \nMainstay jazz crew l-r Geordie Haley\, Jeff Goodspeed\, David Burton and Jamie Gatti. Players subject to change. Interesting guests each week.
URL:https://livemusichalifax.ca/event/jazz-the-lions-head-4/2026-07-12/
LOCATION:Lion’s Head Tavern\, 3085 Robie St\, Halifax
ATTACH;FMTTYPE=image/jpeg:https://livemusichalifax.ca/wp-content/uploads/2026/04/Jazz-at-Lions-Head-e1775775193714.jpeg
END:VEVENT
BEGIN:VEVENT
DTSTART;TZID=America/Halifax:20260719T170000
DTEND;TZID=America/Halifax:20260719T210000
DTSTAMP:20260419T174938
CREATED:20260409T224921Z
LAST-MODIFIED:20260409T225455Z
UID:10004506-1784480400-1784494800@livemusichalifax.ca
SUMMARY:Jazz @ the Lion's Head!
DESCRIPTION:Jazz is back at the Lion’s Head! \nMainstay jazz crew l-r Geordie Haley\, Jeff Goodspeed\, David Burton and Jamie Gatti. Players subject to change. Interesting guests each week.
URL:https://livemusichalifax.ca/event/jazz-the-lions-head-4/2026-07-19/
LOCATION:Lion’s Head Tavern\, 3085 Robie St\, Halifax
ATTACH;FMTTYPE=image/jpeg:https://livemusichalifax.ca/wp-content/uploads/2026/04/Jazz-at-Lions-Head-e1775775193714.jpeg
END:VEVENT
BEGIN:VEVENT
DTSTART;TZID=America/Halifax:20260726T170000
DTEND;TZID=America/Halifax:20260726T210000
DTSTAMP:20260419T174938
CREATED:20260409T224921Z
LAST-MODIFIED:20260409T225455Z
UID:10004507-1785085200-1785099600@livemusichalifax.ca
SUMMARY:Jazz @ the Lion's Head!
DESCRIPTION:Jazz is back at the Lion’s Head! \nMainstay jazz crew l-r Geordie Haley\, Jeff Goodspeed\, David Burton and Jamie Gatti. Players subject to change. Interesting guests each week.
URL:https://livemusichalifax.ca/event/jazz-the-lions-head-4/2026-07-26/
LOCATION:Lion’s Head Tavern\, 3085 Robie St\, Halifax
ATTACH;FMTTYPE=image/jpeg:https://livemusichalifax.ca/wp-content/uploads/2026/04/Jazz-at-Lions-Head-e1775775193714.jpeg
END:VEVENT
BEGIN:VEVENT
DTSTART;TZID=America/Halifax:20260802T170000
DTEND;TZID=America/Halifax:20260802T210000
DTSTAMP:20260419T174938
CREATED:20260409T224921Z
LAST-MODIFIED:20260409T225455Z
UID:10004508-1785690000-1785704400@livemusichalifax.ca
SUMMARY:Jazz @ the Lion's Head!
DESCRIPTION:Jazz is back at the Lion’s Head! \nMainstay jazz crew l-r Geordie Haley\, Jeff Goodspeed\, David Burton and Jamie Gatti. Players subject to change. Interesting guests each week.
URL:https://livemusichalifax.ca/event/jazz-the-lions-head-4/2026-08-02/
LOCATION:Lion’s Head Tavern\, 3085 Robie St\, Halifax
ATTACH;FMTTYPE=image/jpeg:https://livemusichalifax.ca/wp-content/uploads/2026/04/Jazz-at-Lions-Head-e1775775193714.jpeg
END:VEVENT
BEGIN:VEVENT
DTSTART;TZID=America/Halifax:20260809T170000
DTEND;TZID=America/Halifax:20260809T210000
DTSTAMP:20260419T174938
CREATED:20260409T224921Z
LAST-MODIFIED:20260409T225455Z
UID:10004509-1786294800-1786309200@livemusichalifax.ca
SUMMARY:Jazz @ the Lion's Head!
DESCRIPTION:Jazz is back at the Lion’s Head! \nMainstay jazz crew l-r Geordie Haley\, Jeff Goodspeed\, David Burton and Jamie Gatti. Players subject to change. Interesting guests each week.
URL:https://livemusichalifax.ca/event/jazz-the-lions-head-4/2026-08-09/
LOCATION:Lion’s Head Tavern\, 3085 Robie St\, Halifax
ATTACH;FMTTYPE=image/jpeg:https://livemusichalifax.ca/wp-content/uploads/2026/04/Jazz-at-Lions-Head-e1775775193714.jpeg
END:VEVENT
BEGIN:VEVENT
DTSTART;TZID=America/Halifax:20260816T170000
DTEND;TZID=America/Halifax:20260816T210000
DTSTAMP:20260419T174938
CREATED:20260409T224921Z
LAST-MODIFIED:20260409T225455Z
UID:10004510-1786899600-1786914000@livemusichalifax.ca
SUMMARY:Jazz @ the Lion's Head!
DESCRIPTION:Jazz is back at the Lion’s Head! \nMainstay jazz crew l-r Geordie Haley\, Jeff Goodspeed\, David Burton and Jamie Gatti. Players subject to change. Interesting guests each week.
URL:https://livemusichalifax.ca/event/jazz-the-lions-head-4/2026-08-16/
LOCATION:Lion’s Head Tavern\, 3085 Robie St\, Halifax
ATTACH;FMTTYPE=image/jpeg:https://livemusichalifax.ca/wp-content/uploads/2026/04/Jazz-at-Lions-Head-e1775775193714.jpeg
END:VEVENT
BEGIN:VEVENT
DTSTART;TZID=America/Halifax:20260823T170000
DTEND;TZID=America/Halifax:20260823T210000
DTSTAMP:20260419T174938
CREATED:20260409T224921Z
LAST-MODIFIED:20260409T225455Z
UID:10004511-1787504400-1787518800@livemusichalifax.ca
SUMMARY:Jazz @ the Lion's Head!
DESCRIPTION:Jazz is back at the Lion’s Head! \nMainstay jazz crew l-r Geordie Haley\, Jeff Goodspeed\, David Burton and Jamie Gatti. Players subject to change. Interesting guests each week.
URL:https://livemusichalifax.ca/event/jazz-the-lions-head-4/2026-08-23/
LOCATION:Lion’s Head Tavern\, 3085 Robie St\, Halifax
ATTACH;FMTTYPE=image/jpeg:https://livemusichalifax.ca/wp-content/uploads/2026/04/Jazz-at-Lions-Head-e1775775193714.jpeg
END:VEVENT
BEGIN:VEVENT
DTSTART;TZID=America/Halifax:20260830T170000
DTEND;TZID=America/Halifax:20260830T210000
DTSTAMP:20260419T174938
CREATED:20260409T224921Z
LAST-MODIFIED:20260409T225455Z
UID:10004512-1788109200-1788123600@livemusichalifax.ca
SUMMARY:Jazz @ the Lion's Head!
DESCRIPTION:Jazz is back at the Lion’s Head! \nMainstay jazz crew l-r Geordie Haley\, Jeff Goodspeed\, David Burton and Jamie Gatti. Players subject to change. Interesting guests each week.
URL:https://livemusichalifax.ca/event/jazz-the-lions-head-4/2026-08-30/
LOCATION:Lion’s Head Tavern\, 3085 Robie St\, Halifax
ATTACH;FMTTYPE=image/jpeg:https://livemusichalifax.ca/wp-content/uploads/2026/04/Jazz-at-Lions-Head-e1775775193714.jpeg
END:VEVENT
BEGIN:VEVENT
DTSTART;TZID=America/Halifax:20260906T170000
DTEND;TZID=America/Halifax:20260906T210000
DTSTAMP:20260419T174938
CREATED:20260409T224921Z
LAST-MODIFIED:20260409T225455Z
UID:10004513-1788714000-1788728400@livemusichalifax.ca
SUMMARY:Jazz @ the Lion's Head!
DESCRIPTION:Jazz is back at the Lion’s Head! \nMainstay jazz crew l-r Geordie Haley\, Jeff Goodspeed\, David Burton and Jamie Gatti. Players subject to change. Interesting guests each week.
URL:https://livemusichalifax.ca/event/jazz-the-lions-head-4/2026-09-06/
LOCATION:Lion’s Head Tavern\, 3085 Robie St\, Halifax
ATTACH;FMTTYPE=image/jpeg:https://livemusichalifax.ca/wp-content/uploads/2026/04/Jazz-at-Lions-Head-e1775775193714.jpeg
END:VEVENT
BEGIN:VEVENT
DTSTART;TZID=America/Halifax:20260913T170000
DTEND;TZID=America/Halifax:20260913T210000
DTSTAMP:20260419T174938
CREATED:20260409T224921Z
LAST-MODIFIED:20260409T225455Z
UID:10004514-1789318800-1789333200@livemusichalifax.ca
SUMMARY:Jazz @ the Lion's Head!
DESCRIPTION:Jazz is back at the Lion’s Head! \nMainstay jazz crew l-r Geordie Haley\, Jeff Goodspeed\, David Burton and Jamie Gatti. Players subject to change. Interesting guests each week.
URL:https://livemusichalifax.ca/event/jazz-the-lions-head-4/2026-09-13/
LOCATION:Lion’s Head Tavern\, 3085 Robie St\, Halifax
ATTACH;FMTTYPE=image/jpeg:https://livemusichalifax.ca/wp-content/uploads/2026/04/Jazz-at-Lions-Head-e1775775193714.jpeg
END:VEVENT
BEGIN:VEVENT
DTSTART;TZID=America/Halifax:20260920T170000
DTEND;TZID=America/Halifax:20260920T210000
DTSTAMP:20260419T174938
CREATED:20260409T224921Z
LAST-MODIFIED:20260409T225455Z
UID:10004515-1789923600-1789938000@livemusichalifax.ca
SUMMARY:Jazz @ the Lion's Head!
DESCRIPTION:Jazz is back at the Lion’s Head! \nMainstay jazz crew l-r Geordie Haley\, Jeff Goodspeed\, David Burton and Jamie Gatti. Players subject to change. Interesting guests each week.
URL:https://livemusichalifax.ca/event/jazz-the-lions-head-4/2026-09-20/
LOCATION:Lion’s Head Tavern\, 3085 Robie St\, Halifax
ATTACH;FMTTYPE=image/jpeg:https://livemusichalifax.ca/wp-content/uploads/2026/04/Jazz-at-Lions-Head-e1775775193714.jpeg
END:VEVENT
BEGIN:VEVENT
DTSTART;TZID=America/Halifax:20260927T170000
DTEND;TZID=America/Halifax:20260927T210000
DTSTAMP:20260419T174938
CREATED:20260409T224921Z
LAST-MODIFIED:20260409T225455Z
UID:10004516-1790528400-1790542800@livemusichalifax.ca
SUMMARY:Jazz @ the Lion's Head!
DESCRIPTION:Jazz is back at the Lion’s Head! \nMainstay jazz crew l-r Geordie Haley\, Jeff Goodspeed\, David Burton and Jamie Gatti. Players subject to change. Interesting guests each week.
URL:https://livemusichalifax.ca/event/jazz-the-lions-head-4/2026-09-27/
LOCATION:Lion’s Head Tavern\, 3085 Robie St\, Halifax
ATTACH;FMTTYPE=image/jpeg:https://livemusichalifax.ca/wp-content/uploads/2026/04/Jazz-at-Lions-Head-e1775775193714.jpeg
END:VEVENT
BEGIN:VEVENT
DTSTART;TZID=America/Halifax:20261004T170000
DTEND;TZID=America/Halifax:20261004T210000
DTSTAMP:20260419T174938
CREATED:20260409T224921Z
LAST-MODIFIED:20260409T225455Z
UID:10004517-1791133200-1791147600@livemusichalifax.ca
SUMMARY:Jazz @ the Lion's Head!
DESCRIPTION:Jazz is back at the Lion’s Head! \nMainstay jazz crew l-r Geordie Haley\, Jeff Goodspeed\, David Burton and Jamie Gatti. Players subject to change. Interesting guests each week.
URL:https://livemusichalifax.ca/event/jazz-the-lions-head-4/2026-10-04/
LOCATION:Lion’s Head Tavern\, 3085 Robie St\, Halifax
ATTACH;FMTTYPE=image/jpeg:https://livemusichalifax.ca/wp-content/uploads/2026/04/Jazz-at-Lions-Head-e1775775193714.jpeg
END:VEVENT
BEGIN:VEVENT
DTSTART;TZID=America/Halifax:20261011T170000
DTEND;TZID=America/Halifax:20261011T210000
DTSTAMP:20260419T174938
CREATED:20260409T224921Z
LAST-MODIFIED:20260409T225455Z
UID:10004518-1791738000-1791752400@livemusichalifax.ca
SUMMARY:Jazz @ the Lion's Head!
DESCRIPTION:Jazz is back at the Lion’s Head! \nMainstay jazz crew l-r Geordie Haley\, Jeff Goodspeed\, David Burton and Jamie Gatti. Players subject to change. Interesting guests each week.
URL:https://livemusichalifax.ca/event/jazz-the-lions-head-4/2026-10-11/
LOCATION:Lion’s Head Tavern\, 3085 Robie St\, Halifax
ATTACH;FMTTYPE=image/jpeg:https://livemusichalifax.ca/wp-content/uploads/2026/04/Jazz-at-Lions-Head-e1775775193714.jpeg
END:VEVENT
BEGIN:VEVENT
DTSTART;TZID=America/Halifax:20261018T170000
DTEND;TZID=America/Halifax:20261018T210000
DTSTAMP:20260419T174938
CREATED:20260409T224921Z
LAST-MODIFIED:20260409T225455Z
UID:10004519-1792342800-1792357200@livemusichalifax.ca
SUMMARY:Jazz @ the Lion's Head!
DESCRIPTION:Jazz is back at the Lion’s Head! \nMainstay jazz crew l-r Geordie Haley\, Jeff Goodspeed\, David Burton and Jamie Gatti. Players subject to change. Interesting guests each week.
URL:https://livemusichalifax.ca/event/jazz-the-lions-head-4/2026-10-18/
LOCATION:Lion’s Head Tavern\, 3085 Robie St\, Halifax
ATTACH;FMTTYPE=image/jpeg:https://livemusichalifax.ca/wp-content/uploads/2026/04/Jazz-at-Lions-Head-e1775775193714.jpeg
END:VEVENT
BEGIN:VEVENT
DTSTART;TZID=America/Halifax:20261025T170000
DTEND;TZID=America/Halifax:20261025T210000
DTSTAMP:20260419T174938
CREATED:20260409T224921Z
LAST-MODIFIED:20260409T225455Z
UID:10004520-1792947600-1792962000@livemusichalifax.ca
SUMMARY:Jazz @ the Lion's Head!
DESCRIPTION:Jazz is back at the Lion’s Head! \nMainstay jazz crew l-r Geordie Haley\, Jeff Goodspeed\, David Burton and Jamie Gatti. Players subject to change. Interesting guests each week.
URL:https://livemusichalifax.ca/event/jazz-the-lions-head-4/2026-10-25/
LOCATION:Lion’s Head Tavern\, 3085 Robie St\, Halifax
ATTACH;FMTTYPE=image/jpeg:https://livemusichalifax.ca/wp-content/uploads/2026/04/Jazz-at-Lions-Head-e1775775193714.jpeg
END:VEVENT
BEGIN:VEVENT
DTSTART;TZID=America/Halifax:20261101T170000
DTEND;TZID=America/Halifax:20261101T210000
DTSTAMP:20260419T174938
CREATED:20260409T224921Z
LAST-MODIFIED:20260409T225455Z
UID:10004521-1793552400-1793566800@livemusichalifax.ca
SUMMARY:Jazz @ the Lion's Head!
DESCRIPTION:Jazz is back at the Lion’s Head! \nMainstay jazz crew l-r Geordie Haley\, Jeff Goodspeed\, David Burton and Jamie Gatti. Players subject to change. Interesting guests each week.
URL:https://livemusichalifax.ca/event/jazz-the-lions-head-4/2026-11-01/
LOCATION:Lion’s Head Tavern\, 3085 Robie St\, Halifax
ATTACH;FMTTYPE=image/jpeg:https://livemusichalifax.ca/wp-content/uploads/2026/04/Jazz-at-Lions-Head-e1775775193714.jpeg
END:VEVENT
BEGIN:VEVENT
DTSTART;TZID=America/Halifax:20261108T170000
DTEND;TZID=America/Halifax:20261108T210000
DTSTAMP:20260419T174938
CREATED:20260409T224921Z
LAST-MODIFIED:20260409T225455Z
UID:10004522-1794157200-1794171600@livemusichalifax.ca
SUMMARY:Jazz @ the Lion's Head!
DESCRIPTION:Jazz is back at the Lion’s Head! \nMainstay jazz crew l-r Geordie Haley\, Jeff Goodspeed\, David Burton and Jamie Gatti. Players subject to change. Interesting guests each week.
URL:https://livemusichalifax.ca/event/jazz-the-lions-head-4/2026-11-08/
LOCATION:Lion’s Head Tavern\, 3085 Robie St\, Halifax
ATTACH;FMTTYPE=image/jpeg:https://livemusichalifax.ca/wp-content/uploads/2026/04/Jazz-at-Lions-Head-e1775775193714.jpeg
END:VEVENT
END:VCALENDAR