BEGIN:VCALENDAR
VERSION:2.0
PRODID:-//Live Music Halifax - ECPv6.15.20//NONSGML v1.0//EN
CALSCALE:GREGORIAN
METHOD:PUBLISH
X-WR-CALNAME:Live Music Halifax
X-ORIGINAL-URL:https://livemusichalifax.ca
X-WR-CALDESC:Events for Live Music Halifax
REFRESH-INTERVAL;VALUE=DURATION:PT1H
X-Robots-Tag:noindex
X-PUBLISHED-TTL:PT1H
BEGIN:VTIMEZONE
TZID:America/Halifax
BEGIN:DAYLIGHT
TZOFFSETFROM:-0400
TZOFFSETTO:-0300
TZNAME:ADT
DTSTART:20240310T060000
END:DAYLIGHT
BEGIN:STANDARD
TZOFFSETFROM:-0300
TZOFFSETTO:-0400
TZNAME:AST
DTSTART:20241103T050000
END:STANDARD
BEGIN:DAYLIGHT
TZOFFSETFROM:-0400
TZOFFSETTO:-0300
TZNAME:ADT
DTSTART:20250309T060000
END:DAYLIGHT
BEGIN:STANDARD
TZOFFSETFROM:-0300
TZOFFSETTO:-0400
TZNAME:AST
DTSTART:20251102T050000
END:STANDARD
BEGIN:DAYLIGHT
TZOFFSETFROM:-0400
TZOFFSETTO:-0300
TZNAME:ADT
DTSTART:20260308T060000
END:DAYLIGHT
BEGIN:STANDARD
TZOFFSETFROM:-0300
TZOFFSETTO:-0400
TZNAME:AST
DTSTART:20261101T050000
END:STANDARD
BEGIN:DAYLIGHT
TZOFFSETFROM:-0400
TZOFFSETTO:-0300
TZNAME:ADT
DTSTART:20270314T060000
END:DAYLIGHT
BEGIN:STANDARD
TZOFFSETFROM:-0300
TZOFFSETTO:-0400
TZNAME:AST
DTSTART:20271107T050000
END:STANDARD
END:VTIMEZONE
BEGIN:VEVENT
DTSTART;TZID=America/Halifax:20260412T140000
DTEND;TZID=America/Halifax:20260412T160000
DTSTAMP:20260420T165747
CREATED:20260409T155233Z
LAST-MODIFIED:20260409T155233Z
UID:10004489-1776002400-1776009600@livemusichalifax.ca
SUMMARY:Natalie Alcorn\, Richard White & Jennifer King
DESCRIPTION:Horn player and vocalist Natalie Alcorn joins jazz guitarist Richard White and pianist and series host Jennifer King for a program that brings classical repertoire into conversation with jazz standards and contemporary works. \nRobert Schumann’s “Adagio and Allegro\,” Op. 70 shows off the horn’s full range\, moving from spacious\, lyric writing into quicksilver passagework that is a conversation with the piano. Franz Strauss’s “Notturno\,” Op. 7 leans into a more intimate mood\, with long melodic arcs and a warm\, late-Romantic glow. Hoagy Carmichael’s “The Nearness of You” offers the kind of close\, unhurried phrasing that suits the mellow combination of voice and electric guitar. Bobby Troup’s “Route 66” brings a light\, forward-moving swing\, and Billie Eilish’s “My Future\,” heard here in a jazz arrangement\, shifts the song into a new frame. Fred Rogers’ “It’s You I Like” adds a moment of simple sincerity\, with the kind of direct message that lands differently when it’s sung in a room with other people. Presented in a sensory-friendly environment\, this concert offers a relaxed\, welcoming space to listen\, settle in\, and experience live music at your own pace. \nNatalie Alcorn is known for her versatility as both a horn player and vocalist\, with classical training from McGill University​\, she also holds a Masters of Music from the New England Conservatory​. She is a member of the Stadacona Band​\, has performed across Canada and internationally\, ​and can often be found playing in the horn section of Symphony Nova Scotia​. She has also​ performed with the Boston​ Philharmonic​\, Ottawa Symphony\, Newfoundland Symphony Orchestra\, Montreal’s Altsys Jazz Orchestra and the Montreal Symphony Orchestra.​ Richard White is a Canadian guitarist who works across jazz standards\, pop\, and original music\, with a background in theatre and vocal performance. Jennifer King is a CBC-featured pianist whose recording “O Mistress Moon: Canadian Edition” won Classical Album of the Year at the 2023 East Coast Music Awards\, and whose latest album “Souvenance” is nominated for two 2026 East Coast Music Awards. \n\n\nThe Sensory-Accessible Concerts series is made possible through the generous support of the Canada Council for the Arts\, the J&W Murphy Foundation\, the Mental Health Foundation of Nova Scotia\, the Harrison McCain Foundation\, the Craig Foundation\, the Unity for Autism Foundation\, the Cecilia Concerts Season Sponsor Nice Moves / Red Door Realty\, and our presenting partner the Halifax Public Libraries. We appreciate the gifts from the many individual donors who continue to support this important initiative.
URL:https://livemusichalifax.ca/event/natalie-alcorn-richard-white-jennifer-king/
LOCATION:Halifax Central Library\, 5440 Spring Garden Road\, Halifax
ATTACH;FMTTYPE=image/jpeg:https://livemusichalifax.ca/wp-content/uploads/2026/04/natalie-alcorn-e1775749937490.jpg
END:VEVENT
BEGIN:VEVENT
DTSTART;TZID=America/Halifax:20260411T140000
DTEND;TZID=America/Halifax:20260411T170000
DTSTAMP:20260420T165747
CREATED:20260404T123149Z
LAST-MODIFIED:20260404T123149Z
UID:10004399-1775916000-1775926800@livemusichalifax.ca
SUMMARY:A Salute to Spring
DESCRIPTION:Nova Scotia Highlanders Pipes & Drums \nEnjoy a lively afternoon of music as the 36 Canadian Brigade Group Band presents its annual spring concert\, A Salute to Spring. With special guests\, the Nova Scotia Highlanders Pipes and Drums\, this engaging program features a mix of familiar favourites and fresh selections inspired by the season. \n 
URL:https://livemusichalifax.ca/event/a-salute-to-spring/
LOCATION:Halifax Central Library\, 5440 Spring Garden Road\, Halifax
ATTACH;FMTTYPE=image/jpeg:https://livemusichalifax.ca/wp-content/uploads/2026/04/salute-to-spring-e1775305890522.jpg
END:VEVENT
BEGIN:VEVENT
DTSTART;TZID=America/Halifax:20260322T153000
DTEND;TZID=America/Halifax:20260322T170000
DTSTAMP:20260420T165747
CREATED:20251230T213557Z
LAST-MODIFIED:20260125T134744Z
UID:10003886-1774193400-1774198800@livemusichalifax.ca
SUMMARY:Symphony Nova Scotia
DESCRIPTION:Featuring \nDaniel Bartholomew-Poyser\, conductor\nHalifax Ukranian Children’s Choir\n\nJoin us in celebrating the courage\, strength\, and challenge that comes with arriving in a new place. We begin with a musical tribute to the Mi’kmaw people – recognizing that we are all newcomers to this land – and then we highlight what newcomers have brought to Nova Scotian shores\, including music from Acadian\, African\, Chinese\, Gaelic\, and many more cultures! \n\nOur family shows are designed to be participatory and informal. We welcome children of all ages\, and we encourage them to be active and involved in our orchestral performances. Vocalizations\, movements\, and taking breaks are all part of the fun! \nPlease note the update dates\, venues\, and times for these concerts.  \nNote: FREE registration is required for the Alderney Landing concert and will open in February 2026 at symphonynovascotia.ca. The Halifax Central Library concerts don’t require registration – just show up! In both venues\, seating is first-come\, first-served.
URL:https://livemusichalifax.ca/event/free-symphonies/2026-03-22/2/
LOCATION:Halifax Central Library\, 5440 Spring Garden Road\, Halifax
ATTACH;FMTTYPE=image/jpeg:https://livemusichalifax.ca/wp-content/uploads/2025/07/Symphony-Week-Cole-Harbour--e1761922681126.jpg
END:VEVENT
BEGIN:VEVENT
DTSTART;TZID=America/Halifax:20260322T140000
DTEND;TZID=America/Halifax:20260322T153000
DTSTAMP:20260420T165747
CREATED:20251230T213557Z
LAST-MODIFIED:20260125T134744Z
UID:10003885-1774188000-1774193400@livemusichalifax.ca
SUMMARY:Symphony Nova Scotia
DESCRIPTION:Featuring \nDaniel Bartholomew-Poyser\, conductor\nHalifax Ukranian Children’s Choir\n\nJoin us in celebrating the courage\, strength\, and challenge that comes with arriving in a new place. We begin with a musical tribute to the Mi’kmaw people – recognizing that we are all newcomers to this land – and then we highlight what newcomers have brought to Nova Scotian shores\, including music from Acadian\, African\, Chinese\, Gaelic\, and many more cultures! \n\nOur family shows are designed to be participatory and informal. We welcome children of all ages\, and we encourage them to be active and involved in our orchestral performances. Vocalizations\, movements\, and taking breaks are all part of the fun! \nPlease note the update dates\, venues\, and times for these concerts.  \nNote: FREE registration is required for the Alderney Landing concert and will open in February 2026 at symphonynovascotia.ca. The Halifax Central Library concerts don’t require registration – just show up! In both venues\, seating is first-come\, first-served.
URL:https://livemusichalifax.ca/event/free-symphonies/2026-03-22/1/
LOCATION:Halifax Central Library\, 5440 Spring Garden Road\, Halifax
ATTACH;FMTTYPE=image/jpeg:https://livemusichalifax.ca/wp-content/uploads/2025/07/Symphony-Week-Cole-Harbour--e1761922681126.jpg
END:VEVENT
BEGIN:VEVENT
DTSTART;TZID=America/Halifax:20260321T150000
DTEND;TZID=America/Halifax:20260321T170000
DTSTAMP:20260420T165747
CREATED:20251230T213557Z
LAST-MODIFIED:20260125T134744Z
UID:10003884-1774105200-1774112400@livemusichalifax.ca
SUMMARY:Symphony Nova Scotia
DESCRIPTION:Featuring \nDaniel Bartholomew-Poyser\, conductor\nHalifax Ukranian Children’s Choir\n\nJoin us in celebrating the courage\, strength\, and challenge that comes with arriving in a new place. We begin with a musical tribute to the Mi’kmaw people – recognizing that we are all newcomers to this land – and then we highlight what newcomers have brought to Nova Scotian shores\, including music from Acadian\, African\, Chinese\, Gaelic\, and many more cultures! \n\nOur family shows are designed to be participatory and informal. We welcome children of all ages\, and we encourage them to be active and involved in our orchestral performances. Vocalizations\, movements\, and taking breaks are all part of the fun! \nPlease note the update dates\, venues\, and times for these concerts.  \nNote: FREE registration is required for the Alderney Landing concert and will open in February 2026 at symphonynovascotia.ca. The Halifax Central Library concerts don’t require registration – just show up! In both venues\, seating is first-come\, first-served.
URL:https://livemusichalifax.ca/event/free-symphonies/2026-03-21/
LOCATION:Halifax Central Library\, 5440 Spring Garden Road\, Halifax
ATTACH;FMTTYPE=image/jpeg:https://livemusichalifax.ca/wp-content/uploads/2025/07/Symphony-Week-Cole-Harbour--e1761922681126.jpg
END:VEVENT
BEGIN:VEVENT
DTSTART;TZID=America/Halifax:20260308T140000
DTEND;TZID=America/Halifax:20260308T163000
DTSTAMP:20260420T165747
CREATED:20260224T141749Z
LAST-MODIFIED:20260228T144340Z
UID:10004045-1772978400-1772987400@livemusichalifax.ca
SUMMARY:Glass Winds Ensemble
DESCRIPTION:Motion\nGlass Winds presents Motion\, a concert celebrating music that moves. From the powerful emotion of Jodie Blackshaw’s Vulnerable Joy to the driving energy of Carolyn Bremner’s Impulse Engine and the  playful spark of Hope Salmonson’s I Dance for Myself\, this program is full of colour and momentum. Featuring bold works by today’s exciting composers\, Motion promises an afternoon of intensity\,imagination and unforgettable sound.
URL:https://livemusichalifax.ca/event/glass-winds-ensemble/
LOCATION:Halifax Central Library\, 5440 Spring Garden Road\, Halifax
ATTACH;FMTTYPE=image/jpeg:https://livemusichalifax.ca/wp-content/uploads/2026/02/IMG_0068.jpeg
END:VEVENT
BEGIN:VEVENT
DTSTART;TZID=America/Halifax:20260303T190000
DTEND;TZID=America/Halifax:20260303T200000
DTSTAMP:20260420T165747
CREATED:20260228T143414Z
LAST-MODIFIED:20260228T144228Z
UID:10004049-1772564400-1772568000@livemusichalifax.ca
SUMMARY:Jesica Ackerley & Sam Wilson
DESCRIPTION:Award-winning guitarists\, Jessica Ackerley and Sam Wilson\, will make their debut duo performance at the Library\, performing repertoire from each of their catalogues that spans across jazz\, ambient and experimental music. This concert will also feature the first-time duo performance of a solo guitar commission\, entitled “Wave II\,” composed by Jessica Ackerley for Sam Wilson. \nAll are welcome to attend this performance. Due to space limitations\, space for this concert will be first-come\, first-served.
URL:https://livemusichalifax.ca/event/jesica-ackerley-sam-wilson/
LOCATION:Halifax Central Library\, 5440 Spring Garden Road\, Halifax
ATTACH;FMTTYPE=image/jpeg:https://livemusichalifax.ca/wp-content/uploads/2026/02/sam-wilson-Jessica-Ackerley-e1772289578795.jpg
END:VEVENT
BEGIN:VEVENT
DTSTART;TZID=America/Halifax:20260201T140000
DTEND;TZID=America/Halifax:20260201T150000
DTSTAMP:20260420T165747
CREATED:20260123T003710Z
LAST-MODIFIED:20260125T000342Z
UID:10003917-1769954400-1769958000@livemusichalifax.ca
SUMMARY:Adrianna Ciccone & Ellen Gibling
DESCRIPTION:Fiddler Adrianna Ciccone and harpist Ellen Gibling perform a program shaped by Irish and Appalachian traditions\, blending original music with time-honoured favourites. In a sensory-friendly setting\, the performance moves between slower\, calming pieces and more upbeat sets with steady\, repeating patterns and clear musical lines. Highlights include “The Limerick Lamentation\,” “North Country Waltz” and “The Geese in the Bog / Mrs. O’Sullivan’s / Liz Carroll’s\,” alongside original pairings like “The Back of Winter / The Cavers of Kirkcudbright” and “The Golden Goose / Mon Poisson.” Ciccone was raised in the Ottawa Valley fiddle tradition and is greatly inspired by Québécois fiddling. She graduated from Berklee College of Music\, and her debut album won Instrumental Artist of the Year at the 2015 Canadian Folk Music Awards. Gibling is a harpist whose music spans classical\, Irish traditional\, and improvised genres. Her 2022 solo album “The Bend in the Light” has been called bold\, beautiful\, and enchanting\, and her 2024 duo album with Ciccone\, “The Pear Tree\,” has earned praise for its genuine\, heartfelt sound. This free concert welcomes everyone. You are invited to settle in\, take in the sound at your own pace\, and enjoy live music in a comfortable\, supportive environment. \n\n\nThe Sensory-Accessible Concerts series is made possible through the generous support of the Canada Council for the Arts\, the J&W Murphy Foundation\, the Mental Health Foundation of Nova Scotia\, the Harrison McCain Foundation\, the Craig Foundation\, the Unity for Autism Foundation\, the Cecilia Concerts Season Sponsor Nice Moves / Red Door Realty\, and our presenting partner the Halifax Public Libraries. We appreciate the gifts from the many individual donors who continue to support this important initiative.
URL:https://livemusichalifax.ca/event/adrianna-ciccone-ellen-gibling/
LOCATION:Halifax Central Library\, 5440 Spring Garden Road\, Halifax
ATTACH;FMTTYPE=image/webp:https://livemusichalifax.ca/wp-content/uploads/2026/01/ciccone-gibling-e1769128741321.webp
END:VEVENT
BEGIN:VEVENT
DTSTART;TZID=America/Halifax:20260104T140000
DTEND;TZID=America/Halifax:20260104T170000
DTSTAMP:20260420T165747
CREATED:20251109T180611Z
LAST-MODIFIED:20251109T180704Z
UID:10003227-1767535200-1767546000@livemusichalifax.ca
SUMMARY:Music of ABBA
DESCRIPTION:Our first Sensory-Accessible Concerts program of the new year offers a fresh take on the music of Swedish supergroup ABBA\, as members of OperAtlantic blend classical artistry with the pulse of pop. Sopranos Suzanne Rigden and Elizabeth Humphries\, tenor Glen Nowell\, and bass Kurt Sampson join pianist Tara Scott to reimagine familiar songs with warmth and vitality\, revealing the emotion and storytelling that make ABBA’s music so timeless. The program moves through some of ABBA’s biggest hits in unexpected and expressive ways. “Take a Chance on Me” bursts with playful momentum\, while “Chiquitita” unfolds with tenderness and quiet resilience. “Super Trouper” carries an undercurrent of determination\, its brightness edged with strength\, and “Knowing Me\, Knowing You” lingers on moments of honesty and change. In “The Winner Takes It All\,”emotion and poise intertwine\, and “Thank You for the Music” becomes a joyful nod to creativity and connection. “Happy New Year” balances reflection with hope\, and “Dancing Queen\,” always an audience favourite\, fills the space with rhythm\, warmth\, and an energy that’s impossible to resist. \n\n\nHosted by pianist Jennifer King and co-presented with Halifax Public Libraries\, these concerts run from fall to spring at the Halifax Central Library. Each program is thoughtfully curated and features low lighting\, noise-reduction headphones\, open spaces to move and dance\, a quiet room\, and a relaxed atmosphere where attendees are free to move and vocalize. Certified Music Therapist Anna Plaskett along with a team of Music Therapists and movement facilitators from Phin Performing Arts are present to support families in relaxing and enjoying the music together. \nSensory-Accessible Concerts is a free\, monthly series offering a safe\, inclusive\, and welcoming space for everyone to enjoy chamber music. Designed with consideration for autistic\, neurodivergent\, and intellectually disabled community members and their families\, as well as seniors experiencing age-related hearing and vision changes\, the series welcomes anyone who may find traditional concert environments challenging\, yet all are invited to attend! \nThe Sensory-Accessible Concerts series is made possible through the generous support of the Canada Council for the Arts\, the J&W Murphy Foundation\, the Mental Health Foundation of Nova Scotia\, the Harrison McCain Foundation\, the Craig Foundation\, the Cecilia Concerts Season Sponsor Nice Moves / Red Door Realty\, and our presenting partner the Halifax Public Libraries. We appreciate the gifts from the many individual donors who continue to support this important initiative.
URL:https://livemusichalifax.ca/event/music-of-abba/
LOCATION:Halifax Central Library\, 5440 Spring Garden Road\, Halifax
ATTACH;FMTTYPE=image/jpeg:https://livemusichalifax.ca/wp-content/uploads/2025/11/opera-atlantic-abba-e1762711512489.jpg
END:VEVENT
BEGIN:VEVENT
DTSTART;TZID=America/Halifax:20251215T190000
DTEND;TZID=America/Halifax:20251215T200000
DTSTAMP:20260420T165747
CREATED:20251215T164407Z
LAST-MODIFIED:20251215T164407Z
UID:10003698-1765825200-1765828800@livemusichalifax.ca
SUMMARY:Tuba Christmas
DESCRIPTION:This popular holiday concert brings together tubas of all shapes and sizes for an evening of holiday music and cheer for everyone.
URL:https://livemusichalifax.ca/event/tuba-christmas/
LOCATION:Halifax Central Library\, 5440 Spring Garden Road\, Halifax
ATTACH;FMTTYPE=image/jpeg:https://livemusichalifax.ca/wp-content/uploads/2025/12/Tuba-Christmas-2-e1765817042640.jpg
END:VEVENT
BEGIN:VEVENT
DTSTART;TZID=America/Halifax:20251215T183000
DTEND;TZID=America/Halifax:20251215T200000
DTSTAMP:20260420T165747
CREATED:20251215T163126Z
LAST-MODIFIED:20251215T163126Z
UID:10003695-1765823400-1765828800@livemusichalifax.ca
SUMMARY:Chebucto Big Band
DESCRIPTION:Free concert for all ages by the Chebucto Big Band Swing Orchestra
URL:https://livemusichalifax.ca/event/chebucto-big-band/
LOCATION:Halifax Central Library\, 5440 Spring Garden Road\, Halifax
ATTACH;FMTTYPE=image/jpeg:https://livemusichalifax.ca/wp-content/uploads/2025/12/FelizNavidad-Chebucto-Swing-Orch.jpeg
END:VEVENT
BEGIN:VEVENT
DTSTART;TZID=America/Halifax:20251130T140000
DTEND;TZID=America/Halifax:20251130T160000
DTSTAMP:20260420T165747
CREATED:20251128T142947Z
LAST-MODIFIED:20251128T143209Z
UID:10003629-1764511200-1764518400@livemusichalifax.ca
SUMMARY:Atlantic Sound Machine
DESCRIPTION:Holiday jazz concert by one of Halifax’s most popular big bands. \nFounded in 2017 by Music Director Stephanie Mckeown\, Atlantic Sound machine has rocked Halifax with timeless hits through the eras in a big band format. They have performed for private and public functions and many festivals including the Jazzfest!
URL:https://livemusichalifax.ca/event/atlantic-sound-machine-5/
LOCATION:Halifax Central Library\, 5440 Spring Garden Road\, Halifax
ATTACH;FMTTYPE=image/jpeg:https://livemusichalifax.ca/wp-content/uploads/2025/08/Atlantic-Sound-Machine-e1755738799518.jpg
END:VEVENT
BEGIN:VEVENT
DTSTART;TZID=America/Halifax:20251106T193000
DTEND;TZID=America/Halifax:20251106T210000
DTSTAMP:20260420T165747
CREATED:20251105T004951Z
LAST-MODIFIED:20251105T025553Z
UID:10003079-1762457400-1762462800@livemusichalifax.ca
SUMMARY:Illyess Ferfera Quartet
DESCRIPTION:Franco-Algerian saxophonist Illyes Ferfera leads his vibrant quartet in a bold and uplifting exploration of global jazz. Drawing from his North African roots\, Ferfera blends the rhythmic drive of Algerian Diwane and Moroccan Gnawa with the spontaneity of American jazz\, the pulse of Latin grooves\, and the nuance of French musical traditions. The result is a richly layered sound that honours cultural roots while pushing creative boundaries. \nFerfera’s expressive saxophone lines move fluidly between tradition and innovation carried by a dynamic ensemble that brings depth\, colour\, and vitality to every performance. With remarkable chemistry and a shared commitment to musical storytelling\, the quartet crafts expansive soundscapes that speak to both the intellect and the soul. Their music is a celebration of movement and connection\, alive with rhythm\, improvisation\, and cross-cultural resonance. \nThey perform original compositions from their latest album “Tawazun\,” which means “balance” in Arabic. The work reflects their pursuit of musical harmony and intercultural dialogue. This is a free concert\, open to all with advance registration. Co presented with Alliance Française Halifax and the Halifax Public Libraries. \nSeason Sponsor: Nice Moves\, Red Door Realty.
URL:https://livemusichalifax.ca/event/illness-ferfera-quartet/
LOCATION:Halifax Central Library\, 5440 Spring Garden Road\, Halifax
ATTACH;FMTTYPE=image/png:https://livemusichalifax.ca/wp-content/uploads/2025/11/Screenshot-2025-11-04-at-8.49.04-PM.png
END:VEVENT
BEGIN:VEVENT
DTSTART;TZID=America/Halifax:20251025T160000
DTEND;TZID=America/Halifax:20251025T180000
DTSTAMP:20260420T165747
CREATED:20251007T141343Z
LAST-MODIFIED:20251007T141428Z
UID:10002762-1761408000-1761415200@livemusichalifax.ca
SUMMARY:Jackson Fairfax-Perry
DESCRIPTION:Music\, Movement and Who Knows What?\n\nSponsored by suddenlyLISTEN\nFEATURING \nJackson Fairfax-Perry \nGabriella Ciurcovich \nLance Sampson \nAndrew Jackson \nJoshua Awe \nI’thandi Munro \nKay MacDonald
URL:https://livemusichalifax.ca/event/jackson-fairfax-perry/
LOCATION:Halifax Central Library\, 5440 Spring Garden Road\, Halifax
ATTACH;FMTTYPE=image/jpeg:https://livemusichalifax.ca/wp-content/uploads/2025/10/jackson-fairfax-perry-e1759846416849.jpg
END:VEVENT
BEGIN:VEVENT
DTSTART;TZID=America/Halifax:20250928T143000
DTEND;TZID=America/Halifax:20250928T160000
DTSTAMP:20260420T165747
CREATED:20250922T181737Z
LAST-MODIFIED:20250922T181737Z
UID:10002201-1759069800-1759075200@livemusichalifax.ca
SUMMARY:The Caledonia Show
DESCRIPTION:The Caledonian Orchestra Society\, based in Truro\, N.S.\,  is a performance oriented group of musicians\, vocalists and dancers dedicated to the promotion of traditional Scottish music.
URL:https://livemusichalifax.ca/event/the-caledonia-show/
LOCATION:Halifax Central Library\, 5440 Spring Garden Road\, Halifax
ATTACH;FMTTYPE=image/jpeg:https://livemusichalifax.ca/wp-content/uploads/2025/09/caledonian-orchestra-of-ns-e1758564678429.jpeg
END:VEVENT
BEGIN:VEVENT
DTSTART;TZID=America/Halifax:20250914T160000
DTEND;TZID=America/Halifax:20250914T180000
DTSTAMP:20260420T165747
CREATED:20251007T162806Z
LAST-MODIFIED:20251007T162806Z
UID:10002104-1757865600-1757872800@livemusichalifax.ca
SUMMARY:Free Symphony Week
DESCRIPTION:Hear Symphony Nova Scotia’s full orchestra live at the Halifax Central Library! Come to Paul O’Regan Hall to join our full orchestra for a delightful\, accessible concert for all ages. Featuring musical highlights from Beethoven and Mozart to Disney and Star Trek!
URL:https://livemusichalifax.ca/event/free-symphony-week/2025-09-14/
LOCATION:Halifax Central Library\, 5440 Spring Garden Road\, Halifax
ATTACH;FMTTYPE=image/jpeg:https://livemusichalifax.ca/wp-content/uploads/2025/07/Symphony-Week-Cole-Harbour--e1761922681126.jpg
END:VEVENT
BEGIN:VEVENT
DTSTART;TZID=America/Halifax:20250914T150000
DTEND;TZID=America/Halifax:20250914T170000
DTSTAMP:20260420T165747
CREATED:20250911T024534Z
LAST-MODIFIED:20250911T024534Z
UID:10002102-1757862000-1757869200@livemusichalifax.ca
SUMMARY:Free Symphony Week
DESCRIPTION:Hear Symphony Nova Scotia’s full orchestra live at the Halifax Central Library! Come to Paul O’Regan Hall to join our full orchestra for a delightful\, accessible concert for all ages. Featuring musical highlights from Beethoven and Mozart to Disney and Star Trek!
URL:https://livemusichalifax.ca/event/free-symphony-week-2/
LOCATION:Halifax Central Library\, 5440 Spring Garden Road\, Halifax
ATTACH;FMTTYPE=image/jpeg:https://livemusichalifax.ca/wp-content/uploads/2025/07/Symphony-Week-Cole-Harbour--e1761922681126.jpg
END:VEVENT
END:VCALENDAR