BEGIN:VCALENDAR
VERSION:2.0
PRODID:-//Live Music Halifax - ECPv6.15.20//NONSGML v1.0//EN
CALSCALE:GREGORIAN
METHOD:PUBLISH
X-WR-CALNAME:Live Music Halifax
X-ORIGINAL-URL:https://livemusichalifax.ca
X-WR-CALDESC:Events for Live Music Halifax
REFRESH-INTERVAL;VALUE=DURATION:PT1H
X-Robots-Tag:noindex
X-PUBLISHED-TTL:PT1H
BEGIN:VTIMEZONE
TZID:America/Halifax
BEGIN:DAYLIGHT
TZOFFSETFROM:-0400
TZOFFSETTO:-0300
TZNAME:ADT
DTSTART:20240310T060000
END:DAYLIGHT
BEGIN:STANDARD
TZOFFSETFROM:-0300
TZOFFSETTO:-0400
TZNAME:AST
DTSTART:20241103T050000
END:STANDARD
BEGIN:DAYLIGHT
TZOFFSETFROM:-0400
TZOFFSETTO:-0300
TZNAME:ADT
DTSTART:20250309T060000
END:DAYLIGHT
BEGIN:STANDARD
TZOFFSETFROM:-0300
TZOFFSETTO:-0400
TZNAME:AST
DTSTART:20251102T050000
END:STANDARD
BEGIN:DAYLIGHT
TZOFFSETFROM:-0400
TZOFFSETTO:-0300
TZNAME:ADT
DTSTART:20260308T060000
END:DAYLIGHT
BEGIN:STANDARD
TZOFFSETFROM:-0300
TZOFFSETTO:-0400
TZNAME:AST
DTSTART:20261101T050000
END:STANDARD
END:VTIMEZONE
BEGIN:VEVENT
DTSTART;TZID=America/Halifax:20251214T160000
DTEND;TZID=America/Halifax:20251214T190000
DTSTAMP:20260419T152819
CREATED:20250902T224047Z
LAST-MODIFIED:20250902T224047Z
UID:10001939-1765728000-1765738800@livemusichalifax.ca
SUMMARY:Shirley Jackson & Her Good Rockin' Daddys
DESCRIPTION:Good Rockin’ fun and some horn-powered Blues!
URL:https://livemusichalifax.ca/event/shirley-jacson-her-good-rockin-daddys-2/
LOCATION:Colleen’s Pub\, Dartmouth
ATTACH;FMTTYPE=image/jpeg:https://livemusichalifax.ca/wp-content/uploads/2025/09/shirley-jackson-2.jpg
END:VEVENT
BEGIN:VEVENT
DTSTART;TZID=America/Halifax:20251102T160000
DTEND;TZID=America/Halifax:20251102T183000
DTSTAMP:20260419T152819
CREATED:20250902T225257Z
LAST-MODIFIED:20250902T225257Z
UID:10001942-1762099200-1762108200@livemusichalifax.ca
SUMMARY:Shirley Jackson & Her Good Rockin' Daddy's
DESCRIPTION:Good Rockin’ fun and some horn-powered Blues!
URL:https://livemusichalifax.ca/event/shirley-jackson-her-good-rockin-daddys-3/
LOCATION:Colleen’s Pub\, Dartmouth
ATTACH;FMTTYPE=image/jpeg:https://livemusichalifax.ca/wp-content/uploads/2025/09/shirley-jackson-2.jpg
END:VEVENT
BEGIN:VEVENT
DTSTART;TZID=America/Halifax:20251012T160000
DTEND;TZID=America/Halifax:20251012T183000
DTSTAMP:20260419T152819
CREATED:20250902T223002Z
LAST-MODIFIED:20250902T223348Z
UID:10001936-1760284800-1760293800@livemusichalifax.ca
SUMMARY:Shirley Jackson & Her Good Rockin' Daddys
DESCRIPTION:Good Rockin’ fun and some horn-powered Blues!
URL:https://livemusichalifax.ca/event/shirley-jackson-her-good-rockin-daddys/
LOCATION:Colleen’s Pub\, Dartmouth
ATTACH;FMTTYPE=image/jpeg:https://livemusichalifax.ca/wp-content/uploads/2025/09/shirley-jackson-2.jpg
END:VEVENT
BEGIN:VEVENT
DTSTART;TZID=America/Halifax:20250906T160000
DTEND;TZID=America/Halifax:20250906T180000
DTSTAMP:20260419T152819
CREATED:20251013T215003Z
LAST-MODIFIED:20251013T215003Z
UID:10001933-1757174400-1757181600@livemusichalifax.ca
SUMMARY:Shirley Jackson & Her Good Rockin’ Daddys
DESCRIPTION:Come join in the Good Rockin’ Fun! Who has more fun than us at Colleen’s Pub? \nReservations Recommended.
URL:https://livemusichalifax.ca/event/shirley-jackson-her-good-rockin-daddys-colleens-pub/
LOCATION:Colleen’s Pub\, Dartmouth
ATTACH;FMTTYPE=image/jpeg:https://livemusichalifax.ca/wp-content/uploads/2025/08/Colleens-Pub-e1756287384815.jpg
END:VEVENT
END:VCALENDAR