BEGIN:VCALENDAR
VERSION:2.0
PRODID:-//Live Music Halifax - ECPv6.15.20//NONSGML v1.0//EN
CALSCALE:GREGORIAN
METHOD:PUBLISH
X-WR-CALNAME:Live Music Halifax
X-ORIGINAL-URL:https://livemusichalifax.ca
X-WR-CALDESC:Events for Live Music Halifax
REFRESH-INTERVAL;VALUE=DURATION:PT1H
X-Robots-Tag:noindex
X-PUBLISHED-TTL:PT1H
BEGIN:VTIMEZONE
TZID:America/Halifax
BEGIN:DAYLIGHT
TZOFFSETFROM:-0400
TZOFFSETTO:-0300
TZNAME:ADT
DTSTART:20240310T060000
END:DAYLIGHT
BEGIN:STANDARD
TZOFFSETFROM:-0300
TZOFFSETTO:-0400
TZNAME:AST
DTSTART:20241103T050000
END:STANDARD
BEGIN:DAYLIGHT
TZOFFSETFROM:-0400
TZOFFSETTO:-0300
TZNAME:ADT
DTSTART:20250309T060000
END:DAYLIGHT
BEGIN:STANDARD
TZOFFSETFROM:-0300
TZOFFSETTO:-0400
TZNAME:AST
DTSTART:20251102T050000
END:STANDARD
BEGIN:DAYLIGHT
TZOFFSETFROM:-0400
TZOFFSETTO:-0300
TZNAME:ADT
DTSTART:20260308T060000
END:DAYLIGHT
BEGIN:STANDARD
TZOFFSETFROM:-0300
TZOFFSETTO:-0400
TZNAME:AST
DTSTART:20261101T050000
END:STANDARD
END:VTIMEZONE
BEGIN:VEVENT
DTSTART;TZID=America/Halifax:20251005T160000
DTEND;TZID=America/Halifax:20251005T173000
DTSTAMP:20260419T152659
CREATED:20250928T120327Z
LAST-MODIFIED:20250928T120327Z
UID:10002684-1759680000-1759685400@livemusichalifax.ca
SUMMARY:All Saints Cathedral Choir
DESCRIPTION:The ‘Sundays at Four’ Music Series returns to the Cathedral Church of All Saints\, Halifax September 28 at 4 p.m! Join us for a new season of inspiring choral music\, offered freely to the public every Sunday afternoon. Sunday’s service is a Choral Evensong for the Eve of St Michael and All Angels\, sung by the Capella Regalis Men\, Boys\, & Girls Choir\, directed by Nick Halley\, with organist Paul Halley.\n\n\nSchedule
URL:https://livemusichalifax.ca/event/all-saints-cathedral-choir/2025-10-05/
LOCATION:Cathedral Church of All Saints\, 1330 Cathedral Ln\, Halifax
ATTACH;FMTTYPE=image/jpeg:https://livemusichalifax.ca/wp-content/uploads/2025/09/all-saints-cathedral-e1759060994833.jpg
END:VEVENT
BEGIN:VEVENT
DTSTART;TZID=America/Halifax:20250928T160000
DTEND;TZID=America/Halifax:20250928T173000
DTSTAMP:20260419T152659
CREATED:20250928T120327Z
LAST-MODIFIED:20250928T120327Z
UID:10002683-1759075200-1759080600@livemusichalifax.ca
SUMMARY:All Saints Cathedral Choir
DESCRIPTION:The ‘Sundays at Four’ Music Series returns to the Cathedral Church of All Saints\, Halifax September 28 at 4 p.m! Join us for a new season of inspiring choral music\, offered freely to the public every Sunday afternoon. Sunday’s service is a Choral Evensong for the Eve of St Michael and All Angels\, sung by the Capella Regalis Men\, Boys\, & Girls Choir\, directed by Nick Halley\, with organist Paul Halley.\n\n\nSchedule
URL:https://livemusichalifax.ca/event/all-saints-cathedral-choir/2025-09-28/
LOCATION:Cathedral Church of All Saints\, 1330 Cathedral Ln\, Halifax
ATTACH;FMTTYPE=image/jpeg:https://livemusichalifax.ca/wp-content/uploads/2025/09/all-saints-cathedral-e1759060994833.jpg
END:VEVENT
BEGIN:VEVENT
DTSTART;TZID=America/Halifax:20250921T170000
DTEND;TZID=America/Halifax:20250921T190000
DTSTAMP:20260419T152659
CREATED:20250704T171228Z
LAST-MODIFIED:20250704T171349Z
UID:10000056-1758474000-1758481200@livemusichalifax.ca
SUMMARY:Capella Regalis Choirs
DESCRIPTION:Join us for the 4th Annual Nick & Friends Benefit Concert in support of Capella Regalis on Sunday\, September 21\, from 5–7 PM at the Cathedral Church of All Saints in Halifax.\n\n\n\nThis year’s concert features a one-of-a-kind trio: five-time Grammy Award-winning composer Paul Halley performing his original works on harpsichord\, piano\, and pipe organ\, alongside his son Nick Halley and Capella Regalis alum Gabriel O’Brien. The evening will feature original works that weave together classical\, Celtic\, and jazz influences\, plus a surprise guest appearance!
URL:https://livemusichalifax.ca/event/capella-regalis-choirs/
LOCATION:Cathedral Church of All Saints\, 1330 Cathedral Ln\, Halifax
ATTACH;FMTTYPE=image/jpeg:https://livemusichalifax.ca/wp-content/uploads/2025/07/Capella-Regalis-Choirs.jpg
END:VEVENT
END:VCALENDAR