BEGIN:VCALENDAR
VERSION:2.0
PRODID:-//Live Music Halifax - ECPv6.15.20//NONSGML v1.0//EN
CALSCALE:GREGORIAN
METHOD:PUBLISH
X-WR-CALNAME:Live Music Halifax
X-ORIGINAL-URL:https://livemusichalifax.ca
X-WR-CALDESC:Events for Live Music Halifax
REFRESH-INTERVAL;VALUE=DURATION:PT1H
X-Robots-Tag:noindex
X-PUBLISHED-TTL:PT1H
BEGIN:VTIMEZONE
TZID:America/Halifax
BEGIN:DAYLIGHT
TZOFFSETFROM:-0400
TZOFFSETTO:-0300
TZNAME:ADT
DTSTART:20240310T060000
END:DAYLIGHT
BEGIN:STANDARD
TZOFFSETFROM:-0300
TZOFFSETTO:-0400
TZNAME:AST
DTSTART:20241103T050000
END:STANDARD
BEGIN:DAYLIGHT
TZOFFSETFROM:-0400
TZOFFSETTO:-0300
TZNAME:ADT
DTSTART:20250309T060000
END:DAYLIGHT
BEGIN:STANDARD
TZOFFSETFROM:-0300
TZOFFSETTO:-0400
TZNAME:AST
DTSTART:20251102T050000
END:STANDARD
BEGIN:DAYLIGHT
TZOFFSETFROM:-0400
TZOFFSETTO:-0300
TZNAME:ADT
DTSTART:20260308T060000
END:DAYLIGHT
BEGIN:STANDARD
TZOFFSETFROM:-0300
TZOFFSETTO:-0400
TZNAME:AST
DTSTART:20261101T050000
END:STANDARD
END:VTIMEZONE
BEGIN:VEVENT
DTSTART;TZID=America/Halifax:20251023T190000
DTEND;TZID=America/Halifax:20251023T210000
DTSTAMP:20260424T005001
CREATED:20250925T230817Z
LAST-MODIFIED:20251007T135024Z
UID:10002675-1761246000-1761253200@livemusichalifax.ca
SUMMARY:Csaba Kanyasi Trio
DESCRIPTION:With Lukas Pearse and Graham Berry \nCome join us for an unforgettable evening of jazz with the Csaba Kanyasi Trio. Get ready to be mesmerized by their soulful melodies and captivating rhythms. This in-person event promises to be a night filled with incredible music and great vibes. Don’t miss out on this opportunity to experience the magic of live jazz at The Bus Stop theatre. \nCsaba Kanyasi has been playing music for over 40 years. Jazz is Csaba’s main passion. Born in Hungary\, he attended the Bela Bartok Jazz College in Budepest and later studied at MacQuarie University in Adelaide\, Australia. Csaba enjoys playing Jazz standards with a Latin flavour\, creating a sound all of his own. He enjoys participating in jazz and multicultutal festivals accross Canada. \nGraham Berry is a professional composer\, arranger and entertainer for more than 30 years and has performed all over the world. Graham has worked in recording studios in Los Angeles and Las Vagas\, composed and performed for television and for headliners such as Cleo Lane\, Johnny Dankworth\, Benny Carter and Bobby​ Shew. \n​​ Lukas Pearse is a Halifax basist\, composer\, film sound designer and video artist. He has worked with many of the region’s most creative musicians and artists across varied facets of the cultural scene for over 35 years. His love of sound and original music\, especially improvised music of all sorts\, ensure that his ears are kept open wide. \nTickets
URL:https://livemusichalifax.ca/event/csaba-kanyasi-trio/
LOCATION:Bus Stop Theatre Co-op\, 2203 Gottingen St
ATTACH;FMTTYPE=image/jpeg:https://livemusichalifax.ca/wp-content/uploads/2025/09/csaba-trio-e1759845017539.jpg
END:VEVENT
END:VCALENDAR