BEGIN:VCALENDAR
VERSION:2.0
PRODID:-//Live Music Halifax - ECPv6.15.20//NONSGML v1.0//EN
CALSCALE:GREGORIAN
METHOD:PUBLISH
X-WR-CALNAME:Live Music Halifax
X-ORIGINAL-URL:https://livemusichalifax.ca
X-WR-CALDESC:Events for Live Music Halifax
REFRESH-INTERVAL;VALUE=DURATION:PT1H
X-Robots-Tag:noindex
X-PUBLISHED-TTL:PT1H
BEGIN:VTIMEZONE
TZID:America/Halifax
BEGIN:DAYLIGHT
TZOFFSETFROM:-0400
TZOFFSETTO:-0300
TZNAME:ADT
DTSTART:20250309T060000
END:DAYLIGHT
BEGIN:STANDARD
TZOFFSETFROM:-0300
TZOFFSETTO:-0400
TZNAME:AST
DTSTART:20251102T050000
END:STANDARD
BEGIN:DAYLIGHT
TZOFFSETFROM:-0400
TZOFFSETTO:-0300
TZNAME:ADT
DTSTART:20260308T060000
END:DAYLIGHT
BEGIN:STANDARD
TZOFFSETFROM:-0300
TZOFFSETTO:-0400
TZNAME:AST
DTSTART:20261101T050000
END:STANDARD
BEGIN:DAYLIGHT
TZOFFSETFROM:-0400
TZOFFSETTO:-0300
TZNAME:ADT
DTSTART:20270314T060000
END:DAYLIGHT
BEGIN:STANDARD
TZOFFSETFROM:-0300
TZOFFSETTO:-0400
TZNAME:AST
DTSTART:20271107T050000
END:STANDARD
END:VTIMEZONE
BEGIN:VEVENT
DTSTART;TZID=America/Halifax:20261120T200000
DTEND;TZID=America/Halifax:20261120T220000
DTSTAMP:20260420T150404
CREATED:20251128T144943Z
LAST-MODIFIED:20251128T144943Z
UID:10003681-1795204800-1795212000@livemusichalifax.ca
SUMMARY:Caito Macdonald Trio
DESCRIPTION:Caito Macdonald is a percussionist and composer from Dartmouth\, NS. Caito’s musical style is rooted in the jazz tradition\, and he performs at various jazz gigs around Halifax. Caito’s trio plays every Friday at the Barrington Steakhouse\, and he can also be heard in the local rock/fusion band ‘Under the Bus’.
URL:https://livemusichalifax.ca/event/caito-macdonald-trio/2026-11-20/
LOCATION:Barrington Steakhouse & Oyster Bar\, 1662 Barrington St.\, Halifax
ATTACH;FMTTYPE=image/jpeg:https://livemusichalifax.ca/wp-content/uploads/2025/07/caito-macdonald-trio-e1751826551631.jpg
END:VEVENT
BEGIN:VEVENT
DTSTART;TZID=America/Halifax:20261127T200000
DTEND;TZID=America/Halifax:20261127T220000
DTSTAMP:20260420T150404
CREATED:20251128T144943Z
LAST-MODIFIED:20251128T144943Z
UID:10003682-1795809600-1795816800@livemusichalifax.ca
SUMMARY:Caito Macdonald Trio
DESCRIPTION:Caito Macdonald is a percussionist and composer from Dartmouth\, NS. Caito’s musical style is rooted in the jazz tradition\, and he performs at various jazz gigs around Halifax. Caito’s trio plays every Friday at the Barrington Steakhouse\, and he can also be heard in the local rock/fusion band ‘Under the Bus’.
URL:https://livemusichalifax.ca/event/caito-macdonald-trio/2026-11-27/
LOCATION:Barrington Steakhouse & Oyster Bar\, 1662 Barrington St.\, Halifax
ATTACH;FMTTYPE=image/jpeg:https://livemusichalifax.ca/wp-content/uploads/2025/07/caito-macdonald-trio-e1751826551631.jpg
END:VEVENT
BEGIN:VEVENT
DTSTART;TZID=America/Halifax:20261204T200000
DTEND;TZID=America/Halifax:20261204T220000
DTSTAMP:20260420T150404
CREATED:20251128T144943Z
LAST-MODIFIED:20251128T144943Z
UID:10003683-1796414400-1796421600@livemusichalifax.ca
SUMMARY:Caito Macdonald Trio
DESCRIPTION:Caito Macdonald is a percussionist and composer from Dartmouth\, NS. Caito’s musical style is rooted in the jazz tradition\, and he performs at various jazz gigs around Halifax. Caito’s trio plays every Friday at the Barrington Steakhouse\, and he can also be heard in the local rock/fusion band ‘Under the Bus’.
URL:https://livemusichalifax.ca/event/caito-macdonald-trio/2026-12-04/
LOCATION:Barrington Steakhouse & Oyster Bar\, 1662 Barrington St.\, Halifax
ATTACH;FMTTYPE=image/jpeg:https://livemusichalifax.ca/wp-content/uploads/2025/07/caito-macdonald-trio-e1751826551631.jpg
END:VEVENT
BEGIN:VEVENT
DTSTART;TZID=America/Halifax:20261211T200000
DTEND;TZID=America/Halifax:20261211T220000
DTSTAMP:20260420T150404
CREATED:20251128T144943Z
LAST-MODIFIED:20251128T144943Z
UID:10003684-1797019200-1797026400@livemusichalifax.ca
SUMMARY:Caito Macdonald Trio
DESCRIPTION:Caito Macdonald is a percussionist and composer from Dartmouth\, NS. Caito’s musical style is rooted in the jazz tradition\, and he performs at various jazz gigs around Halifax. Caito’s trio plays every Friday at the Barrington Steakhouse\, and he can also be heard in the local rock/fusion band ‘Under the Bus’.
URL:https://livemusichalifax.ca/event/caito-macdonald-trio/2026-12-11/
LOCATION:Barrington Steakhouse & Oyster Bar\, 1662 Barrington St.\, Halifax
ATTACH;FMTTYPE=image/jpeg:https://livemusichalifax.ca/wp-content/uploads/2025/07/caito-macdonald-trio-e1751826551631.jpg
END:VEVENT
BEGIN:VEVENT
DTSTART;TZID=America/Halifax:20261218T200000
DTEND;TZID=America/Halifax:20261218T220000
DTSTAMP:20260420T150404
CREATED:20251128T144943Z
LAST-MODIFIED:20251128T144943Z
UID:10003685-1797624000-1797631200@livemusichalifax.ca
SUMMARY:Caito Macdonald Trio
DESCRIPTION:Caito Macdonald is a percussionist and composer from Dartmouth\, NS. Caito’s musical style is rooted in the jazz tradition\, and he performs at various jazz gigs around Halifax. Caito’s trio plays every Friday at the Barrington Steakhouse\, and he can also be heard in the local rock/fusion band ‘Under the Bus’.
URL:https://livemusichalifax.ca/event/caito-macdonald-trio/2026-12-18/
LOCATION:Barrington Steakhouse & Oyster Bar\, 1662 Barrington St.\, Halifax
ATTACH;FMTTYPE=image/jpeg:https://livemusichalifax.ca/wp-content/uploads/2025/07/caito-macdonald-trio-e1751826551631.jpg
END:VEVENT
END:VCALENDAR