BEGIN:VCALENDAR
VERSION:2.0
PRODID:-//Live Music Halifax - ECPv6.15.20//NONSGML v1.0//EN
CALSCALE:GREGORIAN
METHOD:PUBLISH
X-WR-CALNAME:Live Music Halifax
X-ORIGINAL-URL:https://livemusichalifax.ca
X-WR-CALDESC:Events for Live Music Halifax
REFRESH-INTERVAL;VALUE=DURATION:PT1H
X-Robots-Tag:noindex
X-PUBLISHED-TTL:PT1H
BEGIN:VTIMEZONE
TZID:America/Halifax
BEGIN:DAYLIGHT
TZOFFSETFROM:-0400
TZOFFSETTO:-0300
TZNAME:ADT
DTSTART:20250309T060000
END:DAYLIGHT
BEGIN:STANDARD
TZOFFSETFROM:-0300
TZOFFSETTO:-0400
TZNAME:AST
DTSTART:20251102T050000
END:STANDARD
BEGIN:DAYLIGHT
TZOFFSETFROM:-0400
TZOFFSETTO:-0300
TZNAME:ADT
DTSTART:20260308T060000
END:DAYLIGHT
BEGIN:STANDARD
TZOFFSETFROM:-0300
TZOFFSETTO:-0400
TZNAME:AST
DTSTART:20261101T050000
END:STANDARD
BEGIN:DAYLIGHT
TZOFFSETFROM:-0400
TZOFFSETTO:-0300
TZNAME:ADT
DTSTART:20270314T060000
END:DAYLIGHT
BEGIN:STANDARD
TZOFFSETFROM:-0300
TZOFFSETTO:-0400
TZNAME:AST
DTSTART:20271107T050000
END:STANDARD
END:VTIMEZONE
BEGIN:VEVENT
DTSTART;TZID=America/Halifax:20261118T190000
DTEND;TZID=America/Halifax:20261118T220000
DTSTAMP:20260419T223140
CREATED:20251116T032245Z
LAST-MODIFIED:20251116T032245Z
UID:10003283-1795028400-1795039200@livemusichalifax.ca
SUMMARY:Live jazz with Matt Maclennan trio
DESCRIPTION:Matt MacLennan is a bassist and bandleader\, bringing a mix of velvety ballads\, smooth bossa novas\, and breezy swing to Obladee!\nYou can expect balanced and inviting sets with an easy and conversational style that fills the room without crowding it. Lean in and listen\, or simply let the sound and textures carry you away.\n\nPlease reserve your spot as seating is limited.
URL:https://livemusichalifax.ca/event/live-jazz-with-matt-maclennan-trio/2026-11-18/
LOCATION:Obladee wine bar\, 1600 Barrington St\, Halifax
ATTACH;FMTTYPE=image/webp:https://livemusichalifax.ca/wp-content/uploads/2025/11/mattmaclennan-trio-e1763263310998.webp
END:VEVENT
BEGIN:VEVENT
DTSTART;TZID=America/Halifax:20261125T190000
DTEND;TZID=America/Halifax:20261125T220000
DTSTAMP:20260419T223140
CREATED:20251116T032245Z
LAST-MODIFIED:20251116T032245Z
UID:10003284-1795633200-1795644000@livemusichalifax.ca
SUMMARY:Live jazz with Matt Maclennan trio
DESCRIPTION:Matt MacLennan is a bassist and bandleader\, bringing a mix of velvety ballads\, smooth bossa novas\, and breezy swing to Obladee!\nYou can expect balanced and inviting sets with an easy and conversational style that fills the room without crowding it. Lean in and listen\, or simply let the sound and textures carry you away.\n\nPlease reserve your spot as seating is limited.
URL:https://livemusichalifax.ca/event/live-jazz-with-matt-maclennan-trio/2026-11-25/
LOCATION:Obladee wine bar\, 1600 Barrington St\, Halifax
ATTACH;FMTTYPE=image/webp:https://livemusichalifax.ca/wp-content/uploads/2025/11/mattmaclennan-trio-e1763263310998.webp
END:VEVENT
BEGIN:VEVENT
DTSTART;TZID=America/Halifax:20261202T190000
DTEND;TZID=America/Halifax:20261202T220000
DTSTAMP:20260419T223140
CREATED:20251116T032245Z
LAST-MODIFIED:20251116T032245Z
UID:10003285-1796238000-1796248800@livemusichalifax.ca
SUMMARY:Live jazz with Matt Maclennan trio
DESCRIPTION:Matt MacLennan is a bassist and bandleader\, bringing a mix of velvety ballads\, smooth bossa novas\, and breezy swing to Obladee!\nYou can expect balanced and inviting sets with an easy and conversational style that fills the room without crowding it. Lean in and listen\, or simply let the sound and textures carry you away.\n\nPlease reserve your spot as seating is limited.
URL:https://livemusichalifax.ca/event/live-jazz-with-matt-maclennan-trio/2026-12-02/
LOCATION:Obladee wine bar\, 1600 Barrington St\, Halifax
ATTACH;FMTTYPE=image/webp:https://livemusichalifax.ca/wp-content/uploads/2025/11/mattmaclennan-trio-e1763263310998.webp
END:VEVENT
BEGIN:VEVENT
DTSTART;TZID=America/Halifax:20261209T190000
DTEND;TZID=America/Halifax:20261209T220000
DTSTAMP:20260419T223140
CREATED:20251116T032245Z
LAST-MODIFIED:20251116T032245Z
UID:10003286-1796842800-1796853600@livemusichalifax.ca
SUMMARY:Live jazz with Matt Maclennan trio
DESCRIPTION:Matt MacLennan is a bassist and bandleader\, bringing a mix of velvety ballads\, smooth bossa novas\, and breezy swing to Obladee!\nYou can expect balanced and inviting sets with an easy and conversational style that fills the room without crowding it. Lean in and listen\, or simply let the sound and textures carry you away.\n\nPlease reserve your spot as seating is limited.
URL:https://livemusichalifax.ca/event/live-jazz-with-matt-maclennan-trio/2026-12-09/
LOCATION:Obladee wine bar\, 1600 Barrington St\, Halifax
ATTACH;FMTTYPE=image/webp:https://livemusichalifax.ca/wp-content/uploads/2025/11/mattmaclennan-trio-e1763263310998.webp
END:VEVENT
BEGIN:VEVENT
DTSTART;TZID=America/Halifax:20261216T190000
DTEND;TZID=America/Halifax:20261216T220000
DTSTAMP:20260419T223140
CREATED:20251116T032245Z
LAST-MODIFIED:20251116T032245Z
UID:10003287-1797447600-1797458400@livemusichalifax.ca
SUMMARY:Live jazz with Matt Maclennan trio
DESCRIPTION:Matt MacLennan is a bassist and bandleader\, bringing a mix of velvety ballads\, smooth bossa novas\, and breezy swing to Obladee!\nYou can expect balanced and inviting sets with an easy and conversational style that fills the room without crowding it. Lean in and listen\, or simply let the sound and textures carry you away.\n\nPlease reserve your spot as seating is limited.
URL:https://livemusichalifax.ca/event/live-jazz-with-matt-maclennan-trio/2026-12-16/
LOCATION:Obladee wine bar\, 1600 Barrington St\, Halifax
ATTACH;FMTTYPE=image/webp:https://livemusichalifax.ca/wp-content/uploads/2025/11/mattmaclennan-trio-e1763263310998.webp
END:VEVENT
BEGIN:VEVENT
DTSTART;TZID=America/Halifax:20261223T190000
DTEND;TZID=America/Halifax:20261223T220000
DTSTAMP:20260419T223140
CREATED:20251116T032245Z
LAST-MODIFIED:20251116T032245Z
UID:10003288-1798052400-1798063200@livemusichalifax.ca
SUMMARY:Live jazz with Matt Maclennan trio
DESCRIPTION:Matt MacLennan is a bassist and bandleader\, bringing a mix of velvety ballads\, smooth bossa novas\, and breezy swing to Obladee!\nYou can expect balanced and inviting sets with an easy and conversational style that fills the room without crowding it. Lean in and listen\, or simply let the sound and textures carry you away.\n\nPlease reserve your spot as seating is limited.
URL:https://livemusichalifax.ca/event/live-jazz-with-matt-maclennan-trio/2026-12-23/
LOCATION:Obladee wine bar\, 1600 Barrington St\, Halifax
ATTACH;FMTTYPE=image/webp:https://livemusichalifax.ca/wp-content/uploads/2025/11/mattmaclennan-trio-e1763263310998.webp
END:VEVENT
END:VCALENDAR