BEGIN:VCALENDAR
VERSION:2.0
PRODID:-//Live Music Halifax - ECPv6.15.20//NONSGML v1.0//EN
CALSCALE:GREGORIAN
METHOD:PUBLISH
X-WR-CALNAME:Live Music Halifax
X-ORIGINAL-URL:https://livemusichalifax.ca
X-WR-CALDESC:Events for Live Music Halifax
REFRESH-INTERVAL;VALUE=DURATION:PT1H
X-Robots-Tag:noindex
X-PUBLISHED-TTL:PT1H
BEGIN:VTIMEZONE
TZID:America/Halifax
BEGIN:DAYLIGHT
TZOFFSETFROM:-0400
TZOFFSETTO:-0300
TZNAME:ADT
DTSTART:20250309T060000
END:DAYLIGHT
BEGIN:STANDARD
TZOFFSETFROM:-0300
TZOFFSETTO:-0400
TZNAME:AST
DTSTART:20251102T050000
END:STANDARD
BEGIN:DAYLIGHT
TZOFFSETFROM:-0400
TZOFFSETTO:-0300
TZNAME:ADT
DTSTART:20260308T060000
END:DAYLIGHT
BEGIN:STANDARD
TZOFFSETFROM:-0300
TZOFFSETTO:-0400
TZNAME:AST
DTSTART:20261101T050000
END:STANDARD
BEGIN:DAYLIGHT
TZOFFSETFROM:-0400
TZOFFSETTO:-0300
TZNAME:ADT
DTSTART:20270314T060000
END:DAYLIGHT
BEGIN:STANDARD
TZOFFSETFROM:-0300
TZOFFSETTO:-0400
TZNAME:AST
DTSTART:20271107T050000
END:STANDARD
BEGIN:DAYLIGHT
TZOFFSETFROM:-0400
TZOFFSETTO:-0300
TZNAME:ADT
DTSTART:20280312T060000
END:DAYLIGHT
BEGIN:STANDARD
TZOFFSETFROM:-0300
TZOFFSETTO:-0400
TZNAME:AST
DTSTART:20281105T050000
END:STANDARD
END:VTIMEZONE
BEGIN:VEVENT
DTSTART;TZID=America/Halifax:20261117T190000
DTEND;TZID=America/Halifax:20261117T220000
DTSTAMP:20260420T002324
CREATED:20251230T144520Z
LAST-MODIFIED:20260216T180159Z
UID:10003614-1794942000-1794952800@livemusichalifax.ca
SUMMARY:Leo Cox Trio
DESCRIPTION:Halifax’s Leo Cox Trio brings groove-driven modern jazz to Tuesday nights at The Economy Shoe Shop. No cover. Sit-ins welcome. \nTuesday Night Jazz at The Economy Shoe Shop features the Leo Cox Trio\, with Leo Cox on bass\, Ben Tucker on guitar\, and Dante Kierstead on drums. Held every Tuesday from 7:00 PM to 10:00 PM\, this weekly modern jazz residency offers evolving sets\, original music\, and spontaneous sit-ins in an intimate downtown Halifax setting. With no cover charge\, it is an easy way to experience groove-driven jazz and connect with Halifax’s vibrant jazz community.
URL:https://livemusichalifax.ca/event/economy-shoe-shop-2-2-2/2026-11-17/
LOCATION:Economy Shoe Shop\, 1663 Argyle St
ATTACH;FMTTYPE=image/jpeg:https://livemusichalifax.ca/wp-content/uploads/2025/09/economy-shoe-shop-e1757542636730.jpg
END:VEVENT
BEGIN:VEVENT
DTSTART;TZID=America/Halifax:20261124T190000
DTEND;TZID=America/Halifax:20261124T220000
DTSTAMP:20260420T002324
CREATED:20251230T144520Z
LAST-MODIFIED:20260216T180159Z
UID:10003615-1795546800-1795557600@livemusichalifax.ca
SUMMARY:Leo Cox Trio
DESCRIPTION:Halifax’s Leo Cox Trio brings groove-driven modern jazz to Tuesday nights at The Economy Shoe Shop. No cover. Sit-ins welcome. \nTuesday Night Jazz at The Economy Shoe Shop features the Leo Cox Trio\, with Leo Cox on bass\, Ben Tucker on guitar\, and Dante Kierstead on drums. Held every Tuesday from 7:00 PM to 10:00 PM\, this weekly modern jazz residency offers evolving sets\, original music\, and spontaneous sit-ins in an intimate downtown Halifax setting. With no cover charge\, it is an easy way to experience groove-driven jazz and connect with Halifax’s vibrant jazz community.
URL:https://livemusichalifax.ca/event/economy-shoe-shop-2-2-2/2026-11-24/
LOCATION:Economy Shoe Shop\, 1663 Argyle St
ATTACH;FMTTYPE=image/jpeg:https://livemusichalifax.ca/wp-content/uploads/2025/09/economy-shoe-shop-e1757542636730.jpg
END:VEVENT
BEGIN:VEVENT
DTSTART;TZID=America/Halifax:20261201T190000
DTEND;TZID=America/Halifax:20261201T220000
DTSTAMP:20260420T002324
CREATED:20251230T144520Z
LAST-MODIFIED:20260216T180159Z
UID:10003616-1796151600-1796162400@livemusichalifax.ca
SUMMARY:Leo Cox Trio
DESCRIPTION:Halifax’s Leo Cox Trio brings groove-driven modern jazz to Tuesday nights at The Economy Shoe Shop. No cover. Sit-ins welcome. \nTuesday Night Jazz at The Economy Shoe Shop features the Leo Cox Trio\, with Leo Cox on bass\, Ben Tucker on guitar\, and Dante Kierstead on drums. Held every Tuesday from 7:00 PM to 10:00 PM\, this weekly modern jazz residency offers evolving sets\, original music\, and spontaneous sit-ins in an intimate downtown Halifax setting. With no cover charge\, it is an easy way to experience groove-driven jazz and connect with Halifax’s vibrant jazz community.
URL:https://livemusichalifax.ca/event/economy-shoe-shop-2-2-2/2026-12-01/
LOCATION:Economy Shoe Shop\, 1663 Argyle St
ATTACH;FMTTYPE=image/jpeg:https://livemusichalifax.ca/wp-content/uploads/2025/09/economy-shoe-shop-e1757542636730.jpg
END:VEVENT
BEGIN:VEVENT
DTSTART;TZID=America/Halifax:20261208T190000
DTEND;TZID=America/Halifax:20261208T220000
DTSTAMP:20260420T002324
CREATED:20251230T144520Z
LAST-MODIFIED:20260216T180159Z
UID:10003617-1796756400-1796767200@livemusichalifax.ca
SUMMARY:Leo Cox Trio
DESCRIPTION:Halifax’s Leo Cox Trio brings groove-driven modern jazz to Tuesday nights at The Economy Shoe Shop. No cover. Sit-ins welcome. \nTuesday Night Jazz at The Economy Shoe Shop features the Leo Cox Trio\, with Leo Cox on bass\, Ben Tucker on guitar\, and Dante Kierstead on drums. Held every Tuesday from 7:00 PM to 10:00 PM\, this weekly modern jazz residency offers evolving sets\, original music\, and spontaneous sit-ins in an intimate downtown Halifax setting. With no cover charge\, it is an easy way to experience groove-driven jazz and connect with Halifax’s vibrant jazz community.
URL:https://livemusichalifax.ca/event/economy-shoe-shop-2-2-2/2026-12-08/
LOCATION:Economy Shoe Shop\, 1663 Argyle St
ATTACH;FMTTYPE=image/jpeg:https://livemusichalifax.ca/wp-content/uploads/2025/09/economy-shoe-shop-e1757542636730.jpg
END:VEVENT
BEGIN:VEVENT
DTSTART;TZID=America/Halifax:20261215T190000
DTEND;TZID=America/Halifax:20261215T220000
DTSTAMP:20260420T002324
CREATED:20251230T144520Z
LAST-MODIFIED:20260216T180159Z
UID:10003618-1797361200-1797372000@livemusichalifax.ca
SUMMARY:Leo Cox Trio
DESCRIPTION:Halifax’s Leo Cox Trio brings groove-driven modern jazz to Tuesday nights at The Economy Shoe Shop. No cover. Sit-ins welcome. \nTuesday Night Jazz at The Economy Shoe Shop features the Leo Cox Trio\, with Leo Cox on bass\, Ben Tucker on guitar\, and Dante Kierstead on drums. Held every Tuesday from 7:00 PM to 10:00 PM\, this weekly modern jazz residency offers evolving sets\, original music\, and spontaneous sit-ins in an intimate downtown Halifax setting. With no cover charge\, it is an easy way to experience groove-driven jazz and connect with Halifax’s vibrant jazz community.
URL:https://livemusichalifax.ca/event/economy-shoe-shop-2-2-2/2026-12-15/
LOCATION:Economy Shoe Shop\, 1663 Argyle St
ATTACH;FMTTYPE=image/jpeg:https://livemusichalifax.ca/wp-content/uploads/2025/09/economy-shoe-shop-e1757542636730.jpg
END:VEVENT
BEGIN:VEVENT
DTSTART;TZID=America/Halifax:20261222T190000
DTEND;TZID=America/Halifax:20261222T220000
DTSTAMP:20260420T002324
CREATED:20251230T144520Z
LAST-MODIFIED:20260216T180159Z
UID:10003619-1797966000-1797976800@livemusichalifax.ca
SUMMARY:Leo Cox Trio
DESCRIPTION:Halifax’s Leo Cox Trio brings groove-driven modern jazz to Tuesday nights at The Economy Shoe Shop. No cover. Sit-ins welcome. \nTuesday Night Jazz at The Economy Shoe Shop features the Leo Cox Trio\, with Leo Cox on bass\, Ben Tucker on guitar\, and Dante Kierstead on drums. Held every Tuesday from 7:00 PM to 10:00 PM\, this weekly modern jazz residency offers evolving sets\, original music\, and spontaneous sit-ins in an intimate downtown Halifax setting. With no cover charge\, it is an easy way to experience groove-driven jazz and connect with Halifax’s vibrant jazz community.
URL:https://livemusichalifax.ca/event/economy-shoe-shop-2-2-2/2026-12-22/
LOCATION:Economy Shoe Shop\, 1663 Argyle St
ATTACH;FMTTYPE=image/jpeg:https://livemusichalifax.ca/wp-content/uploads/2025/09/economy-shoe-shop-e1757542636730.jpg
END:VEVENT
BEGIN:VEVENT
DTSTART;TZID=America/Halifax:20261229T190000
DTEND;TZID=America/Halifax:20261229T220000
DTSTAMP:20260420T002324
CREATED:20251230T144520Z
LAST-MODIFIED:20260216T180159Z
UID:10003811-1798570800-1798581600@livemusichalifax.ca
SUMMARY:Leo Cox Trio
DESCRIPTION:Halifax’s Leo Cox Trio brings groove-driven modern jazz to Tuesday nights at The Economy Shoe Shop. No cover. Sit-ins welcome. \nTuesday Night Jazz at The Economy Shoe Shop features the Leo Cox Trio\, with Leo Cox on bass\, Ben Tucker on guitar\, and Dante Kierstead on drums. Held every Tuesday from 7:00 PM to 10:00 PM\, this weekly modern jazz residency offers evolving sets\, original music\, and spontaneous sit-ins in an intimate downtown Halifax setting. With no cover charge\, it is an easy way to experience groove-driven jazz and connect with Halifax’s vibrant jazz community.
URL:https://livemusichalifax.ca/event/economy-shoe-shop-2-2-2/2026-12-29/
LOCATION:Economy Shoe Shop\, 1663 Argyle St
ATTACH;FMTTYPE=image/jpeg:https://livemusichalifax.ca/wp-content/uploads/2025/09/economy-shoe-shop-e1757542636730.jpg
END:VEVENT
BEGIN:VEVENT
DTSTART;TZID=America/Halifax:20270105T190000
DTEND;TZID=America/Halifax:20270105T220000
DTSTAMP:20260420T002324
CREATED:20251230T144520Z
LAST-MODIFIED:20260216T180159Z
UID:10003812-1799175600-1799186400@livemusichalifax.ca
SUMMARY:Leo Cox Trio
DESCRIPTION:Halifax’s Leo Cox Trio brings groove-driven modern jazz to Tuesday nights at The Economy Shoe Shop. No cover. Sit-ins welcome. \nTuesday Night Jazz at The Economy Shoe Shop features the Leo Cox Trio\, with Leo Cox on bass\, Ben Tucker on guitar\, and Dante Kierstead on drums. Held every Tuesday from 7:00 PM to 10:00 PM\, this weekly modern jazz residency offers evolving sets\, original music\, and spontaneous sit-ins in an intimate downtown Halifax setting. With no cover charge\, it is an easy way to experience groove-driven jazz and connect with Halifax’s vibrant jazz community.
URL:https://livemusichalifax.ca/event/economy-shoe-shop-2-2-2/2027-01-05/
LOCATION:Economy Shoe Shop\, 1663 Argyle St
ATTACH;FMTTYPE=image/jpeg:https://livemusichalifax.ca/wp-content/uploads/2025/09/economy-shoe-shop-e1757542636730.jpg
END:VEVENT
BEGIN:VEVENT
DTSTART;TZID=America/Halifax:20270112T190000
DTEND;TZID=America/Halifax:20270112T220000
DTSTAMP:20260420T002324
CREATED:20251230T144520Z
LAST-MODIFIED:20260216T180159Z
UID:10003813-1799780400-1799791200@livemusichalifax.ca
SUMMARY:Leo Cox Trio
DESCRIPTION:Halifax’s Leo Cox Trio brings groove-driven modern jazz to Tuesday nights at The Economy Shoe Shop. No cover. Sit-ins welcome. \nTuesday Night Jazz at The Economy Shoe Shop features the Leo Cox Trio\, with Leo Cox on bass\, Ben Tucker on guitar\, and Dante Kierstead on drums. Held every Tuesday from 7:00 PM to 10:00 PM\, this weekly modern jazz residency offers evolving sets\, original music\, and spontaneous sit-ins in an intimate downtown Halifax setting. With no cover charge\, it is an easy way to experience groove-driven jazz and connect with Halifax’s vibrant jazz community.
URL:https://livemusichalifax.ca/event/economy-shoe-shop-2-2-2/2027-01-12/
LOCATION:Economy Shoe Shop\, 1663 Argyle St
ATTACH;FMTTYPE=image/jpeg:https://livemusichalifax.ca/wp-content/uploads/2025/09/economy-shoe-shop-e1757542636730.jpg
END:VEVENT
BEGIN:VEVENT
DTSTART;TZID=America/Halifax:20270119T190000
DTEND;TZID=America/Halifax:20270119T220000
DTSTAMP:20260420T002324
CREATED:20251230T144520Z
LAST-MODIFIED:20260216T180159Z
UID:10003814-1800385200-1800396000@livemusichalifax.ca
SUMMARY:Leo Cox Trio
DESCRIPTION:Halifax’s Leo Cox Trio brings groove-driven modern jazz to Tuesday nights at The Economy Shoe Shop. No cover. Sit-ins welcome. \nTuesday Night Jazz at The Economy Shoe Shop features the Leo Cox Trio\, with Leo Cox on bass\, Ben Tucker on guitar\, and Dante Kierstead on drums. Held every Tuesday from 7:00 PM to 10:00 PM\, this weekly modern jazz residency offers evolving sets\, original music\, and spontaneous sit-ins in an intimate downtown Halifax setting. With no cover charge\, it is an easy way to experience groove-driven jazz and connect with Halifax’s vibrant jazz community.
URL:https://livemusichalifax.ca/event/economy-shoe-shop-2-2-2/2027-01-19/
LOCATION:Economy Shoe Shop\, 1663 Argyle St
ATTACH;FMTTYPE=image/jpeg:https://livemusichalifax.ca/wp-content/uploads/2025/09/economy-shoe-shop-e1757542636730.jpg
END:VEVENT
BEGIN:VEVENT
DTSTART;TZID=America/Halifax:20270126T190000
DTEND;TZID=America/Halifax:20270126T220000
DTSTAMP:20260420T002324
CREATED:20251230T144520Z
LAST-MODIFIED:20260216T180159Z
UID:10003815-1800990000-1801000800@livemusichalifax.ca
SUMMARY:Leo Cox Trio
DESCRIPTION:Halifax’s Leo Cox Trio brings groove-driven modern jazz to Tuesday nights at The Economy Shoe Shop. No cover. Sit-ins welcome. \nTuesday Night Jazz at The Economy Shoe Shop features the Leo Cox Trio\, with Leo Cox on bass\, Ben Tucker on guitar\, and Dante Kierstead on drums. Held every Tuesday from 7:00 PM to 10:00 PM\, this weekly modern jazz residency offers evolving sets\, original music\, and spontaneous sit-ins in an intimate downtown Halifax setting. With no cover charge\, it is an easy way to experience groove-driven jazz and connect with Halifax’s vibrant jazz community.
URL:https://livemusichalifax.ca/event/economy-shoe-shop-2-2-2/2027-01-26/
LOCATION:Economy Shoe Shop\, 1663 Argyle St
ATTACH;FMTTYPE=image/jpeg:https://livemusichalifax.ca/wp-content/uploads/2025/09/economy-shoe-shop-e1757542636730.jpg
END:VEVENT
BEGIN:VEVENT
DTSTART;TZID=America/Halifax:20270202T190000
DTEND;TZID=America/Halifax:20270202T220000
DTSTAMP:20260420T002324
CREATED:20251230T144520Z
LAST-MODIFIED:20260216T180159Z
UID:10003816-1801594800-1801605600@livemusichalifax.ca
SUMMARY:Leo Cox Trio
DESCRIPTION:Halifax’s Leo Cox Trio brings groove-driven modern jazz to Tuesday nights at The Economy Shoe Shop. No cover. Sit-ins welcome. \nTuesday Night Jazz at The Economy Shoe Shop features the Leo Cox Trio\, with Leo Cox on bass\, Ben Tucker on guitar\, and Dante Kierstead on drums. Held every Tuesday from 7:00 PM to 10:00 PM\, this weekly modern jazz residency offers evolving sets\, original music\, and spontaneous sit-ins in an intimate downtown Halifax setting. With no cover charge\, it is an easy way to experience groove-driven jazz and connect with Halifax’s vibrant jazz community.
URL:https://livemusichalifax.ca/event/economy-shoe-shop-2-2-2/2027-02-02/
LOCATION:Economy Shoe Shop\, 1663 Argyle St
ATTACH;FMTTYPE=image/jpeg:https://livemusichalifax.ca/wp-content/uploads/2025/09/economy-shoe-shop-e1757542636730.jpg
END:VEVENT
BEGIN:VEVENT
DTSTART;TZID=America/Halifax:20270209T190000
DTEND;TZID=America/Halifax:20270209T220000
DTSTAMP:20260420T002324
CREATED:20251230T144520Z
LAST-MODIFIED:20260216T180159Z
UID:10004009-1802199600-1802210400@livemusichalifax.ca
SUMMARY:Leo Cox Trio
DESCRIPTION:Halifax’s Leo Cox Trio brings groove-driven modern jazz to Tuesday nights at The Economy Shoe Shop. No cover. Sit-ins welcome. \nTuesday Night Jazz at The Economy Shoe Shop features the Leo Cox Trio\, with Leo Cox on bass\, Ben Tucker on guitar\, and Dante Kierstead on drums. Held every Tuesday from 7:00 PM to 10:00 PM\, this weekly modern jazz residency offers evolving sets\, original music\, and spontaneous sit-ins in an intimate downtown Halifax setting. With no cover charge\, it is an easy way to experience groove-driven jazz and connect with Halifax’s vibrant jazz community.
URL:https://livemusichalifax.ca/event/economy-shoe-shop-2-2-2/2027-02-09/
LOCATION:Economy Shoe Shop\, 1663 Argyle St
ATTACH;FMTTYPE=image/jpeg:https://livemusichalifax.ca/wp-content/uploads/2025/09/economy-shoe-shop-e1757542636730.jpg
END:VEVENT
BEGIN:VEVENT
DTSTART;TZID=America/Halifax:20270216T190000
DTEND;TZID=America/Halifax:20270216T220000
DTSTAMP:20260420T002324
CREATED:20251230T144520Z
LAST-MODIFIED:20260216T180159Z
UID:10004010-1802804400-1802815200@livemusichalifax.ca
SUMMARY:Leo Cox Trio
DESCRIPTION:Halifax’s Leo Cox Trio brings groove-driven modern jazz to Tuesday nights at The Economy Shoe Shop. No cover. Sit-ins welcome. \nTuesday Night Jazz at The Economy Shoe Shop features the Leo Cox Trio\, with Leo Cox on bass\, Ben Tucker on guitar\, and Dante Kierstead on drums. Held every Tuesday from 7:00 PM to 10:00 PM\, this weekly modern jazz residency offers evolving sets\, original music\, and spontaneous sit-ins in an intimate downtown Halifax setting. With no cover charge\, it is an easy way to experience groove-driven jazz and connect with Halifax’s vibrant jazz community.
URL:https://livemusichalifax.ca/event/economy-shoe-shop-2-2-2/2027-02-16/
LOCATION:Economy Shoe Shop\, 1663 Argyle St
ATTACH;FMTTYPE=image/jpeg:https://livemusichalifax.ca/wp-content/uploads/2025/09/economy-shoe-shop-e1757542636730.jpg
END:VEVENT
BEGIN:VEVENT
DTSTART;TZID=America/Halifax:20270223T190000
DTEND;TZID=America/Halifax:20270223T220000
DTSTAMP:20260420T002324
CREATED:20251230T144520Z
LAST-MODIFIED:20260216T180159Z
UID:10004011-1803409200-1803420000@livemusichalifax.ca
SUMMARY:Leo Cox Trio
DESCRIPTION:Halifax’s Leo Cox Trio brings groove-driven modern jazz to Tuesday nights at The Economy Shoe Shop. No cover. Sit-ins welcome. \nTuesday Night Jazz at The Economy Shoe Shop features the Leo Cox Trio\, with Leo Cox on bass\, Ben Tucker on guitar\, and Dante Kierstead on drums. Held every Tuesday from 7:00 PM to 10:00 PM\, this weekly modern jazz residency offers evolving sets\, original music\, and spontaneous sit-ins in an intimate downtown Halifax setting. With no cover charge\, it is an easy way to experience groove-driven jazz and connect with Halifax’s vibrant jazz community.
URL:https://livemusichalifax.ca/event/economy-shoe-shop-2-2-2/2027-02-23/
LOCATION:Economy Shoe Shop\, 1663 Argyle St
ATTACH;FMTTYPE=image/jpeg:https://livemusichalifax.ca/wp-content/uploads/2025/09/economy-shoe-shop-e1757542636730.jpg
END:VEVENT
BEGIN:VEVENT
DTSTART;TZID=America/Halifax:20270302T190000
DTEND;TZID=America/Halifax:20270302T220000
DTSTAMP:20260420T002324
CREATED:20251230T144520Z
LAST-MODIFIED:20260216T180159Z
UID:10004012-1804014000-1804024800@livemusichalifax.ca
SUMMARY:Leo Cox Trio
DESCRIPTION:Halifax’s Leo Cox Trio brings groove-driven modern jazz to Tuesday nights at The Economy Shoe Shop. No cover. Sit-ins welcome. \nTuesday Night Jazz at The Economy Shoe Shop features the Leo Cox Trio\, with Leo Cox on bass\, Ben Tucker on guitar\, and Dante Kierstead on drums. Held every Tuesday from 7:00 PM to 10:00 PM\, this weekly modern jazz residency offers evolving sets\, original music\, and spontaneous sit-ins in an intimate downtown Halifax setting. With no cover charge\, it is an easy way to experience groove-driven jazz and connect with Halifax’s vibrant jazz community.
URL:https://livemusichalifax.ca/event/economy-shoe-shop-2-2-2/2027-03-02/
LOCATION:Economy Shoe Shop\, 1663 Argyle St
ATTACH;FMTTYPE=image/jpeg:https://livemusichalifax.ca/wp-content/uploads/2025/09/economy-shoe-shop-e1757542636730.jpg
END:VEVENT
BEGIN:VEVENT
DTSTART;TZID=America/Halifax:20270309T190000
DTEND;TZID=America/Halifax:20270309T220000
DTSTAMP:20260420T002324
CREATED:20251230T144520Z
LAST-MODIFIED:20260216T180159Z
UID:10004013-1804618800-1804629600@livemusichalifax.ca
SUMMARY:Leo Cox Trio
DESCRIPTION:Halifax’s Leo Cox Trio brings groove-driven modern jazz to Tuesday nights at The Economy Shoe Shop. No cover. Sit-ins welcome. \nTuesday Night Jazz at The Economy Shoe Shop features the Leo Cox Trio\, with Leo Cox on bass\, Ben Tucker on guitar\, and Dante Kierstead on drums. Held every Tuesday from 7:00 PM to 10:00 PM\, this weekly modern jazz residency offers evolving sets\, original music\, and spontaneous sit-ins in an intimate downtown Halifax setting. With no cover charge\, it is an easy way to experience groove-driven jazz and connect with Halifax’s vibrant jazz community.
URL:https://livemusichalifax.ca/event/economy-shoe-shop-2-2-2/2027-03-09/
LOCATION:Economy Shoe Shop\, 1663 Argyle St
ATTACH;FMTTYPE=image/jpeg:https://livemusichalifax.ca/wp-content/uploads/2025/09/economy-shoe-shop-e1757542636730.jpg
END:VEVENT
BEGIN:VEVENT
DTSTART;TZID=America/Halifax:20270316T190000
DTEND;TZID=America/Halifax:20270316T220000
DTSTAMP:20260420T002324
CREATED:20251230T144520Z
LAST-MODIFIED:20260216T180159Z
UID:10004014-1805223600-1805234400@livemusichalifax.ca
SUMMARY:Leo Cox Trio
DESCRIPTION:Halifax’s Leo Cox Trio brings groove-driven modern jazz to Tuesday nights at The Economy Shoe Shop. No cover. Sit-ins welcome. \nTuesday Night Jazz at The Economy Shoe Shop features the Leo Cox Trio\, with Leo Cox on bass\, Ben Tucker on guitar\, and Dante Kierstead on drums. Held every Tuesday from 7:00 PM to 10:00 PM\, this weekly modern jazz residency offers evolving sets\, original music\, and spontaneous sit-ins in an intimate downtown Halifax setting. With no cover charge\, it is an easy way to experience groove-driven jazz and connect with Halifax’s vibrant jazz community.
URL:https://livemusichalifax.ca/event/economy-shoe-shop-2-2-2/2027-03-16/
LOCATION:Economy Shoe Shop\, 1663 Argyle St
ATTACH;FMTTYPE=image/jpeg:https://livemusichalifax.ca/wp-content/uploads/2025/09/economy-shoe-shop-e1757542636730.jpg
END:VEVENT
BEGIN:VEVENT
DTSTART;TZID=America/Halifax:20270323T190000
DTEND;TZID=America/Halifax:20270323T220000
DTSTAMP:20260420T002324
CREATED:20251230T144520Z
LAST-MODIFIED:20260216T180159Z
UID:10004015-1805828400-1805839200@livemusichalifax.ca
SUMMARY:Leo Cox Trio
DESCRIPTION:Halifax’s Leo Cox Trio brings groove-driven modern jazz to Tuesday nights at The Economy Shoe Shop. No cover. Sit-ins welcome. \nTuesday Night Jazz at The Economy Shoe Shop features the Leo Cox Trio\, with Leo Cox on bass\, Ben Tucker on guitar\, and Dante Kierstead on drums. Held every Tuesday from 7:00 PM to 10:00 PM\, this weekly modern jazz residency offers evolving sets\, original music\, and spontaneous sit-ins in an intimate downtown Halifax setting. With no cover charge\, it is an easy way to experience groove-driven jazz and connect with Halifax’s vibrant jazz community.
URL:https://livemusichalifax.ca/event/economy-shoe-shop-2-2-2/2027-03-23/
LOCATION:Economy Shoe Shop\, 1663 Argyle St
ATTACH;FMTTYPE=image/jpeg:https://livemusichalifax.ca/wp-content/uploads/2025/09/economy-shoe-shop-e1757542636730.jpg
END:VEVENT
END:VCALENDAR