BEGIN:VCALENDAR
VERSION:2.0
PRODID:-//Live Music Halifax - ECPv6.15.20//NONSGML v1.0//EN
CALSCALE:GREGORIAN
METHOD:PUBLISH
X-ORIGINAL-URL:https://livemusichalifax.ca
X-WR-CALDESC:Events for Live Music Halifax
REFRESH-INTERVAL;VALUE=DURATION:PT1H
X-Robots-Tag:noindex
X-PUBLISHED-TTL:PT1H
BEGIN:VTIMEZONE
TZID:America/Halifax
BEGIN:DAYLIGHT
TZOFFSETFROM:-0400
TZOFFSETTO:-0300
TZNAME:ADT
DTSTART:20250309T060000
END:DAYLIGHT
BEGIN:STANDARD
TZOFFSETFROM:-0300
TZOFFSETTO:-0400
TZNAME:AST
DTSTART:20251102T050000
END:STANDARD
BEGIN:DAYLIGHT
TZOFFSETFROM:-0400
TZOFFSETTO:-0300
TZNAME:ADT
DTSTART:20260308T060000
END:DAYLIGHT
BEGIN:STANDARD
TZOFFSETFROM:-0300
TZOFFSETTO:-0400
TZNAME:AST
DTSTART:20261101T050000
END:STANDARD
BEGIN:DAYLIGHT
TZOFFSETFROM:-0400
TZOFFSETTO:-0300
TZNAME:ADT
DTSTART:20270314T060000
END:DAYLIGHT
BEGIN:STANDARD
TZOFFSETFROM:-0300
TZOFFSETTO:-0400
TZNAME:AST
DTSTART:20271107T050000
END:STANDARD
END:VTIMEZONE
BEGIN:VEVENT
DTSTART;TZID=America/Halifax:20260422T190000
DTEND;TZID=America/Halifax:20260422T220000
DTSTAMP:20260419T161936
CREATED:20251116T032245Z
LAST-MODIFIED:20251116T032245Z
UID:10003253-1776884400-1776895200@livemusichalifax.ca
SUMMARY:Live jazz with Matt Maclennan trio
DESCRIPTION:Matt MacLennan is a bassist and bandleader\, bringing a mix of velvety ballads\, smooth bossa novas\, and breezy swing to Obladee!\nYou can expect balanced and inviting sets with an easy and conversational style that fills the room without crowding it. Lean in and listen\, or simply let the sound and textures carry you away.\n\nPlease reserve your spot as seating is limited.
URL:https://livemusichalifax.ca/event/live-jazz-with-matt-maclennan-trio/2026-04-22/
LOCATION:Obladee wine bar\, 1600 Barrington St\, Halifax
ATTACH;FMTTYPE=image/webp:https://livemusichalifax.ca/wp-content/uploads/2025/11/mattmaclennan-trio-e1763263310998.webp
END:VEVENT
BEGIN:VEVENT
DTSTART;TZID=America/Halifax:20260429T190000
DTEND;TZID=America/Halifax:20260429T220000
DTSTAMP:20260419T161936
CREATED:20251116T032245Z
LAST-MODIFIED:20251116T032245Z
UID:10003254-1777489200-1777500000@livemusichalifax.ca
SUMMARY:Live jazz with Matt Maclennan trio
DESCRIPTION:Matt MacLennan is a bassist and bandleader\, bringing a mix of velvety ballads\, smooth bossa novas\, and breezy swing to Obladee!\nYou can expect balanced and inviting sets with an easy and conversational style that fills the room without crowding it. Lean in and listen\, or simply let the sound and textures carry you away.\n\nPlease reserve your spot as seating is limited.
URL:https://livemusichalifax.ca/event/live-jazz-with-matt-maclennan-trio/2026-04-29/
LOCATION:Obladee wine bar\, 1600 Barrington St\, Halifax
ATTACH;FMTTYPE=image/webp:https://livemusichalifax.ca/wp-content/uploads/2025/11/mattmaclennan-trio-e1763263310998.webp
END:VEVENT
BEGIN:VEVENT
DTSTART;TZID=America/Halifax:20260506T190000
DTEND;TZID=America/Halifax:20260506T220000
DTSTAMP:20260419T161936
CREATED:20251116T032245Z
LAST-MODIFIED:20251116T032245Z
UID:10003255-1778094000-1778104800@livemusichalifax.ca
SUMMARY:Live jazz with Matt Maclennan trio
DESCRIPTION:Matt MacLennan is a bassist and bandleader\, bringing a mix of velvety ballads\, smooth bossa novas\, and breezy swing to Obladee!\nYou can expect balanced and inviting sets with an easy and conversational style that fills the room without crowding it. Lean in and listen\, or simply let the sound and textures carry you away.\n\nPlease reserve your spot as seating is limited.
URL:https://livemusichalifax.ca/event/live-jazz-with-matt-maclennan-trio/2026-05-06/
LOCATION:Obladee wine bar\, 1600 Barrington St\, Halifax
ATTACH;FMTTYPE=image/webp:https://livemusichalifax.ca/wp-content/uploads/2025/11/mattmaclennan-trio-e1763263310998.webp
END:VEVENT
BEGIN:VEVENT
DTSTART;TZID=America/Halifax:20260513T190000
DTEND;TZID=America/Halifax:20260513T220000
DTSTAMP:20260419T161936
CREATED:20251116T032245Z
LAST-MODIFIED:20251116T032245Z
UID:10003256-1778698800-1778709600@livemusichalifax.ca
SUMMARY:Live jazz with Matt Maclennan trio
DESCRIPTION:Matt MacLennan is a bassist and bandleader\, bringing a mix of velvety ballads\, smooth bossa novas\, and breezy swing to Obladee!\nYou can expect balanced and inviting sets with an easy and conversational style that fills the room without crowding it. Lean in and listen\, or simply let the sound and textures carry you away.\n\nPlease reserve your spot as seating is limited.
URL:https://livemusichalifax.ca/event/live-jazz-with-matt-maclennan-trio/2026-05-13/
LOCATION:Obladee wine bar\, 1600 Barrington St\, Halifax
ATTACH;FMTTYPE=image/webp:https://livemusichalifax.ca/wp-content/uploads/2025/11/mattmaclennan-trio-e1763263310998.webp
END:VEVENT
BEGIN:VEVENT
DTSTART;TZID=America/Halifax:20260520T190000
DTEND;TZID=America/Halifax:20260520T220000
DTSTAMP:20260419T161936
CREATED:20251116T032245Z
LAST-MODIFIED:20251116T032245Z
UID:10003257-1779303600-1779314400@livemusichalifax.ca
SUMMARY:Live jazz with Matt Maclennan trio
DESCRIPTION:Matt MacLennan is a bassist and bandleader\, bringing a mix of velvety ballads\, smooth bossa novas\, and breezy swing to Obladee!\nYou can expect balanced and inviting sets with an easy and conversational style that fills the room without crowding it. Lean in and listen\, or simply let the sound and textures carry you away.\n\nPlease reserve your spot as seating is limited.
URL:https://livemusichalifax.ca/event/live-jazz-with-matt-maclennan-trio/2026-05-20/
LOCATION:Obladee wine bar\, 1600 Barrington St\, Halifax
ATTACH;FMTTYPE=image/webp:https://livemusichalifax.ca/wp-content/uploads/2025/11/mattmaclennan-trio-e1763263310998.webp
END:VEVENT
BEGIN:VEVENT
DTSTART;TZID=America/Halifax:20260527T190000
DTEND;TZID=America/Halifax:20260527T220000
DTSTAMP:20260419T161936
CREATED:20251116T032245Z
LAST-MODIFIED:20251116T032245Z
UID:10003258-1779908400-1779919200@livemusichalifax.ca
SUMMARY:Live jazz with Matt Maclennan trio
DESCRIPTION:Matt MacLennan is a bassist and bandleader\, bringing a mix of velvety ballads\, smooth bossa novas\, and breezy swing to Obladee!\nYou can expect balanced and inviting sets with an easy and conversational style that fills the room without crowding it. Lean in and listen\, or simply let the sound and textures carry you away.\n\nPlease reserve your spot as seating is limited.
URL:https://livemusichalifax.ca/event/live-jazz-with-matt-maclennan-trio/2026-05-27/
LOCATION:Obladee wine bar\, 1600 Barrington St\, Halifax
ATTACH;FMTTYPE=image/webp:https://livemusichalifax.ca/wp-content/uploads/2025/11/mattmaclennan-trio-e1763263310998.webp
END:VEVENT
BEGIN:VEVENT
DTSTART;TZID=America/Halifax:20260603T190000
DTEND;TZID=America/Halifax:20260603T220000
DTSTAMP:20260419T161936
CREATED:20251116T032245Z
LAST-MODIFIED:20251116T032245Z
UID:10003259-1780513200-1780524000@livemusichalifax.ca
SUMMARY:Live jazz with Matt Maclennan trio
DESCRIPTION:Matt MacLennan is a bassist and bandleader\, bringing a mix of velvety ballads\, smooth bossa novas\, and breezy swing to Obladee!\nYou can expect balanced and inviting sets with an easy and conversational style that fills the room without crowding it. Lean in and listen\, or simply let the sound and textures carry you away.\n\nPlease reserve your spot as seating is limited.
URL:https://livemusichalifax.ca/event/live-jazz-with-matt-maclennan-trio/2026-06-03/
LOCATION:Obladee wine bar\, 1600 Barrington St\, Halifax
ATTACH;FMTTYPE=image/webp:https://livemusichalifax.ca/wp-content/uploads/2025/11/mattmaclennan-trio-e1763263310998.webp
END:VEVENT
BEGIN:VEVENT
DTSTART;TZID=America/Halifax:20260610T190000
DTEND;TZID=America/Halifax:20260610T220000
DTSTAMP:20260419T161936
CREATED:20251116T032245Z
LAST-MODIFIED:20251116T032245Z
UID:10003260-1781118000-1781128800@livemusichalifax.ca
SUMMARY:Live jazz with Matt Maclennan trio
DESCRIPTION:Matt MacLennan is a bassist and bandleader\, bringing a mix of velvety ballads\, smooth bossa novas\, and breezy swing to Obladee!\nYou can expect balanced and inviting sets with an easy and conversational style that fills the room without crowding it. Lean in and listen\, or simply let the sound and textures carry you away.\n\nPlease reserve your spot as seating is limited.
URL:https://livemusichalifax.ca/event/live-jazz-with-matt-maclennan-trio/2026-06-10/
LOCATION:Obladee wine bar\, 1600 Barrington St\, Halifax
ATTACH;FMTTYPE=image/webp:https://livemusichalifax.ca/wp-content/uploads/2025/11/mattmaclennan-trio-e1763263310998.webp
END:VEVENT
BEGIN:VEVENT
DTSTART;TZID=America/Halifax:20260617T190000
DTEND;TZID=America/Halifax:20260617T220000
DTSTAMP:20260419T161936
CREATED:20251116T032245Z
LAST-MODIFIED:20251116T032245Z
UID:10003261-1781722800-1781733600@livemusichalifax.ca
SUMMARY:Live jazz with Matt Maclennan trio
DESCRIPTION:Matt MacLennan is a bassist and bandleader\, bringing a mix of velvety ballads\, smooth bossa novas\, and breezy swing to Obladee!\nYou can expect balanced and inviting sets with an easy and conversational style that fills the room without crowding it. Lean in and listen\, or simply let the sound and textures carry you away.\n\nPlease reserve your spot as seating is limited.
URL:https://livemusichalifax.ca/event/live-jazz-with-matt-maclennan-trio/2026-06-17/
LOCATION:Obladee wine bar\, 1600 Barrington St\, Halifax
ATTACH;FMTTYPE=image/webp:https://livemusichalifax.ca/wp-content/uploads/2025/11/mattmaclennan-trio-e1763263310998.webp
END:VEVENT
BEGIN:VEVENT
DTSTART;TZID=America/Halifax:20260624T190000
DTEND;TZID=America/Halifax:20260624T220000
DTSTAMP:20260419T161936
CREATED:20251116T032245Z
LAST-MODIFIED:20251116T032245Z
UID:10003262-1782327600-1782338400@livemusichalifax.ca
SUMMARY:Live jazz with Matt Maclennan trio
DESCRIPTION:Matt MacLennan is a bassist and bandleader\, bringing a mix of velvety ballads\, smooth bossa novas\, and breezy swing to Obladee!\nYou can expect balanced and inviting sets with an easy and conversational style that fills the room without crowding it. Lean in and listen\, or simply let the sound and textures carry you away.\n\nPlease reserve your spot as seating is limited.
URL:https://livemusichalifax.ca/event/live-jazz-with-matt-maclennan-trio/2026-06-24/
LOCATION:Obladee wine bar\, 1600 Barrington St\, Halifax
ATTACH;FMTTYPE=image/webp:https://livemusichalifax.ca/wp-content/uploads/2025/11/mattmaclennan-trio-e1763263310998.webp
END:VEVENT
BEGIN:VEVENT
DTSTART;TZID=America/Halifax:20260701T190000
DTEND;TZID=America/Halifax:20260701T220000
DTSTAMP:20260419T161936
CREATED:20251116T032245Z
LAST-MODIFIED:20251116T032245Z
UID:10003263-1782932400-1782943200@livemusichalifax.ca
SUMMARY:Live jazz with Matt Maclennan trio
DESCRIPTION:Matt MacLennan is a bassist and bandleader\, bringing a mix of velvety ballads\, smooth bossa novas\, and breezy swing to Obladee!\nYou can expect balanced and inviting sets with an easy and conversational style that fills the room without crowding it. Lean in and listen\, or simply let the sound and textures carry you away.\n\nPlease reserve your spot as seating is limited.
URL:https://livemusichalifax.ca/event/live-jazz-with-matt-maclennan-trio/2026-07-01/
LOCATION:Obladee wine bar\, 1600 Barrington St\, Halifax
ATTACH;FMTTYPE=image/webp:https://livemusichalifax.ca/wp-content/uploads/2025/11/mattmaclennan-trio-e1763263310998.webp
END:VEVENT
BEGIN:VEVENT
DTSTART;TZID=America/Halifax:20260708T190000
DTEND;TZID=America/Halifax:20260708T220000
DTSTAMP:20260419T161936
CREATED:20251116T032245Z
LAST-MODIFIED:20251116T032245Z
UID:10003264-1783537200-1783548000@livemusichalifax.ca
SUMMARY:Live jazz with Matt Maclennan trio
DESCRIPTION:Matt MacLennan is a bassist and bandleader\, bringing a mix of velvety ballads\, smooth bossa novas\, and breezy swing to Obladee!\nYou can expect balanced and inviting sets with an easy and conversational style that fills the room without crowding it. Lean in and listen\, or simply let the sound and textures carry you away.\n\nPlease reserve your spot as seating is limited.
URL:https://livemusichalifax.ca/event/live-jazz-with-matt-maclennan-trio/2026-07-08/
LOCATION:Obladee wine bar\, 1600 Barrington St\, Halifax
ATTACH;FMTTYPE=image/webp:https://livemusichalifax.ca/wp-content/uploads/2025/11/mattmaclennan-trio-e1763263310998.webp
END:VEVENT
BEGIN:VEVENT
DTSTART;TZID=America/Halifax:20260715T190000
DTEND;TZID=America/Halifax:20260715T220000
DTSTAMP:20260419T161936
CREATED:20251116T032245Z
LAST-MODIFIED:20251116T032245Z
UID:10003265-1784142000-1784152800@livemusichalifax.ca
SUMMARY:Live jazz with Matt Maclennan trio
DESCRIPTION:Matt MacLennan is a bassist and bandleader\, bringing a mix of velvety ballads\, smooth bossa novas\, and breezy swing to Obladee!\nYou can expect balanced and inviting sets with an easy and conversational style that fills the room without crowding it. Lean in and listen\, or simply let the sound and textures carry you away.\n\nPlease reserve your spot as seating is limited.
URL:https://livemusichalifax.ca/event/live-jazz-with-matt-maclennan-trio/2026-07-15/
LOCATION:Obladee wine bar\, 1600 Barrington St\, Halifax
ATTACH;FMTTYPE=image/webp:https://livemusichalifax.ca/wp-content/uploads/2025/11/mattmaclennan-trio-e1763263310998.webp
END:VEVENT
BEGIN:VEVENT
DTSTART;TZID=America/Halifax:20260722T190000
DTEND;TZID=America/Halifax:20260722T220000
DTSTAMP:20260419T161936
CREATED:20251116T032245Z
LAST-MODIFIED:20251116T032245Z
UID:10003266-1784746800-1784757600@livemusichalifax.ca
SUMMARY:Live jazz with Matt Maclennan trio
DESCRIPTION:Matt MacLennan is a bassist and bandleader\, bringing a mix of velvety ballads\, smooth bossa novas\, and breezy swing to Obladee!\nYou can expect balanced and inviting sets with an easy and conversational style that fills the room without crowding it. Lean in and listen\, or simply let the sound and textures carry you away.\n\nPlease reserve your spot as seating is limited.
URL:https://livemusichalifax.ca/event/live-jazz-with-matt-maclennan-trio/2026-07-22/
LOCATION:Obladee wine bar\, 1600 Barrington St\, Halifax
ATTACH;FMTTYPE=image/webp:https://livemusichalifax.ca/wp-content/uploads/2025/11/mattmaclennan-trio-e1763263310998.webp
END:VEVENT
BEGIN:VEVENT
DTSTART;TZID=America/Halifax:20260729T190000
DTEND;TZID=America/Halifax:20260729T220000
DTSTAMP:20260419T161936
CREATED:20251116T032245Z
LAST-MODIFIED:20251116T032245Z
UID:10003267-1785351600-1785362400@livemusichalifax.ca
SUMMARY:Live jazz with Matt Maclennan trio
DESCRIPTION:Matt MacLennan is a bassist and bandleader\, bringing a mix of velvety ballads\, smooth bossa novas\, and breezy swing to Obladee!\nYou can expect balanced and inviting sets with an easy and conversational style that fills the room without crowding it. Lean in and listen\, or simply let the sound and textures carry you away.\n\nPlease reserve your spot as seating is limited.
URL:https://livemusichalifax.ca/event/live-jazz-with-matt-maclennan-trio/2026-07-29/
LOCATION:Obladee wine bar\, 1600 Barrington St\, Halifax
ATTACH;FMTTYPE=image/webp:https://livemusichalifax.ca/wp-content/uploads/2025/11/mattmaclennan-trio-e1763263310998.webp
END:VEVENT
BEGIN:VEVENT
DTSTART;TZID=America/Halifax:20260805T190000
DTEND;TZID=America/Halifax:20260805T220000
DTSTAMP:20260419T161936
CREATED:20251116T032245Z
LAST-MODIFIED:20251116T032245Z
UID:10003268-1785956400-1785967200@livemusichalifax.ca
SUMMARY:Live jazz with Matt Maclennan trio
DESCRIPTION:Matt MacLennan is a bassist and bandleader\, bringing a mix of velvety ballads\, smooth bossa novas\, and breezy swing to Obladee!\nYou can expect balanced and inviting sets with an easy and conversational style that fills the room without crowding it. Lean in and listen\, or simply let the sound and textures carry you away.\n\nPlease reserve your spot as seating is limited.
URL:https://livemusichalifax.ca/event/live-jazz-with-matt-maclennan-trio/2026-08-05/
LOCATION:Obladee wine bar\, 1600 Barrington St\, Halifax
ATTACH;FMTTYPE=image/webp:https://livemusichalifax.ca/wp-content/uploads/2025/11/mattmaclennan-trio-e1763263310998.webp
END:VEVENT
BEGIN:VEVENT
DTSTART;TZID=America/Halifax:20260812T190000
DTEND;TZID=America/Halifax:20260812T220000
DTSTAMP:20260419T161936
CREATED:20251116T032245Z
LAST-MODIFIED:20251116T032245Z
UID:10003269-1786561200-1786572000@livemusichalifax.ca
SUMMARY:Live jazz with Matt Maclennan trio
DESCRIPTION:Matt MacLennan is a bassist and bandleader\, bringing a mix of velvety ballads\, smooth bossa novas\, and breezy swing to Obladee!\nYou can expect balanced and inviting sets with an easy and conversational style that fills the room without crowding it. Lean in and listen\, or simply let the sound and textures carry you away.\n\nPlease reserve your spot as seating is limited.
URL:https://livemusichalifax.ca/event/live-jazz-with-matt-maclennan-trio/2026-08-12/
LOCATION:Obladee wine bar\, 1600 Barrington St\, Halifax
ATTACH;FMTTYPE=image/webp:https://livemusichalifax.ca/wp-content/uploads/2025/11/mattmaclennan-trio-e1763263310998.webp
END:VEVENT
BEGIN:VEVENT
DTSTART;TZID=America/Halifax:20260819T190000
DTEND;TZID=America/Halifax:20260819T220000
DTSTAMP:20260419T161936
CREATED:20251116T032245Z
LAST-MODIFIED:20251116T032245Z
UID:10003270-1787166000-1787176800@livemusichalifax.ca
SUMMARY:Live jazz with Matt Maclennan trio
DESCRIPTION:Matt MacLennan is a bassist and bandleader\, bringing a mix of velvety ballads\, smooth bossa novas\, and breezy swing to Obladee!\nYou can expect balanced and inviting sets with an easy and conversational style that fills the room without crowding it. Lean in and listen\, or simply let the sound and textures carry you away.\n\nPlease reserve your spot as seating is limited.
URL:https://livemusichalifax.ca/event/live-jazz-with-matt-maclennan-trio/2026-08-19/
LOCATION:Obladee wine bar\, 1600 Barrington St\, Halifax
ATTACH;FMTTYPE=image/webp:https://livemusichalifax.ca/wp-content/uploads/2025/11/mattmaclennan-trio-e1763263310998.webp
END:VEVENT
BEGIN:VEVENT
DTSTART;TZID=America/Halifax:20260826T190000
DTEND;TZID=America/Halifax:20260826T220000
DTSTAMP:20260419T161936
CREATED:20251116T032245Z
LAST-MODIFIED:20251116T032245Z
UID:10003271-1787770800-1787781600@livemusichalifax.ca
SUMMARY:Live jazz with Matt Maclennan trio
DESCRIPTION:Matt MacLennan is a bassist and bandleader\, bringing a mix of velvety ballads\, smooth bossa novas\, and breezy swing to Obladee!\nYou can expect balanced and inviting sets with an easy and conversational style that fills the room without crowding it. Lean in and listen\, or simply let the sound and textures carry you away.\n\nPlease reserve your spot as seating is limited.
URL:https://livemusichalifax.ca/event/live-jazz-with-matt-maclennan-trio/2026-08-26/
LOCATION:Obladee wine bar\, 1600 Barrington St\, Halifax
ATTACH;FMTTYPE=image/webp:https://livemusichalifax.ca/wp-content/uploads/2025/11/mattmaclennan-trio-e1763263310998.webp
END:VEVENT
BEGIN:VEVENT
DTSTART;TZID=America/Halifax:20260902T190000
DTEND;TZID=America/Halifax:20260902T220000
DTSTAMP:20260419T161936
CREATED:20251116T032245Z
LAST-MODIFIED:20251116T032245Z
UID:10003272-1788375600-1788386400@livemusichalifax.ca
SUMMARY:Live jazz with Matt Maclennan trio
DESCRIPTION:Matt MacLennan is a bassist and bandleader\, bringing a mix of velvety ballads\, smooth bossa novas\, and breezy swing to Obladee!\nYou can expect balanced and inviting sets with an easy and conversational style that fills the room without crowding it. Lean in and listen\, or simply let the sound and textures carry you away.\n\nPlease reserve your spot as seating is limited.
URL:https://livemusichalifax.ca/event/live-jazz-with-matt-maclennan-trio/2026-09-02/
LOCATION:Obladee wine bar\, 1600 Barrington St\, Halifax
ATTACH;FMTTYPE=image/webp:https://livemusichalifax.ca/wp-content/uploads/2025/11/mattmaclennan-trio-e1763263310998.webp
END:VEVENT
BEGIN:VEVENT
DTSTART;TZID=America/Halifax:20260909T190000
DTEND;TZID=America/Halifax:20260909T220000
DTSTAMP:20260419T161936
CREATED:20251116T032245Z
LAST-MODIFIED:20251116T032245Z
UID:10003273-1788980400-1788991200@livemusichalifax.ca
SUMMARY:Live jazz with Matt Maclennan trio
DESCRIPTION:Matt MacLennan is a bassist and bandleader\, bringing a mix of velvety ballads\, smooth bossa novas\, and breezy swing to Obladee!\nYou can expect balanced and inviting sets with an easy and conversational style that fills the room without crowding it. Lean in and listen\, or simply let the sound and textures carry you away.\n\nPlease reserve your spot as seating is limited.
URL:https://livemusichalifax.ca/event/live-jazz-with-matt-maclennan-trio/2026-09-09/
LOCATION:Obladee wine bar\, 1600 Barrington St\, Halifax
ATTACH;FMTTYPE=image/webp:https://livemusichalifax.ca/wp-content/uploads/2025/11/mattmaclennan-trio-e1763263310998.webp
END:VEVENT
BEGIN:VEVENT
DTSTART;TZID=America/Halifax:20260916T190000
DTEND;TZID=America/Halifax:20260916T220000
DTSTAMP:20260419T161936
CREATED:20251116T032245Z
LAST-MODIFIED:20251116T032245Z
UID:10003274-1789585200-1789596000@livemusichalifax.ca
SUMMARY:Live jazz with Matt Maclennan trio
DESCRIPTION:Matt MacLennan is a bassist and bandleader\, bringing a mix of velvety ballads\, smooth bossa novas\, and breezy swing to Obladee!\nYou can expect balanced and inviting sets with an easy and conversational style that fills the room without crowding it. Lean in and listen\, or simply let the sound and textures carry you away.\n\nPlease reserve your spot as seating is limited.
URL:https://livemusichalifax.ca/event/live-jazz-with-matt-maclennan-trio/2026-09-16/
LOCATION:Obladee wine bar\, 1600 Barrington St\, Halifax
ATTACH;FMTTYPE=image/webp:https://livemusichalifax.ca/wp-content/uploads/2025/11/mattmaclennan-trio-e1763263310998.webp
END:VEVENT
BEGIN:VEVENT
DTSTART;TZID=America/Halifax:20260923T190000
DTEND;TZID=America/Halifax:20260923T220000
DTSTAMP:20260419T161936
CREATED:20251116T032245Z
LAST-MODIFIED:20251116T032245Z
UID:10003275-1790190000-1790200800@livemusichalifax.ca
SUMMARY:Live jazz with Matt Maclennan trio
DESCRIPTION:Matt MacLennan is a bassist and bandleader\, bringing a mix of velvety ballads\, smooth bossa novas\, and breezy swing to Obladee!\nYou can expect balanced and inviting sets with an easy and conversational style that fills the room without crowding it. Lean in and listen\, or simply let the sound and textures carry you away.\n\nPlease reserve your spot as seating is limited.
URL:https://livemusichalifax.ca/event/live-jazz-with-matt-maclennan-trio/2026-09-23/
LOCATION:Obladee wine bar\, 1600 Barrington St\, Halifax
ATTACH;FMTTYPE=image/webp:https://livemusichalifax.ca/wp-content/uploads/2025/11/mattmaclennan-trio-e1763263310998.webp
END:VEVENT
BEGIN:VEVENT
DTSTART;TZID=America/Halifax:20260930T190000
DTEND;TZID=America/Halifax:20260930T220000
DTSTAMP:20260419T161936
CREATED:20251116T032245Z
LAST-MODIFIED:20251116T032245Z
UID:10003276-1790794800-1790805600@livemusichalifax.ca
SUMMARY:Live jazz with Matt Maclennan trio
DESCRIPTION:Matt MacLennan is a bassist and bandleader\, bringing a mix of velvety ballads\, smooth bossa novas\, and breezy swing to Obladee!\nYou can expect balanced and inviting sets with an easy and conversational style that fills the room without crowding it. Lean in and listen\, or simply let the sound and textures carry you away.\n\nPlease reserve your spot as seating is limited.
URL:https://livemusichalifax.ca/event/live-jazz-with-matt-maclennan-trio/2026-09-30/
LOCATION:Obladee wine bar\, 1600 Barrington St\, Halifax
ATTACH;FMTTYPE=image/webp:https://livemusichalifax.ca/wp-content/uploads/2025/11/mattmaclennan-trio-e1763263310998.webp
END:VEVENT
BEGIN:VEVENT
DTSTART;TZID=America/Halifax:20261007T190000
DTEND;TZID=America/Halifax:20261007T220000
DTSTAMP:20260419T161936
CREATED:20251116T032245Z
LAST-MODIFIED:20251116T032245Z
UID:10003277-1791399600-1791410400@livemusichalifax.ca
SUMMARY:Live jazz with Matt Maclennan trio
DESCRIPTION:Matt MacLennan is a bassist and bandleader\, bringing a mix of velvety ballads\, smooth bossa novas\, and breezy swing to Obladee!\nYou can expect balanced and inviting sets with an easy and conversational style that fills the room without crowding it. Lean in and listen\, or simply let the sound and textures carry you away.\n\nPlease reserve your spot as seating is limited.
URL:https://livemusichalifax.ca/event/live-jazz-with-matt-maclennan-trio/2026-10-07/
LOCATION:Obladee wine bar\, 1600 Barrington St\, Halifax
ATTACH;FMTTYPE=image/webp:https://livemusichalifax.ca/wp-content/uploads/2025/11/mattmaclennan-trio-e1763263310998.webp
END:VEVENT
BEGIN:VEVENT
DTSTART;TZID=America/Halifax:20261014T190000
DTEND;TZID=America/Halifax:20261014T220000
DTSTAMP:20260419T161936
CREATED:20251116T032245Z
LAST-MODIFIED:20251116T032245Z
UID:10003278-1792004400-1792015200@livemusichalifax.ca
SUMMARY:Live jazz with Matt Maclennan trio
DESCRIPTION:Matt MacLennan is a bassist and bandleader\, bringing a mix of velvety ballads\, smooth bossa novas\, and breezy swing to Obladee!\nYou can expect balanced and inviting sets with an easy and conversational style that fills the room without crowding it. Lean in and listen\, or simply let the sound and textures carry you away.\n\nPlease reserve your spot as seating is limited.
URL:https://livemusichalifax.ca/event/live-jazz-with-matt-maclennan-trio/2026-10-14/
LOCATION:Obladee wine bar\, 1600 Barrington St\, Halifax
ATTACH;FMTTYPE=image/webp:https://livemusichalifax.ca/wp-content/uploads/2025/11/mattmaclennan-trio-e1763263310998.webp
END:VEVENT
BEGIN:VEVENT
DTSTART;TZID=America/Halifax:20261021T190000
DTEND;TZID=America/Halifax:20261021T220000
DTSTAMP:20260419T161936
CREATED:20251116T032245Z
LAST-MODIFIED:20251116T032245Z
UID:10003279-1792609200-1792620000@livemusichalifax.ca
SUMMARY:Live jazz with Matt Maclennan trio
DESCRIPTION:Matt MacLennan is a bassist and bandleader\, bringing a mix of velvety ballads\, smooth bossa novas\, and breezy swing to Obladee!\nYou can expect balanced and inviting sets with an easy and conversational style that fills the room without crowding it. Lean in and listen\, or simply let the sound and textures carry you away.\n\nPlease reserve your spot as seating is limited.
URL:https://livemusichalifax.ca/event/live-jazz-with-matt-maclennan-trio/2026-10-21/
LOCATION:Obladee wine bar\, 1600 Barrington St\, Halifax
ATTACH;FMTTYPE=image/webp:https://livemusichalifax.ca/wp-content/uploads/2025/11/mattmaclennan-trio-e1763263310998.webp
END:VEVENT
BEGIN:VEVENT
DTSTART;TZID=America/Halifax:20261028T190000
DTEND;TZID=America/Halifax:20261028T220000
DTSTAMP:20260419T161936
CREATED:20251116T032245Z
LAST-MODIFIED:20251116T032245Z
UID:10003280-1793214000-1793224800@livemusichalifax.ca
SUMMARY:Live jazz with Matt Maclennan trio
DESCRIPTION:Matt MacLennan is a bassist and bandleader\, bringing a mix of velvety ballads\, smooth bossa novas\, and breezy swing to Obladee!\nYou can expect balanced and inviting sets with an easy and conversational style that fills the room without crowding it. Lean in and listen\, or simply let the sound and textures carry you away.\n\nPlease reserve your spot as seating is limited.
URL:https://livemusichalifax.ca/event/live-jazz-with-matt-maclennan-trio/2026-10-28/
LOCATION:Obladee wine bar\, 1600 Barrington St\, Halifax
ATTACH;FMTTYPE=image/webp:https://livemusichalifax.ca/wp-content/uploads/2025/11/mattmaclennan-trio-e1763263310998.webp
END:VEVENT
BEGIN:VEVENT
DTSTART;TZID=America/Halifax:20261104T190000
DTEND;TZID=America/Halifax:20261104T220000
DTSTAMP:20260419T161936
CREATED:20251116T032245Z
LAST-MODIFIED:20251116T032245Z
UID:10003281-1793818800-1793829600@livemusichalifax.ca
SUMMARY:Live jazz with Matt Maclennan trio
DESCRIPTION:Matt MacLennan is a bassist and bandleader\, bringing a mix of velvety ballads\, smooth bossa novas\, and breezy swing to Obladee!\nYou can expect balanced and inviting sets with an easy and conversational style that fills the room without crowding it. Lean in and listen\, or simply let the sound and textures carry you away.\n\nPlease reserve your spot as seating is limited.
URL:https://livemusichalifax.ca/event/live-jazz-with-matt-maclennan-trio/2026-11-04/
LOCATION:Obladee wine bar\, 1600 Barrington St\, Halifax
ATTACH;FMTTYPE=image/webp:https://livemusichalifax.ca/wp-content/uploads/2025/11/mattmaclennan-trio-e1763263310998.webp
END:VEVENT
BEGIN:VEVENT
DTSTART;TZID=America/Halifax:20261111T190000
DTEND;TZID=America/Halifax:20261111T220000
DTSTAMP:20260419T161936
CREATED:20251116T032245Z
LAST-MODIFIED:20251116T032245Z
UID:10003282-1794423600-1794434400@livemusichalifax.ca
SUMMARY:Live jazz with Matt Maclennan trio
DESCRIPTION:Matt MacLennan is a bassist and bandleader\, bringing a mix of velvety ballads\, smooth bossa novas\, and breezy swing to Obladee!\nYou can expect balanced and inviting sets with an easy and conversational style that fills the room without crowding it. Lean in and listen\, or simply let the sound and textures carry you away.\n\nPlease reserve your spot as seating is limited.
URL:https://livemusichalifax.ca/event/live-jazz-with-matt-maclennan-trio/2026-11-11/
LOCATION:Obladee wine bar\, 1600 Barrington St\, Halifax
ATTACH;FMTTYPE=image/webp:https://livemusichalifax.ca/wp-content/uploads/2025/11/mattmaclennan-trio-e1763263310998.webp
END:VEVENT
END:VCALENDAR