BEGIN:VCALENDAR
VERSION:2.0
PRODID:-//Live Music Halifax - ECPv6.15.20//NONSGML v1.0//EN
CALSCALE:GREGORIAN
METHOD:PUBLISH
X-WR-CALNAME:Live Music Halifax
X-ORIGINAL-URL:https://livemusichalifax.ca
X-WR-CALDESC:Events for Live Music Halifax
REFRESH-INTERVAL;VALUE=DURATION:PT1H
X-Robots-Tag:noindex
X-PUBLISHED-TTL:PT1H
BEGIN:VTIMEZONE
TZID:America/Halifax
BEGIN:DAYLIGHT
TZOFFSETFROM:-0400
TZOFFSETTO:-0300
TZNAME:ADT
DTSTART:20250309T060000
END:DAYLIGHT
BEGIN:STANDARD
TZOFFSETFROM:-0300
TZOFFSETTO:-0400
TZNAME:AST
DTSTART:20251102T050000
END:STANDARD
BEGIN:DAYLIGHT
TZOFFSETFROM:-0400
TZOFFSETTO:-0300
TZNAME:ADT
DTSTART:20260308T060000
END:DAYLIGHT
BEGIN:STANDARD
TZOFFSETFROM:-0300
TZOFFSETTO:-0400
TZNAME:AST
DTSTART:20261101T050000
END:STANDARD
BEGIN:DAYLIGHT
TZOFFSETFROM:-0400
TZOFFSETTO:-0300
TZNAME:ADT
DTSTART:20270314T060000
END:DAYLIGHT
BEGIN:STANDARD
TZOFFSETFROM:-0300
TZOFFSETTO:-0400
TZNAME:AST
DTSTART:20271107T050000
END:STANDARD
END:VTIMEZONE
BEGIN:VEVENT
DTSTART;TZID=America/Halifax:20260427T190000
DTEND;TZID=America/Halifax:20260427T220000
DTSTAMP:20260423T211025
CREATED:20260423T155355Z
LAST-MODIFIED:20260423T160115Z
UID:10004558-1777316400-1777327200@livemusichalifax.ca
SUMMARY:Bus Stop Jazz Jam
DESCRIPTION:Join us for jazz jams in the Bus Stop Theatre Lobby\nAll levels welcome. \nBar open for business. \nWe play jazz standards so bring your Facebooks.
URL:https://livemusichalifax.ca/event/bus-stop-jazz-jam/2026-04-27/
LOCATION:Bus Stop Theatre Co-op\, 2203 Gottingen St
ATTACH;FMTTYPE=image/jpeg:https://livemusichalifax.ca/wp-content/uploads/2026/04/Bus-Stop-e1776959695428.jpg
END:VEVENT
BEGIN:VEVENT
DTSTART;TZID=America/Halifax:20260511T190000
DTEND;TZID=America/Halifax:20260511T220000
DTSTAMP:20260423T211025
CREATED:20260423T155355Z
LAST-MODIFIED:20260423T160115Z
UID:10004559-1778526000-1778536800@livemusichalifax.ca
SUMMARY:Bus Stop Jazz Jam
DESCRIPTION:Join us for jazz jams in the Bus Stop Theatre Lobby\nAll levels welcome. \nBar open for business. \nWe play jazz standards so bring your Facebooks.
URL:https://livemusichalifax.ca/event/bus-stop-jazz-jam/2026-05-11/
LOCATION:Bus Stop Theatre Co-op\, 2203 Gottingen St
ATTACH;FMTTYPE=image/jpeg:https://livemusichalifax.ca/wp-content/uploads/2026/04/Bus-Stop-e1776959695428.jpg
END:VEVENT
BEGIN:VEVENT
DTSTART;TZID=America/Halifax:20260518T190000
DTEND;TZID=America/Halifax:20260518T220000
DTSTAMP:20260423T211025
CREATED:20260423T155355Z
LAST-MODIFIED:20260423T160115Z
UID:10004560-1779130800-1779141600@livemusichalifax.ca
SUMMARY:Bus Stop Jazz Jam
DESCRIPTION:Join us for jazz jams in the Bus Stop Theatre Lobby\nAll levels welcome. \nBar open for business. \nWe play jazz standards so bring your Facebooks.
URL:https://livemusichalifax.ca/event/bus-stop-jazz-jam/2026-05-18/
LOCATION:Bus Stop Theatre Co-op\, 2203 Gottingen St
ATTACH;FMTTYPE=image/jpeg:https://livemusichalifax.ca/wp-content/uploads/2026/04/Bus-Stop-e1776959695428.jpg
END:VEVENT
BEGIN:VEVENT
DTSTART;TZID=America/Halifax:20260601T190000
DTEND;TZID=America/Halifax:20260601T220000
DTSTAMP:20260423T211025
CREATED:20260423T155355Z
LAST-MODIFIED:20260423T160115Z
UID:10004561-1780340400-1780351200@livemusichalifax.ca
SUMMARY:Bus Stop Jazz Jam
DESCRIPTION:Join us for jazz jams in the Bus Stop Theatre Lobby\nAll levels welcome. \nBar open for business. \nWe play jazz standards so bring your Facebooks.
URL:https://livemusichalifax.ca/event/bus-stop-jazz-jam/2026-06-01/
LOCATION:Bus Stop Theatre Co-op\, 2203 Gottingen St
ATTACH;FMTTYPE=image/jpeg:https://livemusichalifax.ca/wp-content/uploads/2026/04/Bus-Stop-e1776959695428.jpg
END:VEVENT
BEGIN:VEVENT
DTSTART;TZID=America/Halifax:20260615T190000
DTEND;TZID=America/Halifax:20260615T220000
DTSTAMP:20260423T211025
CREATED:20260423T155355Z
LAST-MODIFIED:20260423T160115Z
UID:10004562-1781550000-1781560800@livemusichalifax.ca
SUMMARY:Bus Stop Jazz Jam
DESCRIPTION:Join us for jazz jams in the Bus Stop Theatre Lobby\nAll levels welcome. \nBar open for business. \nWe play jazz standards so bring your Facebooks.
URL:https://livemusichalifax.ca/event/bus-stop-jazz-jam/2026-06-15/
LOCATION:Bus Stop Theatre Co-op\, 2203 Gottingen St
ATTACH;FMTTYPE=image/jpeg:https://livemusichalifax.ca/wp-content/uploads/2026/04/Bus-Stop-e1776959695428.jpg
END:VEVENT
BEGIN:VEVENT
DTSTART;TZID=America/Halifax:20260706T190000
DTEND;TZID=America/Halifax:20260706T220000
DTSTAMP:20260423T211025
CREATED:20260423T155355Z
LAST-MODIFIED:20260423T160115Z
UID:10004563-1783364400-1783375200@livemusichalifax.ca
SUMMARY:Bus Stop Jazz Jam
DESCRIPTION:Join us for jazz jams in the Bus Stop Theatre Lobby\nAll levels welcome. \nBar open for business. \nWe play jazz standards so bring your Facebooks.
URL:https://livemusichalifax.ca/event/bus-stop-jazz-jam/2026-07-06/
LOCATION:Bus Stop Theatre Co-op\, 2203 Gottingen St
ATTACH;FMTTYPE=image/jpeg:https://livemusichalifax.ca/wp-content/uploads/2026/04/Bus-Stop-e1776959695428.jpg
END:VEVENT
BEGIN:VEVENT
DTSTART;TZID=America/Halifax:20260720T190000
DTEND;TZID=America/Halifax:20260720T220000
DTSTAMP:20260423T211025
CREATED:20260423T155355Z
LAST-MODIFIED:20260423T160115Z
UID:10004564-1784574000-1784584800@livemusichalifax.ca
SUMMARY:Bus Stop Jazz Jam
DESCRIPTION:Join us for jazz jams in the Bus Stop Theatre Lobby\nAll levels welcome. \nBar open for business. \nWe play jazz standards so bring your Facebooks.
URL:https://livemusichalifax.ca/event/bus-stop-jazz-jam/2026-07-20/
LOCATION:Bus Stop Theatre Co-op\, 2203 Gottingen St
ATTACH;FMTTYPE=image/jpeg:https://livemusichalifax.ca/wp-content/uploads/2026/04/Bus-Stop-e1776959695428.jpg
END:VEVENT
BEGIN:VEVENT
DTSTART;TZID=America/Halifax:20260803T190000
DTEND;TZID=America/Halifax:20260803T220000
DTSTAMP:20260423T211025
CREATED:20260423T155355Z
LAST-MODIFIED:20260423T160115Z
UID:10004565-1785783600-1785794400@livemusichalifax.ca
SUMMARY:Bus Stop Jazz Jam
DESCRIPTION:Join us for jazz jams in the Bus Stop Theatre Lobby\nAll levels welcome. \nBar open for business. \nWe play jazz standards so bring your Facebooks.
URL:https://livemusichalifax.ca/event/bus-stop-jazz-jam/2026-08-03/
LOCATION:Bus Stop Theatre Co-op\, 2203 Gottingen St
ATTACH;FMTTYPE=image/jpeg:https://livemusichalifax.ca/wp-content/uploads/2026/04/Bus-Stop-e1776959695428.jpg
END:VEVENT
BEGIN:VEVENT
DTSTART;TZID=America/Halifax:20260817T190000
DTEND;TZID=America/Halifax:20260817T220000
DTSTAMP:20260423T211025
CREATED:20260423T155355Z
LAST-MODIFIED:20260423T160115Z
UID:10004566-1786993200-1787004000@livemusichalifax.ca
SUMMARY:Bus Stop Jazz Jam
DESCRIPTION:Join us for jazz jams in the Bus Stop Theatre Lobby\nAll levels welcome. \nBar open for business. \nWe play jazz standards so bring your Facebooks.
URL:https://livemusichalifax.ca/event/bus-stop-jazz-jam/2026-08-17/
LOCATION:Bus Stop Theatre Co-op\, 2203 Gottingen St
ATTACH;FMTTYPE=image/jpeg:https://livemusichalifax.ca/wp-content/uploads/2026/04/Bus-Stop-e1776959695428.jpg
END:VEVENT
BEGIN:VEVENT
DTSTART;TZID=America/Halifax:20260824T190000
DTEND;TZID=America/Halifax:20260824T220000
DTSTAMP:20260423T211025
CREATED:20260423T155355Z
LAST-MODIFIED:20260423T160115Z
UID:10004567-1787598000-1787608800@livemusichalifax.ca
SUMMARY:Bus Stop Jazz Jam
DESCRIPTION:Join us for jazz jams in the Bus Stop Theatre Lobby\nAll levels welcome. \nBar open for business. \nWe play jazz standards so bring your Facebooks.
URL:https://livemusichalifax.ca/event/bus-stop-jazz-jam/2026-08-24/
LOCATION:Bus Stop Theatre Co-op\, 2203 Gottingen St
ATTACH;FMTTYPE=image/jpeg:https://livemusichalifax.ca/wp-content/uploads/2026/04/Bus-Stop-e1776959695428.jpg
END:VEVENT
END:VCALENDAR