BEGIN:VCALENDAR
VERSION:2.0
PRODID:-//Live Music Halifax - ECPv6.15.20//NONSGML v1.0//EN
CALSCALE:GREGORIAN
METHOD:PUBLISH
X-WR-CALNAME:Live Music Halifax
X-ORIGINAL-URL:https://livemusichalifax.ca
X-WR-CALDESC:Events for Live Music Halifax
REFRESH-INTERVAL;VALUE=DURATION:PT1H
X-Robots-Tag:noindex
X-PUBLISHED-TTL:PT1H
BEGIN:VTIMEZONE
TZID:America/Halifax
BEGIN:DAYLIGHT
TZOFFSETFROM:-0400
TZOFFSETTO:-0300
TZNAME:ADT
DTSTART:20250309T060000
END:DAYLIGHT
BEGIN:STANDARD
TZOFFSETFROM:-0300
TZOFFSETTO:-0400
TZNAME:AST
DTSTART:20251102T050000
END:STANDARD
BEGIN:DAYLIGHT
TZOFFSETFROM:-0400
TZOFFSETTO:-0300
TZNAME:ADT
DTSTART:20260308T060000
END:DAYLIGHT
BEGIN:STANDARD
TZOFFSETFROM:-0300
TZOFFSETTO:-0400
TZNAME:AST
DTSTART:20261101T050000
END:STANDARD
BEGIN:DAYLIGHT
TZOFFSETFROM:-0400
TZOFFSETTO:-0300
TZNAME:ADT
DTSTART:20270314T060000
END:DAYLIGHT
BEGIN:STANDARD
TZOFFSETFROM:-0300
TZOFFSETTO:-0400
TZNAME:AST
DTSTART:20271107T050000
END:STANDARD
END:VTIMEZONE
BEGIN:VEVENT
DTSTART;TZID=America/Halifax:20260424T173000
DTEND;TZID=America/Halifax:20260424T193000
DTSTAMP:20260419T205835
CREATED:20250926T145214Z
LAST-MODIFIED:20260404T125323Z
UID:10004468-1777051800-1777059000@livemusichalifax.ca
SUMMARY:Big Easy Fridays!
DESCRIPTION:Sounds of New Orleans with Mike Cowie & John Alphonse \nMore events all week on Bearly’s website
URL:https://livemusichalifax.ca/event/big-easy-fridays-3/2026-04-24/
LOCATION:Bearly’s House of Blues & Ribs\, 1579 Grafton St\, Halifax
ATTACH;FMTTYPE=image/jpeg:https://livemusichalifax.ca/wp-content/uploads/2025/09/Mike-Cowie-John-Alphonse.jpg
END:VEVENT
BEGIN:VEVENT
DTSTART;TZID=America/Halifax:20260501T173000
DTEND;TZID=America/Halifax:20260501T193000
DTSTAMP:20260419T205835
CREATED:20250926T145214Z
LAST-MODIFIED:20260404T125323Z
UID:10004469-1777656600-1777663800@livemusichalifax.ca
SUMMARY:Big Easy Fridays!
DESCRIPTION:Sounds of New Orleans with Mike Cowie & John Alphonse \nMore events all week on Bearly’s website
URL:https://livemusichalifax.ca/event/big-easy-fridays-3/2026-05-01/
LOCATION:Bearly’s House of Blues & Ribs\, 1579 Grafton St\, Halifax
ATTACH;FMTTYPE=image/jpeg:https://livemusichalifax.ca/wp-content/uploads/2025/09/Mike-Cowie-John-Alphonse.jpg
END:VEVENT
BEGIN:VEVENT
DTSTART;TZID=America/Halifax:20260508T173000
DTEND;TZID=America/Halifax:20260508T193000
DTSTAMP:20260419T205835
CREATED:20250926T145214Z
LAST-MODIFIED:20260404T125323Z
UID:10004470-1778261400-1778268600@livemusichalifax.ca
SUMMARY:Big Easy Fridays!
DESCRIPTION:Sounds of New Orleans with Mike Cowie & John Alphonse \nMore events all week on Bearly’s website
URL:https://livemusichalifax.ca/event/big-easy-fridays-3/2026-05-08/
LOCATION:Bearly’s House of Blues & Ribs\, 1579 Grafton St\, Halifax
ATTACH;FMTTYPE=image/jpeg:https://livemusichalifax.ca/wp-content/uploads/2025/09/Mike-Cowie-John-Alphonse.jpg
END:VEVENT
BEGIN:VEVENT
DTSTART;TZID=America/Halifax:20260515T173000
DTEND;TZID=America/Halifax:20260515T193000
DTSTAMP:20260419T205835
CREATED:20250926T145214Z
LAST-MODIFIED:20260404T125323Z
UID:10004471-1778866200-1778873400@livemusichalifax.ca
SUMMARY:Big Easy Fridays!
DESCRIPTION:Sounds of New Orleans with Mike Cowie & John Alphonse \nMore events all week on Bearly’s website
URL:https://livemusichalifax.ca/event/big-easy-fridays-3/2026-05-15/
LOCATION:Bearly’s House of Blues & Ribs\, 1579 Grafton St\, Halifax
ATTACH;FMTTYPE=image/jpeg:https://livemusichalifax.ca/wp-content/uploads/2025/09/Mike-Cowie-John-Alphonse.jpg
END:VEVENT
BEGIN:VEVENT
DTSTART;TZID=America/Halifax:20260522T173000
DTEND;TZID=America/Halifax:20260522T193000
DTSTAMP:20260419T205835
CREATED:20250926T145214Z
LAST-MODIFIED:20260404T125323Z
UID:10004472-1779471000-1779478200@livemusichalifax.ca
SUMMARY:Big Easy Fridays!
DESCRIPTION:Sounds of New Orleans with Mike Cowie & John Alphonse \nMore events all week on Bearly’s website
URL:https://livemusichalifax.ca/event/big-easy-fridays-3/2026-05-22/
LOCATION:Bearly’s House of Blues & Ribs\, 1579 Grafton St\, Halifax
ATTACH;FMTTYPE=image/jpeg:https://livemusichalifax.ca/wp-content/uploads/2025/09/Mike-Cowie-John-Alphonse.jpg
END:VEVENT
BEGIN:VEVENT
DTSTART;TZID=America/Halifax:20260529T173000
DTEND;TZID=America/Halifax:20260529T193000
DTSTAMP:20260419T205835
CREATED:20250926T145214Z
LAST-MODIFIED:20260404T125323Z
UID:10004473-1780075800-1780083000@livemusichalifax.ca
SUMMARY:Big Easy Fridays!
DESCRIPTION:Sounds of New Orleans with Mike Cowie & John Alphonse \nMore events all week on Bearly’s website
URL:https://livemusichalifax.ca/event/big-easy-fridays-3/2026-05-29/
LOCATION:Bearly’s House of Blues & Ribs\, 1579 Grafton St\, Halifax
ATTACH;FMTTYPE=image/jpeg:https://livemusichalifax.ca/wp-content/uploads/2025/09/Mike-Cowie-John-Alphonse.jpg
END:VEVENT
BEGIN:VEVENT
DTSTART;TZID=America/Halifax:20260605T173000
DTEND;TZID=America/Halifax:20260605T193000
DTSTAMP:20260419T205835
CREATED:20250926T145214Z
LAST-MODIFIED:20260404T125323Z
UID:10004474-1780680600-1780687800@livemusichalifax.ca
SUMMARY:Big Easy Fridays!
DESCRIPTION:Sounds of New Orleans with Mike Cowie & John Alphonse \nMore events all week on Bearly’s website
URL:https://livemusichalifax.ca/event/big-easy-fridays-3/2026-06-05/
LOCATION:Bearly’s House of Blues & Ribs\, 1579 Grafton St\, Halifax
ATTACH;FMTTYPE=image/jpeg:https://livemusichalifax.ca/wp-content/uploads/2025/09/Mike-Cowie-John-Alphonse.jpg
END:VEVENT
BEGIN:VEVENT
DTSTART;TZID=America/Halifax:20260612T173000
DTEND;TZID=America/Halifax:20260612T193000
DTSTAMP:20260419T205835
CREATED:20250926T145214Z
LAST-MODIFIED:20260404T125323Z
UID:10004475-1781285400-1781292600@livemusichalifax.ca
SUMMARY:Big Easy Fridays!
DESCRIPTION:Sounds of New Orleans with Mike Cowie & John Alphonse \nMore events all week on Bearly’s website
URL:https://livemusichalifax.ca/event/big-easy-fridays-3/2026-06-12/
LOCATION:Bearly’s House of Blues & Ribs\, 1579 Grafton St\, Halifax
ATTACH;FMTTYPE=image/jpeg:https://livemusichalifax.ca/wp-content/uploads/2025/09/Mike-Cowie-John-Alphonse.jpg
END:VEVENT
BEGIN:VEVENT
DTSTART;TZID=America/Halifax:20260619T173000
DTEND;TZID=America/Halifax:20260619T193000
DTSTAMP:20260419T205835
CREATED:20250926T145214Z
LAST-MODIFIED:20260404T125323Z
UID:10004476-1781890200-1781897400@livemusichalifax.ca
SUMMARY:Big Easy Fridays!
DESCRIPTION:Sounds of New Orleans with Mike Cowie & John Alphonse \nMore events all week on Bearly’s website
URL:https://livemusichalifax.ca/event/big-easy-fridays-3/2026-06-19/
LOCATION:Bearly’s House of Blues & Ribs\, 1579 Grafton St\, Halifax
ATTACH;FMTTYPE=image/jpeg:https://livemusichalifax.ca/wp-content/uploads/2025/09/Mike-Cowie-John-Alphonse.jpg
END:VEVENT
BEGIN:VEVENT
DTSTART;TZID=America/Halifax:20260626T173000
DTEND;TZID=America/Halifax:20260626T193000
DTSTAMP:20260419T205835
CREATED:20250926T145214Z
LAST-MODIFIED:20260404T125323Z
UID:10004477-1782495000-1782502200@livemusichalifax.ca
SUMMARY:Big Easy Fridays!
DESCRIPTION:Sounds of New Orleans with Mike Cowie & John Alphonse \nMore events all week on Bearly’s website
URL:https://livemusichalifax.ca/event/big-easy-fridays-3/2026-06-26/
LOCATION:Bearly’s House of Blues & Ribs\, 1579 Grafton St\, Halifax
ATTACH;FMTTYPE=image/jpeg:https://livemusichalifax.ca/wp-content/uploads/2025/09/Mike-Cowie-John-Alphonse.jpg
END:VEVENT
END:VCALENDAR