BEGIN:VCALENDAR
VERSION:2.0
PRODID:-//Live Music Halifax - ECPv6.15.20//NONSGML v1.0//EN
CALSCALE:GREGORIAN
METHOD:PUBLISH
X-WR-CALNAME:Live Music Halifax
X-ORIGINAL-URL:https://livemusichalifax.ca
X-WR-CALDESC:Events for Live Music Halifax
REFRESH-INTERVAL;VALUE=DURATION:PT1H
X-Robots-Tag:noindex
X-PUBLISHED-TTL:PT1H
BEGIN:VTIMEZONE
TZID:America/Halifax
BEGIN:DAYLIGHT
TZOFFSETFROM:-0400
TZOFFSETTO:-0300
TZNAME:ADT
DTSTART:20260308T060000
END:DAYLIGHT
BEGIN:STANDARD
TZOFFSETFROM:-0300
TZOFFSETTO:-0400
TZNAME:AST
DTSTART:20261101T050000
END:STANDARD
BEGIN:DAYLIGHT
TZOFFSETFROM:-0400
TZOFFSETTO:-0300
TZNAME:ADT
DTSTART:20270314T060000
END:DAYLIGHT
BEGIN:STANDARD
TZOFFSETFROM:-0300
TZOFFSETTO:-0400
TZNAME:AST
DTSTART:20271107T050000
END:STANDARD
BEGIN:DAYLIGHT
TZOFFSETFROM:-0400
TZOFFSETTO:-0300
TZNAME:ADT
DTSTART:20280312T060000
END:DAYLIGHT
BEGIN:STANDARD
TZOFFSETFROM:-0300
TZOFFSETTO:-0400
TZNAME:AST
DTSTART:20281105T050000
END:STANDARD
END:VTIMEZONE
BEGIN:VEVENT
DTSTART;TZID=America/Halifax:20270228T110000
DTEND;TZID=America/Halifax:20270228T140000
DTSTAMP:20260421T030344
CREATED:20260214T000544Z
LAST-MODIFIED:20260214T000544Z
UID:10003996-1803812400-1803823200@livemusichalifax.ca
SUMMARY:John Chiasson Trio
DESCRIPTION:Fretless 5 String Bass and Vocal – John Chiasson\nPiano – Dave Staples\nPercussion – Charlie Cooley
URL:https://livemusichalifax.ca/event/john-chiasson-trio/2027-02-28/
LOCATION:Milestones\, MicMac Mall\, 21 Micmac Blvd\, Dartmouth
ATTACH;FMTTYPE=image/png:https://livemusichalifax.ca/wp-content/uploads/2026/02/John-Chiasson-Trio-e1771027528669.png
END:VEVENT
BEGIN:VEVENT
DTSTART;TZID=America/Halifax:20270228T170000
DTEND;TZID=America/Halifax:20270228T210000
DTSTAMP:20260421T030344
CREATED:20260409T224921Z
LAST-MODIFIED:20260409T225455Z
UID:10004538-1803834000-1803848400@livemusichalifax.ca
SUMMARY:Jazz @ the Lion's Head!
DESCRIPTION:Jazz is back at the Lion’s Head! \nMainstay jazz crew l-r Geordie Haley\, Jeff Goodspeed\, David Burton and Jamie Gatti. Players subject to change. Interesting guests each week.
URL:https://livemusichalifax.ca/event/jazz-the-lions-head-4/2027-02-28/
LOCATION:Lion’s Head Tavern\, 3085 Robie St\, Halifax
ATTACH;FMTTYPE=image/jpeg:https://livemusichalifax.ca/wp-content/uploads/2026/04/Jazz-at-Lions-Head-e1775775193714.jpeg
END:VEVENT
BEGIN:VEVENT
DTSTART;TZID=America/Halifax:20270302T190000
DTEND;TZID=America/Halifax:20270302T220000
DTSTAMP:20260421T030344
CREATED:20251230T144520Z
LAST-MODIFIED:20260216T180159Z
UID:10004012-1804014000-1804024800@livemusichalifax.ca
SUMMARY:Leo Cox Trio
DESCRIPTION:Halifax’s Leo Cox Trio brings groove-driven modern jazz to Tuesday nights at The Economy Shoe Shop. No cover. Sit-ins welcome. \nTuesday Night Jazz at The Economy Shoe Shop features the Leo Cox Trio\, with Leo Cox on bass\, Ben Tucker on guitar\, and Dante Kierstead on drums. Held every Tuesday from 7:00 PM to 10:00 PM\, this weekly modern jazz residency offers evolving sets\, original music\, and spontaneous sit-ins in an intimate downtown Halifax setting. With no cover charge\, it is an easy way to experience groove-driven jazz and connect with Halifax’s vibrant jazz community.
URL:https://livemusichalifax.ca/event/economy-shoe-shop-2-2-2/2027-03-02/
LOCATION:Economy Shoe Shop\, 1663 Argyle St
ATTACH;FMTTYPE=image/jpeg:https://livemusichalifax.ca/wp-content/uploads/2025/09/economy-shoe-shop-e1757542636730.jpg
END:VEVENT
BEGIN:VEVENT
DTSTART;TZID=America/Halifax:20270307T110000
DTEND;TZID=America/Halifax:20270307T140000
DTSTAMP:20260421T030344
CREATED:20260214T000544Z
LAST-MODIFIED:20260214T000544Z
UID:10003997-1804417200-1804428000@livemusichalifax.ca
SUMMARY:John Chiasson Trio
DESCRIPTION:Fretless 5 String Bass and Vocal – John Chiasson\nPiano – Dave Staples\nPercussion – Charlie Cooley
URL:https://livemusichalifax.ca/event/john-chiasson-trio/2027-03-07/
LOCATION:Milestones\, MicMac Mall\, 21 Micmac Blvd\, Dartmouth
ATTACH;FMTTYPE=image/png:https://livemusichalifax.ca/wp-content/uploads/2026/02/John-Chiasson-Trio-e1771027528669.png
END:VEVENT
BEGIN:VEVENT
DTSTART;TZID=America/Halifax:20270307T170000
DTEND;TZID=America/Halifax:20270307T210000
DTSTAMP:20260421T030344
CREATED:20260409T224921Z
LAST-MODIFIED:20260409T225455Z
UID:10004539-1804438800-1804453200@livemusichalifax.ca
SUMMARY:Jazz @ the Lion's Head!
DESCRIPTION:Jazz is back at the Lion’s Head! \nMainstay jazz crew l-r Geordie Haley\, Jeff Goodspeed\, David Burton and Jamie Gatti. Players subject to change. Interesting guests each week.
URL:https://livemusichalifax.ca/event/jazz-the-lions-head-4/2027-03-07/
LOCATION:Lion’s Head Tavern\, 3085 Robie St\, Halifax
ATTACH;FMTTYPE=image/jpeg:https://livemusichalifax.ca/wp-content/uploads/2026/04/Jazz-at-Lions-Head-e1775775193714.jpeg
END:VEVENT
BEGIN:VEVENT
DTSTART;TZID=America/Halifax:20270309T190000
DTEND;TZID=America/Halifax:20270309T220000
DTSTAMP:20260421T030344
CREATED:20251230T144520Z
LAST-MODIFIED:20260216T180159Z
UID:10004013-1804618800-1804629600@livemusichalifax.ca
SUMMARY:Leo Cox Trio
DESCRIPTION:Halifax’s Leo Cox Trio brings groove-driven modern jazz to Tuesday nights at The Economy Shoe Shop. No cover. Sit-ins welcome. \nTuesday Night Jazz at The Economy Shoe Shop features the Leo Cox Trio\, with Leo Cox on bass\, Ben Tucker on guitar\, and Dante Kierstead on drums. Held every Tuesday from 7:00 PM to 10:00 PM\, this weekly modern jazz residency offers evolving sets\, original music\, and spontaneous sit-ins in an intimate downtown Halifax setting. With no cover charge\, it is an easy way to experience groove-driven jazz and connect with Halifax’s vibrant jazz community.
URL:https://livemusichalifax.ca/event/economy-shoe-shop-2-2-2/2027-03-09/
LOCATION:Economy Shoe Shop\, 1663 Argyle St
ATTACH;FMTTYPE=image/jpeg:https://livemusichalifax.ca/wp-content/uploads/2025/09/economy-shoe-shop-e1757542636730.jpg
END:VEVENT
BEGIN:VEVENT
DTSTART;TZID=America/Halifax:20270314T110000
DTEND;TZID=America/Halifax:20270314T140000
DTSTAMP:20260421T030344
CREATED:20260214T000544Z
LAST-MODIFIED:20260214T000544Z
UID:10003998-1805022000-1805032800@livemusichalifax.ca
SUMMARY:John Chiasson Trio
DESCRIPTION:Fretless 5 String Bass and Vocal – John Chiasson\nPiano – Dave Staples\nPercussion – Charlie Cooley
URL:https://livemusichalifax.ca/event/john-chiasson-trio/2027-03-14/
LOCATION:Milestones\, MicMac Mall\, 21 Micmac Blvd\, Dartmouth
ATTACH;FMTTYPE=image/png:https://livemusichalifax.ca/wp-content/uploads/2026/02/John-Chiasson-Trio-e1771027528669.png
END:VEVENT
BEGIN:VEVENT
DTSTART;TZID=America/Halifax:20270314T170000
DTEND;TZID=America/Halifax:20270314T210000
DTSTAMP:20260421T030344
CREATED:20260409T224921Z
LAST-MODIFIED:20260409T225455Z
UID:10004540-1805043600-1805058000@livemusichalifax.ca
SUMMARY:Jazz @ the Lion's Head!
DESCRIPTION:Jazz is back at the Lion’s Head! \nMainstay jazz crew l-r Geordie Haley\, Jeff Goodspeed\, David Burton and Jamie Gatti. Players subject to change. Interesting guests each week.
URL:https://livemusichalifax.ca/event/jazz-the-lions-head-4/2027-03-14/
LOCATION:Lion’s Head Tavern\, 3085 Robie St\, Halifax
ATTACH;FMTTYPE=image/jpeg:https://livemusichalifax.ca/wp-content/uploads/2026/04/Jazz-at-Lions-Head-e1775775193714.jpeg
END:VEVENT
BEGIN:VEVENT
DTSTART;TZID=America/Halifax:20270316T190000
DTEND;TZID=America/Halifax:20270316T220000
DTSTAMP:20260421T030344
CREATED:20251230T144520Z
LAST-MODIFIED:20260216T180159Z
UID:10004014-1805223600-1805234400@livemusichalifax.ca
SUMMARY:Leo Cox Trio
DESCRIPTION:Halifax’s Leo Cox Trio brings groove-driven modern jazz to Tuesday nights at The Economy Shoe Shop. No cover. Sit-ins welcome. \nTuesday Night Jazz at The Economy Shoe Shop features the Leo Cox Trio\, with Leo Cox on bass\, Ben Tucker on guitar\, and Dante Kierstead on drums. Held every Tuesday from 7:00 PM to 10:00 PM\, this weekly modern jazz residency offers evolving sets\, original music\, and spontaneous sit-ins in an intimate downtown Halifax setting. With no cover charge\, it is an easy way to experience groove-driven jazz and connect with Halifax’s vibrant jazz community.
URL:https://livemusichalifax.ca/event/economy-shoe-shop-2-2-2/2027-03-16/
LOCATION:Economy Shoe Shop\, 1663 Argyle St
ATTACH;FMTTYPE=image/jpeg:https://livemusichalifax.ca/wp-content/uploads/2025/09/economy-shoe-shop-e1757542636730.jpg
END:VEVENT
BEGIN:VEVENT
DTSTART;TZID=America/Halifax:20270321T110000
DTEND;TZID=America/Halifax:20270321T140000
DTSTAMP:20260421T030344
CREATED:20260214T000544Z
LAST-MODIFIED:20260214T000544Z
UID:10003999-1805626800-1805637600@livemusichalifax.ca
SUMMARY:John Chiasson Trio
DESCRIPTION:Fretless 5 String Bass and Vocal – John Chiasson\nPiano – Dave Staples\nPercussion – Charlie Cooley
URL:https://livemusichalifax.ca/event/john-chiasson-trio/2027-03-21/
LOCATION:Milestones\, MicMac Mall\, 21 Micmac Blvd\, Dartmouth
ATTACH;FMTTYPE=image/png:https://livemusichalifax.ca/wp-content/uploads/2026/02/John-Chiasson-Trio-e1771027528669.png
END:VEVENT
BEGIN:VEVENT
DTSTART;TZID=America/Halifax:20270321T170000
DTEND;TZID=America/Halifax:20270321T210000
DTSTAMP:20260421T030344
CREATED:20260409T224921Z
LAST-MODIFIED:20260409T225455Z
UID:10004541-1805648400-1805662800@livemusichalifax.ca
SUMMARY:Jazz @ the Lion's Head!
DESCRIPTION:Jazz is back at the Lion’s Head! \nMainstay jazz crew l-r Geordie Haley\, Jeff Goodspeed\, David Burton and Jamie Gatti. Players subject to change. Interesting guests each week.
URL:https://livemusichalifax.ca/event/jazz-the-lions-head-4/2027-03-21/
LOCATION:Lion’s Head Tavern\, 3085 Robie St\, Halifax
ATTACH;FMTTYPE=image/jpeg:https://livemusichalifax.ca/wp-content/uploads/2026/04/Jazz-at-Lions-Head-e1775775193714.jpeg
END:VEVENT
BEGIN:VEVENT
DTSTART;TZID=America/Halifax:20270323T190000
DTEND;TZID=America/Halifax:20270323T220000
DTSTAMP:20260421T030344
CREATED:20251230T144520Z
LAST-MODIFIED:20260216T180159Z
UID:10004015-1805828400-1805839200@livemusichalifax.ca
SUMMARY:Leo Cox Trio
DESCRIPTION:Halifax’s Leo Cox Trio brings groove-driven modern jazz to Tuesday nights at The Economy Shoe Shop. No cover. Sit-ins welcome. \nTuesday Night Jazz at The Economy Shoe Shop features the Leo Cox Trio\, with Leo Cox on bass\, Ben Tucker on guitar\, and Dante Kierstead on drums. Held every Tuesday from 7:00 PM to 10:00 PM\, this weekly modern jazz residency offers evolving sets\, original music\, and spontaneous sit-ins in an intimate downtown Halifax setting. With no cover charge\, it is an easy way to experience groove-driven jazz and connect with Halifax’s vibrant jazz community.
URL:https://livemusichalifax.ca/event/economy-shoe-shop-2-2-2/2027-03-23/
LOCATION:Economy Shoe Shop\, 1663 Argyle St
ATTACH;FMTTYPE=image/jpeg:https://livemusichalifax.ca/wp-content/uploads/2025/09/economy-shoe-shop-e1757542636730.jpg
END:VEVENT
BEGIN:VEVENT
DTSTART;TZID=America/Halifax:20270328T110000
DTEND;TZID=America/Halifax:20270328T140000
DTSTAMP:20260421T030344
CREATED:20260214T000544Z
LAST-MODIFIED:20260214T000544Z
UID:10004000-1806231600-1806242400@livemusichalifax.ca
SUMMARY:John Chiasson Trio
DESCRIPTION:Fretless 5 String Bass and Vocal – John Chiasson\nPiano – Dave Staples\nPercussion – Charlie Cooley
URL:https://livemusichalifax.ca/event/john-chiasson-trio/2027-03-28/
LOCATION:Milestones\, MicMac Mall\, 21 Micmac Blvd\, Dartmouth
ATTACH;FMTTYPE=image/png:https://livemusichalifax.ca/wp-content/uploads/2026/02/John-Chiasson-Trio-e1771027528669.png
END:VEVENT
BEGIN:VEVENT
DTSTART;TZID=America/Halifax:20270328T170000
DTEND;TZID=America/Halifax:20270328T210000
DTSTAMP:20260421T030344
CREATED:20260409T224921Z
LAST-MODIFIED:20260409T225455Z
UID:10004542-1806253200-1806267600@livemusichalifax.ca
SUMMARY:Jazz @ the Lion's Head!
DESCRIPTION:Jazz is back at the Lion’s Head! \nMainstay jazz crew l-r Geordie Haley\, Jeff Goodspeed\, David Burton and Jamie Gatti. Players subject to change. Interesting guests each week.
URL:https://livemusichalifax.ca/event/jazz-the-lions-head-4/2027-03-28/
LOCATION:Lion’s Head Tavern\, 3085 Robie St\, Halifax
ATTACH;FMTTYPE=image/jpeg:https://livemusichalifax.ca/wp-content/uploads/2026/04/Jazz-at-Lions-Head-e1775775193714.jpeg
END:VEVENT
BEGIN:VEVENT
DTSTART;TZID=America/Halifax:20270404T170000
DTEND;TZID=America/Halifax:20270404T210000
DTSTAMP:20260421T030344
CREATED:20260409T224921Z
LAST-MODIFIED:20260409T225455Z
UID:10004543-1806858000-1806872400@livemusichalifax.ca
SUMMARY:Jazz @ the Lion's Head!
DESCRIPTION:Jazz is back at the Lion’s Head! \nMainstay jazz crew l-r Geordie Haley\, Jeff Goodspeed\, David Burton and Jamie Gatti. Players subject to change. Interesting guests each week.
URL:https://livemusichalifax.ca/event/jazz-the-lions-head-4/2027-04-04/
LOCATION:Lion’s Head Tavern\, 3085 Robie St\, Halifax
ATTACH;FMTTYPE=image/jpeg:https://livemusichalifax.ca/wp-content/uploads/2026/04/Jazz-at-Lions-Head-e1775775193714.jpeg
END:VEVENT
BEGIN:VEVENT
DTSTART;TZID=America/Halifax:20270411T170000
DTEND;TZID=America/Halifax:20270411T210000
DTSTAMP:20260421T030344
CREATED:20260409T224921Z
LAST-MODIFIED:20260409T225455Z
UID:10004544-1807462800-1807477200@livemusichalifax.ca
SUMMARY:Jazz @ the Lion's Head!
DESCRIPTION:Jazz is back at the Lion’s Head! \nMainstay jazz crew l-r Geordie Haley\, Jeff Goodspeed\, David Burton and Jamie Gatti. Players subject to change. Interesting guests each week.
URL:https://livemusichalifax.ca/event/jazz-the-lions-head-4/2027-04-11/
LOCATION:Lion’s Head Tavern\, 3085 Robie St\, Halifax
ATTACH;FMTTYPE=image/jpeg:https://livemusichalifax.ca/wp-content/uploads/2026/04/Jazz-at-Lions-Head-e1775775193714.jpeg
END:VEVENT
BEGIN:VEVENT
DTSTART;TZID=America/Halifax:20270418T170000
DTEND;TZID=America/Halifax:20270418T210000
DTSTAMP:20260421T030344
CREATED:20260409T224921Z
LAST-MODIFIED:20260409T225455Z
UID:10004545-1808067600-1808082000@livemusichalifax.ca
SUMMARY:Jazz @ the Lion's Head!
DESCRIPTION:Jazz is back at the Lion’s Head! \nMainstay jazz crew l-r Geordie Haley\, Jeff Goodspeed\, David Burton and Jamie Gatti. Players subject to change. Interesting guests each week.
URL:https://livemusichalifax.ca/event/jazz-the-lions-head-4/2027-04-18/
LOCATION:Lion’s Head Tavern\, 3085 Robie St\, Halifax
ATTACH;FMTTYPE=image/jpeg:https://livemusichalifax.ca/wp-content/uploads/2026/04/Jazz-at-Lions-Head-e1775775193714.jpeg
END:VEVENT
BEGIN:VEVENT
DTSTART;TZID=America/Halifax:20270425T170000
DTEND;TZID=America/Halifax:20270425T210000
DTSTAMP:20260421T030344
CREATED:20260409T224921Z
LAST-MODIFIED:20260409T225455Z
UID:10004546-1808672400-1808686800@livemusichalifax.ca
SUMMARY:Jazz @ the Lion's Head!
DESCRIPTION:Jazz is back at the Lion’s Head! \nMainstay jazz crew l-r Geordie Haley\, Jeff Goodspeed\, David Burton and Jamie Gatti. Players subject to change. Interesting guests each week.
URL:https://livemusichalifax.ca/event/jazz-the-lions-head-4/2027-04-25/
LOCATION:Lion’s Head Tavern\, 3085 Robie St\, Halifax
ATTACH;FMTTYPE=image/jpeg:https://livemusichalifax.ca/wp-content/uploads/2026/04/Jazz-at-Lions-Head-e1775775193714.jpeg
END:VEVENT
BEGIN:VEVENT
DTSTART;TZID=America/Halifax:20270502T170000
DTEND;TZID=America/Halifax:20270502T210000
DTSTAMP:20260421T030344
CREATED:20260409T224921Z
LAST-MODIFIED:20260409T225455Z
UID:10004547-1809277200-1809291600@livemusichalifax.ca
SUMMARY:Jazz @ the Lion's Head!
DESCRIPTION:Jazz is back at the Lion’s Head! \nMainstay jazz crew l-r Geordie Haley\, Jeff Goodspeed\, David Burton and Jamie Gatti. Players subject to change. Interesting guests each week.
URL:https://livemusichalifax.ca/event/jazz-the-lions-head-4/2027-05-02/
LOCATION:Lion’s Head Tavern\, 3085 Robie St\, Halifax
ATTACH;FMTTYPE=image/jpeg:https://livemusichalifax.ca/wp-content/uploads/2026/04/Jazz-at-Lions-Head-e1775775193714.jpeg
END:VEVENT
BEGIN:VEVENT
DTSTART;TZID=America/Halifax:20270509T170000
DTEND;TZID=America/Halifax:20270509T210000
DTSTAMP:20260421T030344
CREATED:20260409T224921Z
LAST-MODIFIED:20260409T225455Z
UID:10004548-1809882000-1809896400@livemusichalifax.ca
SUMMARY:Jazz @ the Lion's Head!
DESCRIPTION:Jazz is back at the Lion’s Head! \nMainstay jazz crew l-r Geordie Haley\, Jeff Goodspeed\, David Burton and Jamie Gatti. Players subject to change. Interesting guests each week.
URL:https://livemusichalifax.ca/event/jazz-the-lions-head-4/2027-05-09/
LOCATION:Lion’s Head Tavern\, 3085 Robie St\, Halifax
ATTACH;FMTTYPE=image/jpeg:https://livemusichalifax.ca/wp-content/uploads/2026/04/Jazz-at-Lions-Head-e1775775193714.jpeg
END:VEVENT
BEGIN:VEVENT
DTSTART;TZID=America/Halifax:20270516T170000
DTEND;TZID=America/Halifax:20270516T210000
DTSTAMP:20260421T030344
CREATED:20260409T224921Z
LAST-MODIFIED:20260409T225455Z
UID:10004549-1810486800-1810501200@livemusichalifax.ca
SUMMARY:Jazz @ the Lion's Head!
DESCRIPTION:Jazz is back at the Lion’s Head! \nMainstay jazz crew l-r Geordie Haley\, Jeff Goodspeed\, David Burton and Jamie Gatti. Players subject to change. Interesting guests each week.
URL:https://livemusichalifax.ca/event/jazz-the-lions-head-4/2027-05-16/
LOCATION:Lion’s Head Tavern\, 3085 Robie St\, Halifax
ATTACH;FMTTYPE=image/jpeg:https://livemusichalifax.ca/wp-content/uploads/2026/04/Jazz-at-Lions-Head-e1775775193714.jpeg
END:VEVENT
BEGIN:VEVENT
DTSTART;TZID=America/Halifax:20270523T170000
DTEND;TZID=America/Halifax:20270523T210000
DTSTAMP:20260421T030344
CREATED:20260409T224921Z
LAST-MODIFIED:20260409T225455Z
UID:10004550-1811091600-1811106000@livemusichalifax.ca
SUMMARY:Jazz @ the Lion's Head!
DESCRIPTION:Jazz is back at the Lion’s Head! \nMainstay jazz crew l-r Geordie Haley\, Jeff Goodspeed\, David Burton and Jamie Gatti. Players subject to change. Interesting guests each week.
URL:https://livemusichalifax.ca/event/jazz-the-lions-head-4/2027-05-23/
LOCATION:Lion’s Head Tavern\, 3085 Robie St\, Halifax
ATTACH;FMTTYPE=image/jpeg:https://livemusichalifax.ca/wp-content/uploads/2026/04/Jazz-at-Lions-Head-e1775775193714.jpeg
END:VEVENT
BEGIN:VEVENT
DTSTART;TZID=America/Halifax:20270530T170000
DTEND;TZID=America/Halifax:20270530T210000
DTSTAMP:20260421T030344
CREATED:20260409T224921Z
LAST-MODIFIED:20260409T225455Z
UID:10004551-1811696400-1811710800@livemusichalifax.ca
SUMMARY:Jazz @ the Lion's Head!
DESCRIPTION:Jazz is back at the Lion’s Head! \nMainstay jazz crew l-r Geordie Haley\, Jeff Goodspeed\, David Burton and Jamie Gatti. Players subject to change. Interesting guests each week.
URL:https://livemusichalifax.ca/event/jazz-the-lions-head-4/2027-05-30/
LOCATION:Lion’s Head Tavern\, 3085 Robie St\, Halifax
ATTACH;FMTTYPE=image/jpeg:https://livemusichalifax.ca/wp-content/uploads/2026/04/Jazz-at-Lions-Head-e1775775193714.jpeg
END:VEVENT
BEGIN:VEVENT
DTSTART;TZID=America/Halifax:20270606T170000
DTEND;TZID=America/Halifax:20270606T210000
DTSTAMP:20260421T030344
CREATED:20260409T224921Z
LAST-MODIFIED:20260409T225455Z
UID:10004552-1812301200-1812315600@livemusichalifax.ca
SUMMARY:Jazz @ the Lion's Head!
DESCRIPTION:Jazz is back at the Lion’s Head! \nMainstay jazz crew l-r Geordie Haley\, Jeff Goodspeed\, David Burton and Jamie Gatti. Players subject to change. Interesting guests each week.
URL:https://livemusichalifax.ca/event/jazz-the-lions-head-4/2027-06-06/
LOCATION:Lion’s Head Tavern\, 3085 Robie St\, Halifax
ATTACH;FMTTYPE=image/jpeg:https://livemusichalifax.ca/wp-content/uploads/2026/04/Jazz-at-Lions-Head-e1775775193714.jpeg
END:VEVENT
BEGIN:VEVENT
DTSTART;TZID=America/Halifax:20270613T170000
DTEND;TZID=America/Halifax:20270613T210000
DTSTAMP:20260421T030344
CREATED:20260409T224921Z
LAST-MODIFIED:20260409T225455Z
UID:10004553-1812906000-1812920400@livemusichalifax.ca
SUMMARY:Jazz @ the Lion's Head!
DESCRIPTION:Jazz is back at the Lion’s Head! \nMainstay jazz crew l-r Geordie Haley\, Jeff Goodspeed\, David Burton and Jamie Gatti. Players subject to change. Interesting guests each week.
URL:https://livemusichalifax.ca/event/jazz-the-lions-head-4/2027-06-13/
LOCATION:Lion’s Head Tavern\, 3085 Robie St\, Halifax
ATTACH;FMTTYPE=image/jpeg:https://livemusichalifax.ca/wp-content/uploads/2026/04/Jazz-at-Lions-Head-e1775775193714.jpeg
END:VEVENT
BEGIN:VEVENT
DTSTART;TZID=America/Halifax:20270620T170000
DTEND;TZID=America/Halifax:20270620T210000
DTSTAMP:20260421T030344
CREATED:20260409T224921Z
LAST-MODIFIED:20260409T225455Z
UID:10004554-1813510800-1813525200@livemusichalifax.ca
SUMMARY:Jazz @ the Lion's Head!
DESCRIPTION:Jazz is back at the Lion’s Head! \nMainstay jazz crew l-r Geordie Haley\, Jeff Goodspeed\, David Burton and Jamie Gatti. Players subject to change. Interesting guests each week.
URL:https://livemusichalifax.ca/event/jazz-the-lions-head-4/2027-06-20/
LOCATION:Lion’s Head Tavern\, 3085 Robie St\, Halifax
ATTACH;FMTTYPE=image/jpeg:https://livemusichalifax.ca/wp-content/uploads/2026/04/Jazz-at-Lions-Head-e1775775193714.jpeg
END:VEVENT
BEGIN:VEVENT
DTSTART;TZID=America/Halifax:20270627T170000
DTEND;TZID=America/Halifax:20270627T210000
DTSTAMP:20260421T030344
CREATED:20260409T224921Z
LAST-MODIFIED:20260409T225455Z
UID:10004555-1814115600-1814130000@livemusichalifax.ca
SUMMARY:Jazz @ the Lion's Head!
DESCRIPTION:Jazz is back at the Lion’s Head! \nMainstay jazz crew l-r Geordie Haley\, Jeff Goodspeed\, David Burton and Jamie Gatti. Players subject to change. Interesting guests each week.
URL:https://livemusichalifax.ca/event/jazz-the-lions-head-4/2027-06-27/
LOCATION:Lion’s Head Tavern\, 3085 Robie St\, Halifax
ATTACH;FMTTYPE=image/jpeg:https://livemusichalifax.ca/wp-content/uploads/2026/04/Jazz-at-Lions-Head-e1775775193714.jpeg
END:VEVENT
BEGIN:VEVENT
DTSTART;TZID=America/Halifax:20270704T170000
DTEND;TZID=America/Halifax:20270704T210000
DTSTAMP:20260421T030344
CREATED:20260409T224921Z
LAST-MODIFIED:20260409T225455Z
UID:10004556-1814720400-1814734800@livemusichalifax.ca
SUMMARY:Jazz @ the Lion's Head!
DESCRIPTION:Jazz is back at the Lion’s Head! \nMainstay jazz crew l-r Geordie Haley\, Jeff Goodspeed\, David Burton and Jamie Gatti. Players subject to change. Interesting guests each week.
URL:https://livemusichalifax.ca/event/jazz-the-lions-head-4/2027-07-04/
LOCATION:Lion’s Head Tavern\, 3085 Robie St\, Halifax
ATTACH;FMTTYPE=image/jpeg:https://livemusichalifax.ca/wp-content/uploads/2026/04/Jazz-at-Lions-Head-e1775775193714.jpeg
END:VEVENT
END:VCALENDAR