BEGIN:VCALENDAR
VERSION:2.0
PRODID:-//Live Music Halifax - ECPv6.15.20//NONSGML v1.0//EN
CALSCALE:GREGORIAN
METHOD:PUBLISH
X-WR-CALNAME:Live Music Halifax
X-ORIGINAL-URL:https://livemusichalifax.ca
X-WR-CALDESC:Events for Live Music Halifax
REFRESH-INTERVAL;VALUE=DURATION:PT1H
X-Robots-Tag:noindex
X-PUBLISHED-TTL:PT1H
BEGIN:VTIMEZONE
TZID:America/Halifax
BEGIN:DAYLIGHT
TZOFFSETFROM:-0400
TZOFFSETTO:-0300
TZNAME:ADT
DTSTART:20250309T060000
END:DAYLIGHT
BEGIN:STANDARD
TZOFFSETFROM:-0300
TZOFFSETTO:-0400
TZNAME:AST
DTSTART:20251102T050000
END:STANDARD
BEGIN:DAYLIGHT
TZOFFSETFROM:-0400
TZOFFSETTO:-0300
TZNAME:ADT
DTSTART:20260308T060000
END:DAYLIGHT
BEGIN:STANDARD
TZOFFSETFROM:-0300
TZOFFSETTO:-0400
TZNAME:AST
DTSTART:20261101T050000
END:STANDARD
BEGIN:DAYLIGHT
TZOFFSETFROM:-0400
TZOFFSETTO:-0300
TZNAME:ADT
DTSTART:20270314T060000
END:DAYLIGHT
BEGIN:STANDARD
TZOFFSETFROM:-0300
TZOFFSETTO:-0400
TZNAME:AST
DTSTART:20271107T050000
END:STANDARD
END:VTIMEZONE
BEGIN:VEVENT
DTSTART;TZID=America/Halifax:20261229T190000
DTEND;TZID=America/Halifax:20261229T220000
DTSTAMP:20260423T120441
CREATED:20251230T144520Z
LAST-MODIFIED:20260216T180159Z
UID:10003811-1798570800-1798581600@livemusichalifax.ca
SUMMARY:Leo Cox Trio
DESCRIPTION:Halifax’s Leo Cox Trio brings groove-driven modern jazz to Tuesday nights at The Economy Shoe Shop. No cover. Sit-ins welcome. \nTuesday Night Jazz at The Economy Shoe Shop features the Leo Cox Trio\, with Leo Cox on bass\, Ben Tucker on guitar\, and Dante Kierstead on drums. Held every Tuesday from 7:00 PM to 10:00 PM\, this weekly modern jazz residency offers evolving sets\, original music\, and spontaneous sit-ins in an intimate downtown Halifax setting. With no cover charge\, it is an easy way to experience groove-driven jazz and connect with Halifax’s vibrant jazz community.
URL:https://livemusichalifax.ca/event/economy-shoe-shop-2-2-2/2026-12-29/
LOCATION:Economy Shoe Shop\, 1663 Argyle St
ATTACH;FMTTYPE=image/jpeg:https://livemusichalifax.ca/wp-content/uploads/2025/09/economy-shoe-shop-e1757542636730.jpg
END:VEVENT
END:VCALENDAR