BEGIN:VCALENDAR
VERSION:2.0
PRODID:-//Live Music Halifax - ECPv6.15.20//NONSGML v1.0//EN
CALSCALE:GREGORIAN
METHOD:PUBLISH
X-WR-CALNAME:Live Music Halifax
X-ORIGINAL-URL:https://livemusichalifax.ca
X-WR-CALDESC:Events for Live Music Halifax
REFRESH-INTERVAL;VALUE=DURATION:PT1H
X-Robots-Tag:noindex
X-PUBLISHED-TTL:PT1H
BEGIN:VTIMEZONE
TZID:America/Halifax
BEGIN:DAYLIGHT
TZOFFSETFROM:-0400
TZOFFSETTO:-0300
TZNAME:ADT
DTSTART:20250309T060000
END:DAYLIGHT
BEGIN:STANDARD
TZOFFSETFROM:-0300
TZOFFSETTO:-0400
TZNAME:AST
DTSTART:20251102T050000
END:STANDARD
BEGIN:DAYLIGHT
TZOFFSETFROM:-0400
TZOFFSETTO:-0300
TZNAME:ADT
DTSTART:20260308T060000
END:DAYLIGHT
BEGIN:STANDARD
TZOFFSETFROM:-0300
TZOFFSETTO:-0400
TZNAME:AST
DTSTART:20261101T050000
END:STANDARD
BEGIN:DAYLIGHT
TZOFFSETFROM:-0400
TZOFFSETTO:-0300
TZNAME:ADT
DTSTART:20270314T060000
END:DAYLIGHT
BEGIN:STANDARD
TZOFFSETFROM:-0300
TZOFFSETTO:-0400
TZNAME:AST
DTSTART:20271107T050000
END:STANDARD
END:VTIMEZONE
BEGIN:VEVENT
DTSTART;TZID=America/Halifax:20260301T110000
DTEND;TZID=America/Halifax:20260301T140000
DTSTAMP:20260421T082017
CREATED:20260214T000544Z
LAST-MODIFIED:20260214T000544Z
UID:10003944-1772362800-1772373600@livemusichalifax.ca
SUMMARY:John Chiasson Trio
DESCRIPTION:Fretless 5 String Bass and Vocal – John Chiasson\nPiano – Dave Staples\nPercussion – Charlie Cooley
URL:https://livemusichalifax.ca/event/john-chiasson-trio/2026-03-01/
LOCATION:Milestones\, MicMac Mall\, 21 Micmac Blvd\, Dartmouth
ATTACH;FMTTYPE=image/png:https://livemusichalifax.ca/wp-content/uploads/2026/02/John-Chiasson-Trio-e1771027528669.png
END:VEVENT
BEGIN:VEVENT
DTSTART;TZID=America/Halifax:20260301T140000
DTEND;TZID=America/Halifax:20260301T140000
DTSTAMP:20260421T082017
CREATED:20260216T193819Z
LAST-MODIFIED:20260216T194404Z
UID:10004019-1772373600-1772373600@livemusichalifax.ca
SUMMARY:Brahms: a German requiem
DESCRIPTION:Join us for a special collaboration between Nova Sinfonia and Dalhousie Collegium Cantoruman as we present Johannes Brahms’ A German Requiem\, one of the great choral-orchestral masterpieces of the Romantic era. Unlike the traditional Latin Requiem Mass\, Brahms’ work is a deeply human meditation on grief\, comfort\, and hope\, setting German biblical texts that speak directly to the living. \nUnder the direction of conductor Gary Ewer\, this moving performance brings together orchestra and chorus in a work of remarkable emotional depth and luminous warmth. We are delighted to welcome the Dalhousie Collegium Cantorum as our guest ensemble\, whose artistry adds richness and power to this unforgettable score. \nFrom its opening words\, “Blessed are they that mourn\,” to its serene and consoling conclusion\, A German Requiem offers solace\, dignity\, and a transcendent sense of peace—an experience that resonates long after the final note! \nTickets
URL:https://livemusichalifax.ca/event/brahms-a-german-requiem/
LOCATION:St Andrew’s United Church\, 6036 Coburg Rd\, Halifax
ATTACH;FMTTYPE=image/jpeg:https://livemusichalifax.ca/wp-content/uploads/2026/02/brahms-requiem.jpg
END:VEVENT
BEGIN:VEVENT
DTSTART;TZID=America/Halifax:20260301T160000
DTEND;TZID=America/Halifax:20260301T173000
DTSTAMP:20260421T082017
CREATED:20250928T120327Z
LAST-MODIFIED:20250928T120327Z
UID:10002705-1772380800-1772386200@livemusichalifax.ca
SUMMARY:All Saints Cathedral Choir
DESCRIPTION:The ‘Sundays at Four’ Music Series returns to the Cathedral Church of All Saints\, Halifax September 28 at 4 p.m! Join us for a new season of inspiring choral music\, offered freely to the public every Sunday afternoon. Sunday’s service is a Choral Evensong for the Eve of St Michael and All Angels\, sung by the Capella Regalis Men\, Boys\, & Girls Choir\, directed by Nick Halley\, with organist Paul Halley.\n\n\nSchedule
URL:https://livemusichalifax.ca/event/all-saints-cathedral-choir/2026-03-01/
LOCATION:Cathedral Church of All Saints\, 1330 Cathedral Ln\, Halifax
ATTACH;FMTTYPE=image/jpeg:https://livemusichalifax.ca/wp-content/uploads/2025/09/all-saints-cathedral-e1759060994833.jpg
END:VEVENT
BEGIN:VEVENT
DTSTART;TZID=America/Halifax:20260301T200000
DTEND;TZID=America/Halifax:20260301T230000
DTSTAMP:20260421T082017
CREATED:20250706T154439Z
LAST-MODIFIED:20250708T180930Z
UID:10000201-1772395200-1772406000@livemusichalifax.ca
SUMMARY:Sunday night blues jam
DESCRIPTION:Local blues musicians try out their stuff at the traditional blues jam run by Andrew Gillis and his back up band.
URL:https://livemusichalifax.ca/event/sunday-night-blues-jam/2026-03-01/
LOCATION:Bearly’s House of Blues & Ribs\, 1579 Grafton St\, Halifax
ATTACH;FMTTYPE=image/jpeg:https://livemusichalifax.ca/wp-content/uploads/2025/07/blues-jam-at-bearleys-scaled-e1751824593872.jpeg
END:VEVENT
END:VCALENDAR