BEGIN:VCALENDAR
VERSION:2.0
PRODID:-//Live Music Halifax - ECPv6.15.20//NONSGML v1.0//EN
CALSCALE:GREGORIAN
METHOD:PUBLISH
X-WR-CALNAME:Live Music Halifax
X-ORIGINAL-URL:https://livemusichalifax.ca
X-WR-CALDESC:Events for Live Music Halifax
REFRESH-INTERVAL;VALUE=DURATION:PT1H
X-Robots-Tag:noindex
X-PUBLISHED-TTL:PT1H
BEGIN:VTIMEZONE
TZID:America/Halifax
BEGIN:DAYLIGHT
TZOFFSETFROM:-0400
TZOFFSETTO:-0300
TZNAME:ADT
DTSTART:20250309T060000
END:DAYLIGHT
BEGIN:STANDARD
TZOFFSETFROM:-0300
TZOFFSETTO:-0400
TZNAME:AST
DTSTART:20251102T050000
END:STANDARD
BEGIN:DAYLIGHT
TZOFFSETFROM:-0400
TZOFFSETTO:-0300
TZNAME:ADT
DTSTART:20260308T060000
END:DAYLIGHT
BEGIN:STANDARD
TZOFFSETFROM:-0300
TZOFFSETTO:-0400
TZNAME:AST
DTSTART:20261101T050000
END:STANDARD
BEGIN:DAYLIGHT
TZOFFSETFROM:-0400
TZOFFSETTO:-0300
TZNAME:ADT
DTSTART:20270314T060000
END:DAYLIGHT
BEGIN:STANDARD
TZOFFSETFROM:-0300
TZOFFSETTO:-0400
TZNAME:AST
DTSTART:20271107T050000
END:STANDARD
END:VTIMEZONE
BEGIN:VEVENT
DTSTART;TZID=America/Halifax:20260212T180000
DTEND;TZID=America/Halifax:20260212T210000
DTSTAMP:20260421T141735
CREATED:20260205T165255Z
LAST-MODIFIED:20260205T165614Z
UID:10003937-1770919200-1770930000@livemusichalifax.ca
SUMMARY:Alphonse\, Bjornson\, Hubert
DESCRIPTION:As an accomplished drummer and bandleader John Alphonse has amassed quite an enviable record. He spent seven years as the drummer with Rita MacNeil. He has accompanied Anne Murray\, Mitch Miller\, Pat Boone\, Stan Rogers\, Vera Lynn\, Catherine McKinnon\, The Irish Rovers\, Peter Appleyard\, Red Buttons\, Dinah Christie\, Patti Page and Dionne Warwick to name only a few. He has served as the regional Entertainment Director for the Jerry Lewis Muscular Dystrophy Labor Day Telethon. John has served for twenty years as the Entertainment Director for the Children’s Miracle Network Telethon held in June of every year. \nLarry Bjornson Larry’s music education began at Detroit’s Centre for Creative Studies Jazz Workshop\, led by trumpet great Marcus Belgrave. Bjornson flourished in this environment as have the likes of Kenny Garrett\, James Carter\, Geri Allen\, Rodney Whitaker and Bob Hurst to name only a few. Larry continued his studies earning a bachelor of music in jazz performance at Mcgill University in Montreal then continued graduate studies in performance at Wayne State University back in Detroit. Upon returning to Detroit\, Larry became a regular bassist for his mentor Marcus Belgrave maintaining a busy concert\, club and touring schedule.During this time he also became a member of the Michigan Opera Theatre orchestra\, Detroit’s Opera. Larry has performed with a very broad spectrum of artists ranging from The Moody Blues\, Nell Carter\, Mitsou\, top jazz musicians; Charles MacPherson\, James Carter and Charles Tolliver to backing up personalities like Joan Rivers\, and Regis Philbin. Larry is currently a member of the Stadacona Band of the Royal Canadian Navy\, and resides in Halifax\, Nova Scotia with his wife and three children.
URL:https://livemusichalifax.ca/event/alphonse-bjornson-hubert/
LOCATION:Wooden Monkey\, Alderney Landing
ATTACH;FMTTYPE=image/jpeg:https://livemusichalifax.ca/wp-content/uploads/2025/10/wooden-monkey-1-e1759618261264.jpg
END:VEVENT
BEGIN:VEVENT
DTSTART;TZID=America/Halifax:20260212T190000
DTEND;TZID=America/Halifax:20260212T190000
DTSTAMP:20260421T141735
CREATED:20251230T223101Z
LAST-MODIFIED:20251231T003146Z
UID:10003892-1770922800-1770922800@livemusichalifax.ca
SUMMARY:Sacred Sounds: Jody Lyne
DESCRIPTION:Jody Lyne is a first generation Canadian of Antiguan descent. He was educated in Bedford\, Nova Scotia and later studied at Dalhousie University\, receiving his Bachelor of Music majoring in composition. Mr. Lyne’s instruments of choice are trumpet and piano while other instruments are various percussion and voice. \nJody has played and recorded professionally for the last ten years in a variety of genres and has shared the stage with artists such as\, David Foster\, Nathan East\, Dan Aykroyd\, Dutch Robinson\, Jeremiah Sparks\, Jerome Sparks and others. Furthermore\, Jody has performed with various groups and artists such as The Mellotones\, Nu Gruv\, Afromusica\, Rusta Gumbo\, The Metric System\, Trobiz\, Maddison Ave\, The Platters\, The Guthries\, Hoppin’ Penguins and The Upstream Jazz Ensemble to name a few. \nHe composes for a number of ensembles and bands in Halifax as well as for media\, including film and television. Additionally\, Mr. Lyne has enjoyed instructing musicians of all ages through the Canadian Conservatory of Performing Arts for the past nine years. \nUsing his knowledge in electro-acoustics\, Jody is experienced producing and recording small ensembles as well as soloists\, and has done so on many of his and other composers’ works. He is following a dream that has motivated him since the age of five years old\, and his natural talent\, work ethic\, skill and perseverance will make it reality.
URL:https://livemusichalifax.ca/event/sacred-silence-sacred-sounds-2/
LOCATION:First Baptist Church\, 1300 Oxford St.
ATTACH;FMTTYPE=image/jpeg:https://livemusichalifax.ca/wp-content/uploads/2025/12/jody_lyne_sq-300x280-1.jpg
END:VEVENT
BEGIN:VEVENT
DTSTART;TZID=America/Halifax:20260212T193000
DTEND;TZID=America/Halifax:20260212T213000
DTSTAMP:20260421T141735
CREATED:20250916T160638Z
LAST-MODIFIED:20250916T160936Z
UID:10002136-1770924600-1770931800@livemusichalifax.ca
SUMMARY:Chebucto Symphony
DESCRIPTION:Winter Concert\nRepertoire TBA
URL:https://livemusichalifax.ca/event/chebucto-symphony-2/
LOCATION:Christ Church\, Dartmouth\, 50 Wentworth St.\, Halifax
ATTACH;FMTTYPE=image/jpeg:https://livemusichalifax.ca/wp-content/uploads/2025/09/chebucto-symphony-e1758038343325.jpg
END:VEVENT
END:VCALENDAR