BEGIN:VCALENDAR
VERSION:2.0
PRODID:-//Live Music Halifax - ECPv6.15.20//NONSGML v1.0//EN
CALSCALE:GREGORIAN
METHOD:PUBLISH
X-ORIGINAL-URL:https://livemusichalifax.ca
X-WR-CALDESC:Events for Live Music Halifax
REFRESH-INTERVAL;VALUE=DURATION:PT1H
X-Robots-Tag:noindex
X-PUBLISHED-TTL:PT1H
BEGIN:VTIMEZONE
TZID:America/Halifax
BEGIN:DAYLIGHT
TZOFFSETFROM:-0400
TZOFFSETTO:-0300
TZNAME:ADT
DTSTART:20240310T060000
END:DAYLIGHT
BEGIN:STANDARD
TZOFFSETFROM:-0300
TZOFFSETTO:-0400
TZNAME:AST
DTSTART:20241103T050000
END:STANDARD
BEGIN:DAYLIGHT
TZOFFSETFROM:-0400
TZOFFSETTO:-0300
TZNAME:ADT
DTSTART:20250309T060000
END:DAYLIGHT
BEGIN:STANDARD
TZOFFSETFROM:-0300
TZOFFSETTO:-0400
TZNAME:AST
DTSTART:20251102T050000
END:STANDARD
BEGIN:DAYLIGHT
TZOFFSETFROM:-0400
TZOFFSETTO:-0300
TZNAME:ADT
DTSTART:20260308T060000
END:DAYLIGHT
BEGIN:STANDARD
TZOFFSETFROM:-0300
TZOFFSETTO:-0400
TZNAME:AST
DTSTART:20261101T050000
END:STANDARD
END:VTIMEZONE
BEGIN:VEVENT
DTSTART;TZID=America/Halifax:20251218T180000
DTEND;TZID=America/Halifax:20251218T200000
DTSTAMP:20260421T172817
CREATED:20251215T163651Z
LAST-MODIFIED:20251215T163733Z
UID:10003697-1766080800-1766088000@livemusichalifax.ca
SUMMARY:Geordie Haley\, David Burton & Trevor Wentzel
DESCRIPTION:Geordie\, Trevor & David– top local jazz talent with fine food!
URL:https://livemusichalifax.ca/event/geordie-haley-david-burton-trevor-wentzel/
LOCATION:Wooden Monkey\, Alderney Landing
ATTACH;FMTTYPE=image/jpeg:https://livemusichalifax.ca/wp-content/uploads/2025/07/haley-wentzell-burton.jpg
END:VEVENT
BEGIN:VEVENT
DTSTART;TZID=America/Halifax:20251218T193000
DTEND;TZID=America/Halifax:20251218T213000
DTSTAMP:20260421T172817
CREATED:20251215T164635Z
LAST-MODIFIED:20251215T164635Z
UID:10003699-1766086200-1766093400@livemusichalifax.ca
SUMMARY:Solstice Sound
DESCRIPTION:Improvised music with N8-E\, Dreamboat Troposphere and Longer Days Sounds
URL:https://livemusichalifax.ca/event/solstice-sound/
LOCATION:Radstorm\, 2177 Gottingen St
ATTACH;FMTTYPE=image/webp:https://livemusichalifax.ca/wp-content/uploads/2025/11/radstorm-logo-e1762710366263.webp
END:VEVENT
END:VCALENDAR