BEGIN:VCALENDAR
VERSION:2.0
PRODID:-//Live Music Halifax - ECPv6.15.20//NONSGML v1.0//EN
CALSCALE:GREGORIAN
METHOD:PUBLISH
X-ORIGINAL-URL:https://livemusichalifax.ca
X-WR-CALDESC:Events for Live Music Halifax
REFRESH-INTERVAL;VALUE=DURATION:PT1H
X-Robots-Tag:noindex
X-PUBLISHED-TTL:PT1H
BEGIN:VTIMEZONE
TZID:America/Halifax
BEGIN:DAYLIGHT
TZOFFSETFROM:-0400
TZOFFSETTO:-0300
TZNAME:ADT
DTSTART:20240310T060000
END:DAYLIGHT
BEGIN:STANDARD
TZOFFSETFROM:-0300
TZOFFSETTO:-0400
TZNAME:AST
DTSTART:20241103T050000
END:STANDARD
BEGIN:DAYLIGHT
TZOFFSETFROM:-0400
TZOFFSETTO:-0300
TZNAME:ADT
DTSTART:20250309T060000
END:DAYLIGHT
BEGIN:STANDARD
TZOFFSETFROM:-0300
TZOFFSETTO:-0400
TZNAME:AST
DTSTART:20251102T050000
END:STANDARD
BEGIN:DAYLIGHT
TZOFFSETFROM:-0400
TZOFFSETTO:-0300
TZNAME:ADT
DTSTART:20260308T060000
END:DAYLIGHT
BEGIN:STANDARD
TZOFFSETFROM:-0300
TZOFFSETTO:-0400
TZNAME:AST
DTSTART:20261101T050000
END:STANDARD
END:VTIMEZONE
BEGIN:VEVENT
DTSTART;TZID=America/Halifax:20251213T140000
DTEND;TZID=America/Halifax:20251213T150000
DTSTAMP:20260421T191117
CREATED:20250922T182835Z
LAST-MODIFIED:20250922T182835Z
UID:10002203-1765634400-1765638000@livemusichalifax.ca
SUMMARY:Enchor East Singers
DESCRIPTION:EnChor East is a four-voiced community choir of 50+ voices\, drawing members from the Halifax area. EnChor East meets Tuesday evenings\, September to May.
URL:https://livemusichalifax.ca/event/enchor-east-singers/
LOCATION:Sackville Public Library\, 636 Sackville Drive
ATTACH;FMTTYPE=image/jpeg:https://livemusichalifax.ca/wp-content/uploads/2025/09/enchor-east-singers-e1758565707784.jpg
END:VEVENT
BEGIN:VEVENT
DTSTART;TZID=America/Halifax:20251213T203000
DTEND;TZID=America/Halifax:20251213T233000
DTSTAMP:20260421T191117
CREATED:20251109T171434Z
LAST-MODIFIED:20251109T171434Z
UID:10003155-1765657800-1765668600@livemusichalifax.ca
SUMMARY:G Street Band
DESCRIPTION:G Street Band electrifies the dance floor with their high-energy fusion of classic and current\, pop\, rock\, funk…and a touch of jazz!
URL:https://livemusichalifax.ca/event/g-street-band-6/2025-12-13/
LOCATION:Pacifico\, 5171 George St
ATTACH;FMTTYPE=image/avif:https://livemusichalifax.ca/wp-content/uploads/2025/09/g-street-band.avif
END:VEVENT
END:VCALENDAR