BEGIN:VCALENDAR
VERSION:2.0
PRODID:-//Live Music Halifax - ECPv6.15.20//NONSGML v1.0//EN
CALSCALE:GREGORIAN
METHOD:PUBLISH
X-WR-CALNAME:Live Music Halifax
X-ORIGINAL-URL:https://livemusichalifax.ca
X-WR-CALDESC:Events for Live Music Halifax
REFRESH-INTERVAL;VALUE=DURATION:PT1H
X-Robots-Tag:noindex
X-PUBLISHED-TTL:PT1H
BEGIN:VTIMEZONE
TZID:America/Halifax
BEGIN:DAYLIGHT
TZOFFSETFROM:-0400
TZOFFSETTO:-0300
TZNAME:ADT
DTSTART:20240310T060000
END:DAYLIGHT
BEGIN:STANDARD
TZOFFSETFROM:-0300
TZOFFSETTO:-0400
TZNAME:AST
DTSTART:20241103T050000
END:STANDARD
BEGIN:DAYLIGHT
TZOFFSETFROM:-0400
TZOFFSETTO:-0300
TZNAME:ADT
DTSTART:20250309T060000
END:DAYLIGHT
BEGIN:STANDARD
TZOFFSETFROM:-0300
TZOFFSETTO:-0400
TZNAME:AST
DTSTART:20251102T050000
END:STANDARD
BEGIN:DAYLIGHT
TZOFFSETFROM:-0400
TZOFFSETTO:-0300
TZNAME:ADT
DTSTART:20260308T060000
END:DAYLIGHT
BEGIN:STANDARD
TZOFFSETFROM:-0300
TZOFFSETTO:-0400
TZNAME:AST
DTSTART:20261101T050000
END:STANDARD
END:VTIMEZONE
BEGIN:VEVENT
DTSTART;TZID=America/Halifax:20251212T173000
DTEND;TZID=America/Halifax:20251212T193000
DTSTAMP:20260422T002333
CREATED:20250926T145214Z
LAST-MODIFIED:20260404T125323Z
UID:10004449-1765560600-1765567800@livemusichalifax.ca
SUMMARY:Big Easy Fridays!
DESCRIPTION:Sounds of New Orleans with Mike Cowie & John Alphonse \nMore events all week on Bearly’s website
URL:https://livemusichalifax.ca/event/big-easy-fridays-3/2025-12-12/
LOCATION:Bearly’s House of Blues & Ribs\, 1579 Grafton St\, Halifax
ATTACH;FMTTYPE=image/jpeg:https://livemusichalifax.ca/wp-content/uploads/2025/09/Mike-Cowie-John-Alphonse.jpg
END:VEVENT
BEGIN:VEVENT
DTSTART;TZID=America/Halifax:20251212T200000
DTEND;TZID=America/Halifax:20251212T220000
DTSTAMP:20260422T002333
CREATED:20251128T144943Z
LAST-MODIFIED:20251128T144943Z
UID:10003632-1765569600-1765576800@livemusichalifax.ca
SUMMARY:Caito Macdonald Trio
DESCRIPTION:Caito Macdonald is a percussionist and composer from Dartmouth\, NS. Caito’s musical style is rooted in the jazz tradition\, and he performs at various jazz gigs around Halifax. Caito’s trio plays every Friday at the Barrington Steakhouse\, and he can also be heard in the local rock/fusion band ‘Under the Bus’.
URL:https://livemusichalifax.ca/event/caito-macdonald-trio/2025-12-12/
LOCATION:Barrington Steakhouse & Oyster Bar\, 1662 Barrington St.\, Halifax
ATTACH;FMTTYPE=image/jpeg:https://livemusichalifax.ca/wp-content/uploads/2025/07/caito-macdonald-trio-e1751826551631.jpg
END:VEVENT
BEGIN:VEVENT
DTSTART;TZID=America/Halifax:20251212T203000
DTEND;TZID=America/Halifax:20251212T233000
DTSTAMP:20260422T002333
CREATED:20251012T031858Z
LAST-MODIFIED:20251109T172131Z
UID:10003221-1765571400-1765582200@livemusichalifax.ca
SUMMARY:The Mellotones
DESCRIPTION:For over two decades\, The Mellotones have been bringing their high-octane party to stages around the world. Lighting up dance floors wherever they go\, the R&B Funk band is an 8-piece powerhouse.
URL:https://livemusichalifax.ca/event/the-mellotones-7/2025-12-12/
LOCATION:Pacifico\, 5171 George St
ATTACH;FMTTYPE=image/avif:https://livemusichalifax.ca/wp-content/uploads/2025/08/mellotones.jpg.avif
END:VEVENT
BEGIN:VEVENT
DTSTART;TZID=America/Halifax:20251212T203000
DTEND;TZID=America/Halifax:20251212T233000
DTSTAMP:20260422T002333
CREATED:20251230T143326Z
LAST-MODIFIED:20251230T143326Z
UID:10003750-1765571400-1765582200@livemusichalifax.ca
SUMMARY:The Mellotones
DESCRIPTION:For over two decades\, The Mellotones have been bringing their high-octane party to stages around the world. Lighting up dance floors wherever they go\, the R&B Funk band is an 8-piece powerhouse.
URL:https://livemusichalifax.ca/event/the-mellotones-2/2025-12-12/
LOCATION:Pacifico\, 5171 George St
ATTACH;FMTTYPE=image/avif:https://livemusichalifax.ca/wp-content/uploads/2025/08/mellotones.jpg.avif
END:VEVENT
BEGIN:VEVENT
DTSTART;TZID=America/Halifax:20251212T210000
DTEND;TZID=America/Halifax:20251212T233000
DTSTAMP:20260422T002333
CREATED:20251116T172438Z
LAST-MODIFIED:20251211T212417Z
UID:10003292-1765573200-1765582200@livemusichalifax.ca
SUMMARY:Roxy & The Underground Soul Sound
DESCRIPTION:Roxy and the Underground Soul Sound epitomize the soul-funk scene\, hailing proudly from Halifax\, Nova Scotia. This award-winning ensemble\, comprising six exceptional musicians\, channels an irresistible energy that ignites stages wherever they perform. Lead vocalist Roxy Mercier\, alongside Andrew Jackson on trombone\, James Shaw on saxophones\, Pat Healy on guitar\, Luke Arsenault on bass\, and Brendan Melchin on drums\, form the heart and soul of this dynamic band. \nSince their inception in 2013\, Roxy and the Underground Soul Sound have entranced audiences throughout Canada with their electrifying live performances. Blending Roxy’s commanding vocals with tight horn lines and an infectious rhythm\, their music compels listeners to their feet\, creating an unforgettable experience. The band has graced the stages of prestigious festivals such as the Halifax Jazz Festival\, Harvest Music Festival (NB)\, Stan Rogers Festival\, and Cloggeroo (PEI). Notable highlights include sharing the stage with renowned acts like Chana Khan\, The Trews\, and Joel Plaskett. \nWith each album\, Roxy and the Underground Soul Sound push the boundaries of their sound\, seamlessly weaving together elements of 90s R&B\, Neo-Soul\, and old-school funk. Their upcoming EP\, “Daylight\,” promises to be a testament to their evolution\, maintaining their signature underground sound while venturing into new sonic territories. Anticipation runs high for their forthcoming album slated for release in the summer of 2024. \nTheir accolades speak volumes about their talent and impact\, with multiple Nova Scotia Music Week Awards under their belt\, including Urban Recording of the Year and Blues Recording of the Year. Additionally\, they’ve garnered numerous nominations\, further solidifying their status as a powerhouse in the R&B and soul scene. Their consistent recognition in The Coast’s “Best of” series\, earning gold and silver distinctions\, underscores their enduring popularity and influence. \nRoxy and the Underground Soul Sound continue to captivate audiences with their infectious grooves\, soulful melodies\, and electrifying performances. As they embark on new musical endeavors\, their commitment to pushing boundaries and creating unforgettable music remains unwavering\, promising even greater heights in the years to come.
URL:https://livemusichalifax.ca/event/roxy-the-underground-soul-sound-3/
LOCATION:Bearly’s House of Blues & Ribs\, 1579 Grafton St\, Halifax
ATTACH;FMTTYPE=image/jpeg:https://livemusichalifax.ca/wp-content/uploads/2025/09/Roxy-TUSS-e1758568899661.jpg
END:VEVENT
END:VCALENDAR