BEGIN:VCALENDAR
VERSION:2.0
PRODID:-//Live Music Halifax - ECPv6.15.20//NONSGML v1.0//EN
CALSCALE:GREGORIAN
METHOD:PUBLISH
X-ORIGINAL-URL:https://livemusichalifax.ca
X-WR-CALDESC:Events for Live Music Halifax
REFRESH-INTERVAL;VALUE=DURATION:PT1H
X-Robots-Tag:noindex
X-PUBLISHED-TTL:PT1H
BEGIN:VTIMEZONE
TZID:America/Halifax
BEGIN:DAYLIGHT
TZOFFSETFROM:-0400
TZOFFSETTO:-0300
TZNAME:ADT
DTSTART:20240310T060000
END:DAYLIGHT
BEGIN:STANDARD
TZOFFSETFROM:-0300
TZOFFSETTO:-0400
TZNAME:AST
DTSTART:20241103T050000
END:STANDARD
BEGIN:DAYLIGHT
TZOFFSETFROM:-0400
TZOFFSETTO:-0300
TZNAME:ADT
DTSTART:20250309T060000
END:DAYLIGHT
BEGIN:STANDARD
TZOFFSETFROM:-0300
TZOFFSETTO:-0400
TZNAME:AST
DTSTART:20251102T050000
END:STANDARD
BEGIN:DAYLIGHT
TZOFFSETFROM:-0400
TZOFFSETTO:-0300
TZNAME:ADT
DTSTART:20260308T060000
END:DAYLIGHT
BEGIN:STANDARD
TZOFFSETFROM:-0300
TZOFFSETTO:-0400
TZNAME:AST
DTSTART:20261101T050000
END:STANDARD
END:VTIMEZONE
BEGIN:VEVENT
DTSTART;TZID=America/Halifax:20250912T200000
DTEND;TZID=America/Halifax:20250912T223000
DTSTAMP:20260419T161921
CREATED:20250911T023617Z
LAST-MODIFIED:20250911T023617Z
UID:10002100-1757707200-1757716200@livemusichalifax.ca
SUMMARY:Brookside & Bowskill
DESCRIPTION:Brooks & Bowskill is the collaboration of Canadian wife-and-husband musicians Brittany Brooks and Jimmy Bowskill. Their genre-bending sound journeys between folk\, country-rock\, pop and rock and roll. \n​Jim Bowskill\, a multi-talented instrumentalist\, songwriter\, producer and recording engineer has established himself as one of the most profound musicians and music producers in the industry. He is a member of Canadian country-rock band Blue Rodeo\, as their multi-instrumentalist and previously spent 7 years as lead guitarist of Canadian rock band The Sheepdogs. \nSince the beginning of her musical career\, BrittanyBrooks has been a prolific songwriter\, singer and instrumentalist\, crafting lyrically evocative songs steeped in wisdom beyond her years. She has become notable for her unique and poignant vocal styling reminiscent of female folk-rock pioneers from the ‘60s like Sandy Denny\, Joni Mitchell and country artists like Emmylou Harris and Sylvia Tyson. In addition to releasing multiple solo albums\, Brooks has provided background vocals on records and in live performances for numerous bands including Blue Rodeo. \nTheir debut long-play album Too Many Roads (released Jan. 2023) gained critical acclaim for the couple’s versatile songwriting\, expert musicianship and undeniable chemistry as musical collaborators. A lot has changed since the debut record from the duo. First\, they got married\, making official the deep connection between the pair that was so clear in the songs of that first LP. They also moved their studio\, Ganaraska Recording Co\, from a former Ontario Hydro building in an industrial part of Cobourg\, Ontario to a nearly 200-year-old farmhouse in the Northumberland Hills. Lastly\, they introduced themselves and their songs to live audiences across southern Ontario. The shows garnered rave reviews from concert goers in small community halls\, downtown rock bars\, and stately\, storied theatres. Every stage\, no matter what size\, became a place for Brooks and Bowskill\, along with their band the Hometown Beauts\, to show their love for live performance\, for their new songs and treasured covers\, for their audience and for each other. \nNow Brooks and Bowskill present their second long playing album\, Blissful State of Mind\, a record of the last two years for the band. It is the sound of the marriage of two old souled songwriters\, merging their histories together and imbuing each other with confidence. It is the sound of the rolling hills north of Cobourg\, and an old farmhouse resurrected and filled with life again. It’s also the sound of a band of musicians who have played together long enough to be able to anticipate each other’s next moves. In sum\, Blissful State of Mind is the sound of a group at home\, for a moment\, in the moment.
URL:https://livemusichalifax.ca/event/brookside-bowskill/
LOCATION:The Carleton\, 1685 Argyle St\, Halifax
ATTACH;FMTTYPE=image/jpeg:https://livemusichalifax.ca/wp-content/uploads/2025/09/Brookside-Bowkill-e1757558061260.jpg
END:VEVENT
BEGIN:VEVENT
DTSTART;TZID=America/Halifax:20250912T203000
DTEND;TZID=America/Halifax:20250912T233000
DTSTAMP:20260419T161921
CREATED:20251230T143326Z
LAST-MODIFIED:20251230T143326Z
UID:10003737-1757709000-1757719800@livemusichalifax.ca
SUMMARY:The Mellotones
DESCRIPTION:For over two decades\, The Mellotones have been bringing their high-octane party to stages around the world. Lighting up dance floors wherever they go\, the R&B Funk band is an 8-piece powerhouse.
URL:https://livemusichalifax.ca/event/the-mellotones-2/2025-09-12/
LOCATION:Pacifico\, 5171 George St
ATTACH;FMTTYPE=image/avif:https://livemusichalifax.ca/wp-content/uploads/2025/08/mellotones.jpg.avif
END:VEVENT
END:VCALENDAR