BEGIN:VCALENDAR
VERSION:2.0
PRODID:-//Live Music Halifax - ECPv6.15.20//NONSGML v1.0//EN
CALSCALE:GREGORIAN
METHOD:PUBLISH
X-WR-CALNAME:Live Music Halifax
X-ORIGINAL-URL:https://livemusichalifax.ca
X-WR-CALDESC:Events for Live Music Halifax
REFRESH-INTERVAL;VALUE=DURATION:PT1H
X-Robots-Tag:noindex
X-PUBLISHED-TTL:PT1H
BEGIN:VTIMEZONE
TZID:America/Halifax
BEGIN:DAYLIGHT
TZOFFSETFROM:-0400
TZOFFSETTO:-0300
TZNAME:ADT
DTSTART:20240310T060000
END:DAYLIGHT
BEGIN:STANDARD
TZOFFSETFROM:-0300
TZOFFSETTO:-0400
TZNAME:AST
DTSTART:20241103T050000
END:STANDARD
BEGIN:DAYLIGHT
TZOFFSETFROM:-0400
TZOFFSETTO:-0300
TZNAME:ADT
DTSTART:20250309T060000
END:DAYLIGHT
BEGIN:STANDARD
TZOFFSETFROM:-0300
TZOFFSETTO:-0400
TZNAME:AST
DTSTART:20251102T050000
END:STANDARD
BEGIN:DAYLIGHT
TZOFFSETFROM:-0400
TZOFFSETTO:-0300
TZNAME:ADT
DTSTART:20260308T060000
END:DAYLIGHT
BEGIN:STANDARD
TZOFFSETFROM:-0300
TZOFFSETTO:-0400
TZNAME:AST
DTSTART:20261101T050000
END:STANDARD
END:VTIMEZONE
BEGIN:VEVENT
DTSTART;TZID=America/Halifax:20250906T160000
DTEND;TZID=America/Halifax:20250906T180000
DTSTAMP:20260421T190415
CREATED:20251013T215003Z
LAST-MODIFIED:20251013T215003Z
UID:10001933-1757174400-1757181600@livemusichalifax.ca
SUMMARY:Shirley Jackson & Her Good Rockin’ Daddys
DESCRIPTION:Come join in the Good Rockin’ Fun! Who has more fun than us at Colleen’s Pub? \nReservations Recommended.
URL:https://livemusichalifax.ca/event/shirley-jackson-her-good-rockin-daddys-colleens-pub/
LOCATION:Colleen’s Pub\, Dartmouth
ATTACH;FMTTYPE=image/jpeg:https://livemusichalifax.ca/wp-content/uploads/2025/08/Colleens-Pub-e1756287384815.jpg
END:VEVENT
BEGIN:VEVENT
DTSTART;TZID=America/Halifax:20250906T200000
DTEND;TZID=America/Halifax:20250906T235900
DTSTAMP:20260421T190415
CREATED:20251013T215003Z
LAST-MODIFIED:20251013T215003Z
UID:10001934-1757188800-1757203140@livemusichalifax.ca
SUMMARY:Rec Room Jams
DESCRIPTION:Rec Room Jams is a live music show that plays the “nightclub style” music of the 70s\, 80s\, 90s\, 2000+ and Today. These talented musicians will make your event the Best Party on the Block!
URL:https://livemusichalifax.ca/event/rec-room-jams/
LOCATION:Doolittle’s Sports Bar & Grill\, 90 Tacoma Dr
ATTACH;FMTTYPE=image/jpeg:https://livemusichalifax.ca/wp-content/uploads/2025/09/recroomjams2-e1756849372134.jpg
END:VEVENT
END:VCALENDAR