BEGIN:VCALENDAR
VERSION:2.0
PRODID:-//Live Music Halifax - ECPv6.15.20//NONSGML v1.0//EN
CALSCALE:GREGORIAN
METHOD:PUBLISH
X-WR-CALNAME:Live Music Halifax
X-ORIGINAL-URL:https://livemusichalifax.ca
X-WR-CALDESC:Events for Live Music Halifax
REFRESH-INTERVAL;VALUE=DURATION:PT1H
X-Robots-Tag:noindex
X-PUBLISHED-TTL:PT1H
BEGIN:VTIMEZONE
TZID:America/Halifax
BEGIN:DAYLIGHT
TZOFFSETFROM:-0400
TZOFFSETTO:-0300
TZNAME:ADT
DTSTART:20240310T060000
END:DAYLIGHT
BEGIN:STANDARD
TZOFFSETFROM:-0300
TZOFFSETTO:-0400
TZNAME:AST
DTSTART:20241103T050000
END:STANDARD
BEGIN:DAYLIGHT
TZOFFSETFROM:-0400
TZOFFSETTO:-0300
TZNAME:ADT
DTSTART:20250309T060000
END:DAYLIGHT
BEGIN:STANDARD
TZOFFSETFROM:-0300
TZOFFSETTO:-0400
TZNAME:AST
DTSTART:20251102T050000
END:STANDARD
BEGIN:DAYLIGHT
TZOFFSETFROM:-0400
TZOFFSETTO:-0300
TZNAME:ADT
DTSTART:20260308T060000
END:DAYLIGHT
BEGIN:STANDARD
TZOFFSETFROM:-0300
TZOFFSETTO:-0400
TZNAME:AST
DTSTART:20261101T050000
END:STANDARD
END:VTIMEZONE
BEGIN:VEVENT
DTSTART;TZID=America/Halifax:20250901T140000
DTEND;TZID=America/Halifax:20250901T140000
DTSTAMP:20260421T140544
CREATED:20251013T215015Z
LAST-MODIFIED:20251013T215015Z
UID:10000101-1756735200-1756735200@livemusichalifax.ca
SUMMARY:Rankin Macinnis
DESCRIPTION:Downtown Dartmouth Business Commission concert series \nMusic Nova Scotia’s Entertainer of the Year comes with a big band and a big sound. Known for their eclectic\, high-energy shows\, Rankin and the Broken Reeds bring together the region’s top musical talent for a live-music experience unlike anything you’ve seen before — one that feels like it spans time and genres\, from traditional folk to future pop\, fueled by a lot of groove and finished with a bit of grit. Together\, the band has built an award-winning music festival (Blueberry Jam)\, a first-of-its-kind concert series (Rankin’s Winter Warmers)\, and a community of creative collaborators who are up for anything — and fans who can’t wait to see what’s next. And what’s next is the band’s highly anticipated debut full-length studio album\, coming in 2024 – Rankin’s first since House Party with Party Boots in 2019. 
URL:https://livemusichalifax.ca/event/rankin-macinnis/
LOCATION:Sullivan’s Pond\, Chrichton Ave & Ochterloney St\, Dartmouth NS
ATTACH;FMTTYPE=image/jpeg:https://livemusichalifax.ca/wp-content/uploads/2025/07/rankin-macinnis.jpg
END:VEVENT
BEGIN:VEVENT
DTSTART;TZID=America/Halifax:20250901T190000
DTEND;TZID=America/Halifax:20250901T220000
DTSTAMP:20260421T140544
CREATED:20251013T215015Z
LAST-MODIFIED:20251013T215015Z
UID:10001546-1756753200-1756764000@livemusichalifax.ca
SUMMARY:Dave MacIsaac
DESCRIPTION:Dave MacIsaac is a Canadian musician from Nova Scotia who plays the fiddle and guitar\, specialising in the Celtic music style. \nAwards \n\n1996: East Coast Music Awards – winner: Male Artist of the Year; Instrumental Artist of the Year; Celtic Recording of the Year (Nimble Fingers)[2]\n2017: Honorary Doctorate from Cape Breton University.
URL:https://livemusichalifax.ca/event/dave-macisaac-2-4/
LOCATION:Old Triangle\, 5136 Prince Street\, Halifax
ATTACH;FMTTYPE=image/jpeg:https://livemusichalifax.ca/wp-content/uploads/2025/07/Dave-MacIsaac-e1753053916186.jpg
END:VEVENT
END:VCALENDAR