BEGIN:VCALENDAR
VERSION:2.0
PRODID:-//Live Music Halifax - ECPv6.15.20//NONSGML v1.0//EN
CALSCALE:GREGORIAN
METHOD:PUBLISH
X-WR-CALNAME:Live Music Halifax
X-ORIGINAL-URL:https://livemusichalifax.ca
X-WR-CALDESC:Events for Live Music Halifax
REFRESH-INTERVAL;VALUE=DURATION:PT1H
X-Robots-Tag:noindex
X-PUBLISHED-TTL:PT1H
BEGIN:VTIMEZONE
TZID:America/Halifax
BEGIN:DAYLIGHT
TZOFFSETFROM:-0400
TZOFFSETTO:-0300
TZNAME:ADT
DTSTART:20240310T060000
END:DAYLIGHT
BEGIN:STANDARD
TZOFFSETFROM:-0300
TZOFFSETTO:-0400
TZNAME:AST
DTSTART:20241103T050000
END:STANDARD
BEGIN:DAYLIGHT
TZOFFSETFROM:-0400
TZOFFSETTO:-0300
TZNAME:ADT
DTSTART:20250309T060000
END:DAYLIGHT
BEGIN:STANDARD
TZOFFSETFROM:-0300
TZOFFSETTO:-0400
TZNAME:AST
DTSTART:20251102T050000
END:STANDARD
BEGIN:DAYLIGHT
TZOFFSETFROM:-0400
TZOFFSETTO:-0300
TZNAME:ADT
DTSTART:20260308T060000
END:DAYLIGHT
BEGIN:STANDARD
TZOFFSETFROM:-0300
TZOFFSETTO:-0400
TZNAME:AST
DTSTART:20261101T050000
END:STANDARD
END:VTIMEZONE
BEGIN:VEVENT
DTSTART;TZID=America/Halifax:20250828T180000
DTEND;TZID=America/Halifax:20250828T210000
DTSTAMP:20260421T142219
CREATED:20251013T214643Z
LAST-MODIFIED:20251013T214643Z
UID:10001843-1756404000-1756414800@livemusichalifax.ca
SUMMARY:Holly Arsenault & Tom Easely
DESCRIPTION:The piano has been Holly Arsenault’s favourite toy since the ripe old age of 4 when she came upon the tired old upright at her grandmother’s house in Cape Breton. In the years since\, she has traveled the globe as a pit musician\, music director\, sideman\, soloist and leader of her own trio . These days\, Holly lives and plays in Halifax\, Nova Scotia\, with forays into the wider world as opportunities and adventures beckon. \nOver the past 30 years she has earned acclaim as a leader\, soloist and sideperson. She has performed with Symphony Nova Scotia\, The Daniel Matto Quintet\, Karen Myatt\, and has many shows to her credit as a pit musician at Neptune Theatre. Her original compositions have been lauded nationally and abroad\, and have been featured in Global/ABC TV’s Rookie Blue; her work in musical theatre has been recognized with Dora and Merritt awards. She is the producer and host of Holly Arsenault Presents\, a series showcasing some of her favourite vocalists from her extensive work as an accompanist\, and is currently in collaboration with playwright Bruce Graham on a musical about Charles Tupper and the founding fathers of Confederation \nBassist\, composer\, and educator Tom Easley has earned a reputation as one of Eastern Canada’s finest jazz bassists. Two-time East Coast Music Award Winner\, Maple Blues Winner and multiple award nominee\, Tom co-lead the music group Hot Toddy for a decade; co-producing seven CDs and performing at major jazz and blues festivals all across Canada\, Europe and the United States. Tom is also a member of the award winning group Nine Steps featuring Bill Stevenson and Geoff Arsenault. \nOver the past 25 years Tom has performed with a number of internationally recognized artists including Mike Murley\, Juan Martin\, Ed Thigpen\, Jeff Hamilton\, John Abercrombie\, Hal Galper\, Mike Stern\, Peter Erskine\, Adam Rogers\, Lage Lund\, Tierney Sutton\, David Liebman\, Phil Dwyer\, Lorne Lofsky\, Matt Wilson\, Cyril Aimee\, Andy Laverne\, Chad Wackerman\, Randy Brecker and Los Lobos. \n 
URL:https://livemusichalifax.ca/event/chris-mitchell-holly-arsenault/
LOCATION:Wooden Monkey\, Alderney Landing
ATTACH;FMTTYPE=image/png:https://livemusichalifax.ca/wp-content/uploads/2025/08/Holly-Arsenault-Tom-Easley-e1760487840734.png
END:VEVENT
BEGIN:VEVENT
DTSTART;TZID=America/Halifax:20250828T200000
DTEND;TZID=America/Halifax:20250828T220000
DTSTAMP:20260421T142219
CREATED:20251013T214643Z
LAST-MODIFIED:20251013T214643Z
UID:10001648-1756411200-1756418400@livemusichalifax.ca
SUMMARY:Theo Macintosh
DESCRIPTION:Born and raised in Glace Bay\, Cape Breton\, Nova Scotia\, Theo has spent years lending his talent to various groups as a guitarist\, pianist\, and vocalist.  After studying music at St. Francis Xavier University\, Theo became a founding member of Abbey Road – Tribute To The Beatles.  Over the years\, Theo has performed throughout the Maritimes\, sharing the stage with many acts including The Commitments\, Alan White (Yes/Lennon)\, Honeymoon Suite\, The Beach Boys and countless local musicians. \nTheo combines his Cape Breton roots\, jazz training\, and gigging experience to provide a tasteful\, entertaining\, and memorable performance
URL:https://livemusichalifax.ca/event/theo-macintosh/
LOCATION:Old Triangle\, 5136 Prince Street\, Halifax
ATTACH;FMTTYPE=image/jpeg:https://livemusichalifax.ca/wp-content/uploads/2025/07/theo-macintosh.jpg
END:VEVENT
BEGIN:VEVENT
DTSTART;TZID=America/Halifax:20250828T200000
DTEND;TZID=America/Halifax:20250828T230000
DTSTAMP:20260421T142219
CREATED:20251013T214643Z
LAST-MODIFIED:20251013T214643Z
UID:10001873-1756411200-1756422000@livemusichalifax.ca
SUMMARY:Jazz Night with the Zingers
DESCRIPTION:Every Thursday The Zimgars (Trevor Wenzell\, Matt Myer\, Rheo Rochon & Dustin Smith) serve up sweet grooves\, tasty licks\, and more funky good times than you knew you needed.
URL:https://livemusichalifax.ca/event/jazz-night-with-the-zingers-2/
LOCATION:Driftwood\, 2103 Gottingen St\, Halifax
ATTACH;FMTTYPE=image/jpeg:https://livemusichalifax.ca/wp-content/uploads/2025/08/Matt-Myer-Friends.jpeg
END:VEVENT
END:VCALENDAR