BEGIN:VCALENDAR
VERSION:2.0
PRODID:-//Live Music Halifax - ECPv6.15.20//NONSGML v1.0//EN
CALSCALE:GREGORIAN
METHOD:PUBLISH
X-WR-CALNAME:Live Music Halifax
X-ORIGINAL-URL:https://livemusichalifax.ca
X-WR-CALDESC:Events for Live Music Halifax
REFRESH-INTERVAL;VALUE=DURATION:PT1H
X-Robots-Tag:noindex
X-PUBLISHED-TTL:PT1H
BEGIN:VTIMEZONE
TZID:America/Halifax
BEGIN:DAYLIGHT
TZOFFSETFROM:-0400
TZOFFSETTO:-0300
TZNAME:ADT
DTSTART:20240310T060000
END:DAYLIGHT
BEGIN:STANDARD
TZOFFSETFROM:-0300
TZOFFSETTO:-0400
TZNAME:AST
DTSTART:20241103T050000
END:STANDARD
BEGIN:DAYLIGHT
TZOFFSETFROM:-0400
TZOFFSETTO:-0300
TZNAME:ADT
DTSTART:20250309T060000
END:DAYLIGHT
BEGIN:STANDARD
TZOFFSETFROM:-0300
TZOFFSETTO:-0400
TZNAME:AST
DTSTART:20251102T050000
END:STANDARD
BEGIN:DAYLIGHT
TZOFFSETFROM:-0400
TZOFFSETTO:-0300
TZNAME:ADT
DTSTART:20260308T060000
END:DAYLIGHT
BEGIN:STANDARD
TZOFFSETFROM:-0300
TZOFFSETTO:-0400
TZNAME:AST
DTSTART:20261101T050000
END:STANDARD
END:VTIMEZONE
BEGIN:VEVENT
DTSTART;TZID=America/Halifax:20250820T140000
DTEND;TZID=America/Halifax:20250820T160000
DTSTAMP:20260421T110417
CREATED:20251013T214715Z
LAST-MODIFIED:20251013T214715Z
UID:10001664-1755698400-1755705600@livemusichalifax.ca
SUMMARY:Nadia Moore
DESCRIPTION:Nadia\, an international performer from Manila\, Philippines\, has been showcasing her unique vocal abilities and infectious stage presence across Asian and North American venues since 1985. Her career started at the age of fourteen and has developed into what she is today – a well-seasoned\, international professional singer.  In the earlier part of her career\, she spent five years singing for the Royal Family in the country of Brunei. \nWhile Nadia lived in the Philippines she was the leading female vocalist for legendary band ”Hotdog” that first achieved fame in the 1970s.  Their performances included a tour of the United States in 2002 as well as a tour of Canada in 2004.  Nadia moved from the Philippines to Nova Scotia\, Canada in 2003 where she began performing back-up vocals with a well-known local artist\, Gary Beals from Canadian Idol.  After living in Nova Scotia for a couple of years\, Nadia spent some time in Beijing\, China where she was the lead singer of the ”Cool Buzz Jazz Band” from 2005 until 2008\, when her life brought her back to Nova Scotia. \nSince making Nova Scotia her permanent home in 2008\, Nadia has been busy performing with a number of Halifax’s top artists at various local festivals and community events such as the Halifax Jazz Festival\, Evergreen Festival\, Christmas Tree Lightings for three consecutive years\, and more!  Nadia is also actively performing for the Filipino community events both in Nova Scotia and New Brunswick.  Her most current performances are with the band ”Canary and the LoveCatz” where they perform Jazz\, Harlem\, and New Orleans style music every Sunday at the Pacifico Nightclub in Halifax.  Nadia also\, leads her own band with other local artists.  The band does private performances with R&B and Dance Music stylings. \nIn 2017\, Nadia released her first CD Album called ”Nadia Moore – 50” in celebration of her golden birthday.  The songs in the album showcase the different genres of music that Nadia performs for her live audiences.  Included in this album are three Nadia Moore original compositions titled: ”I will love you\, baby”\, ”Nothing at all”\, and ”Something special”.
URL:https://livemusichalifax.ca/event/nadia-moore/
LOCATION:Halifax Public Gardens\, Spring Garden Rd. &\, Summer St\, Halifax
ATTACH;FMTTYPE=image/jpeg:https://livemusichalifax.ca/wp-content/uploads/2025/07/nadia-moore.jpg
END:VEVENT
BEGIN:VEVENT
DTSTART;TZID=America/Halifax:20250820T170000
DTEND;TZID=America/Halifax:20250820T190000
DTSTAMP:20260421T110417
CREATED:20251013T214715Z
LAST-MODIFIED:20251013T214715Z
UID:10001865-1755709200-1755716400@livemusichalifax.ca
SUMMARY:Rita Sharko and Joseph Dowell
DESCRIPTION:Pianist Joey Dowell teams up with Ukrainian soprano Rita Sharko for an evening of opera.
URL:https://livemusichalifax.ca/event/rita-sharko-and-joseph-dowell/
LOCATION:Halifax Public Gardens\, Spring Garden Rd. &\, Summer St\, Halifax
ATTACH;FMTTYPE=image/png:https://livemusichalifax.ca/wp-content/uploads/2025/07/Rita-Sharko-Joey-Dowell.png
END:VEVENT
BEGIN:VEVENT
DTSTART;TZID=America/Halifax:20250820T190000
DTEND;TZID=America/Halifax:20250820T220000
DTSTAMP:20260421T110417
CREATED:20251013T214715Z
LAST-MODIFIED:20251013T214715Z
UID:10001691-1755716400-1755727200@livemusichalifax.ca
SUMMARY:Live Jazz with the Matt MacLennan Trio
DESCRIPTION:Matt MacLennan is a bassist and bandleader\, bringing a mix of velvety ballads\, smooth bossa novas\, and breezy swing to Obladee!\nYou can expect balanced and inviting sets with an easy and conversational style that fills the room without crowding it. Lean in and listen\, or simply let the sound and textures carry you away.\nA warm welcome to Matt and his band – we just know you’ll love them!\nPlease reserve your spot as seating is limited.
URL:https://livemusichalifax.ca/event/live-jazz-with-the-matt-maclennan-trio-6/
LOCATION:Obladee wine bar\, 1600 Barrington St\, Halifax
ATTACH;FMTTYPE=image/jpeg:https://livemusichalifax.ca/wp-content/uploads/2025/07/matt-maclennan-e1756945061775.jpg
END:VEVENT
BEGIN:VEVENT
DTSTART;TZID=America/Halifax:20250820T193000
DTEND;TZID=America/Halifax:20250820T230000
DTSTAMP:20260421T110417
CREATED:20251013T214715Z
LAST-MODIFIED:20251013T214715Z
UID:10001408-1755718200-1755730800@livemusichalifax.ca
SUMMARY:Jazz Night @ The Local
DESCRIPTION:Jazz night with Silvio Pupo\, keys\, Ronald Hynes\, bass and Damien Moynihan\, percussion.
URL:https://livemusichalifax.ca/event/jazz-night-the-local-2/
LOCATION:The Local\, 2037 Gottingen St\, Halifax
ATTACH;FMTTYPE=image/jpeg:https://livemusichalifax.ca/wp-content/uploads/2025/07/the-local-e1751825022755.jpg
END:VEVENT
BEGIN:VEVENT
DTSTART;TZID=America/Halifax:20250820T200000
DTEND;TZID=America/Halifax:20250820T220000
DTSTAMP:20260421T110417
CREATED:20251013T214659Z
LAST-MODIFIED:20251013T214659Z
UID:10001642-1755720000-1755727200@livemusichalifax.ca
SUMMARY:Alicia Putnam
DESCRIPTION:Since being inspired at the age of nine when she saw Natalie MacMaster in concert\, Alycia Putnam has been working on her fiddle chops and a deep repertoire of foot-stompin’ tunes. The result of this dedication has been three solo albums and thousands of live performances spanning the globe from Pictou to Amsterdam\, and back to Pictou.  \nAlycia’s most recent album\, the much anticipated Wired for Sound\, includes 13 tracks of traditional to more eclectic fiddle music and the immense talent of 10 of the province’s most well-known musicians. \nSince her performing career took off in the late 90’s\, Alycia has amassed a network of artists she regularly adds to her live performances depending on what’s needed for the gig. Her core family band (her dad\, Robert\, on guitar and her mom\, Kelly\, on bagpipes) can be expanded to feature percussion\, bass\, vocals\, banjo\, mandolin\, and a suite of other sounds depending on who’s footing the bill. Regardless of the band’s composition\, this live show has something for everyone and is a must-see for anybody who loves Cape-Breton-style fiddle music played by a mainlander.
URL:https://livemusichalifax.ca/event/alicia-putnam/
LOCATION:Old Triangle\, 5136 Prince Street\, Halifax
ATTACH;FMTTYPE=image/jpeg:https://livemusichalifax.ca/wp-content/uploads/2025/07/alycia-putnam-e1753070251911.jpg
END:VEVENT
END:VCALENDAR