BEGIN:VCALENDAR
VERSION:2.0
PRODID:-//Live Music Halifax - ECPv6.15.20//NONSGML v1.0//EN
CALSCALE:GREGORIAN
METHOD:PUBLISH
X-ORIGINAL-URL:https://livemusichalifax.ca
X-WR-CALDESC:Events for Live Music Halifax
REFRESH-INTERVAL;VALUE=DURATION:PT1H
X-Robots-Tag:noindex
X-PUBLISHED-TTL:PT1H
BEGIN:VTIMEZONE
TZID:America/Halifax
BEGIN:DAYLIGHT
TZOFFSETFROM:-0400
TZOFFSETTO:-0300
TZNAME:ADT
DTSTART:20240310T060000
END:DAYLIGHT
BEGIN:STANDARD
TZOFFSETFROM:-0300
TZOFFSETTO:-0400
TZNAME:AST
DTSTART:20241103T050000
END:STANDARD
BEGIN:DAYLIGHT
TZOFFSETFROM:-0400
TZOFFSETTO:-0300
TZNAME:ADT
DTSTART:20250309T060000
END:DAYLIGHT
BEGIN:STANDARD
TZOFFSETFROM:-0300
TZOFFSETTO:-0400
TZNAME:AST
DTSTART:20251102T050000
END:STANDARD
BEGIN:DAYLIGHT
TZOFFSETFROM:-0400
TZOFFSETTO:-0300
TZNAME:ADT
DTSTART:20260308T060000
END:DAYLIGHT
BEGIN:STANDARD
TZOFFSETFROM:-0300
TZOFFSETTO:-0400
TZNAME:AST
DTSTART:20261101T050000
END:STANDARD
END:VTIMEZONE
BEGIN:VEVENT
DTSTART;TZID=America/Halifax:20250819T121500
DTEND;TZID=America/Halifax:20250819T130000
DTSTAMP:20260419T152933
CREATED:20251013T214715Z
LAST-MODIFIED:20251013T214715Z
UID:10001863-1755605700-1755608400@livemusichalifax.ca
SUMMARY:Atlantic Sound Machine
DESCRIPTION:Come out and groove to Halifax’s vibrant genre fusing big band !!! Fresh off the heels of the TD Halifax Jazz fest
URL:https://livemusichalifax.ca/event/atlantic-sound-machine/
LOCATION:St Matthew’s United Church\, 1479 Barrington St
ATTACH;FMTTYPE=image/jpeg:https://livemusichalifax.ca/wp-content/uploads/2025/08/Atlantic-Sound-Machine-e1755738799518.jpg
END:VEVENT
BEGIN:VEVENT
DTSTART;TZID=America/Halifax:20250819T180000
DTEND;TZID=America/Halifax:20250819T210000
DTSTAMP:20260419T152934
CREATED:20251013T214715Z
LAST-MODIFIED:20251013T214715Z
UID:10001481-1755626400-1755637200@livemusichalifax.ca
SUMMARY:Jazz Night
DESCRIPTION:Jazz Night with Ken MacKay \nA native of Truro NS\, Ken first started teaching in the Public School system in 1976 and has been active as an educator as a Clinician\, Adjudicator and Soloist throughout his career. Ken retired from Astral Drive Junior High where he has been Director of Bands for over 20 years. Ken is Past-President of the Atlantic Federation of Musicians and is currently on the board of NS Honour Jazz and co-leader of the NSHJ Funk Unit. \nKen’s list of his professional credits is impressive. Frankie Valli and the Four Seasons\, Regis Philbin\, Natalie Cole\, jazz great Ernie Watts\, Mary Wilson (The Supremes)\, Blues Brother Dan Aykroyd\, daughter of the blues Shirley King\, Rosemary Clooney\, the Temptations\, and Lionel Ritchie are just a few of the artists Ken has shared the stage with. He currently performs with The Back Alley Big Band\, Asia NuGruv and The Aviators.
URL:https://livemusichalifax.ca/event/jazz-night-4-2/
LOCATION:Ragazzi Restobar\, 5187 Salter St\, Halifax
ATTACH;FMTTYPE=image/jpeg:https://livemusichalifax.ca/wp-content/uploads/2025/07/Ken-MacKay-1-e1753119441519.jpg
END:VEVENT
END:VCALENDAR