BEGIN:VCALENDAR
VERSION:2.0
PRODID:-//Live Music Halifax - ECPv6.15.20//NONSGML v1.0//EN
CALSCALE:GREGORIAN
METHOD:PUBLISH
X-WR-CALNAME:Live Music Halifax
X-ORIGINAL-URL:https://livemusichalifax.ca
X-WR-CALDESC:Events for Live Music Halifax
REFRESH-INTERVAL;VALUE=DURATION:PT1H
X-Robots-Tag:noindex
X-PUBLISHED-TTL:PT1H
BEGIN:VTIMEZONE
TZID:America/Halifax
BEGIN:DAYLIGHT
TZOFFSETFROM:-0400
TZOFFSETTO:-0300
TZNAME:ADT
DTSTART:20240310T060000
END:DAYLIGHT
BEGIN:STANDARD
TZOFFSETFROM:-0300
TZOFFSETTO:-0400
TZNAME:AST
DTSTART:20241103T050000
END:STANDARD
BEGIN:DAYLIGHT
TZOFFSETFROM:-0400
TZOFFSETTO:-0300
TZNAME:ADT
DTSTART:20250309T060000
END:DAYLIGHT
BEGIN:STANDARD
TZOFFSETFROM:-0300
TZOFFSETTO:-0400
TZNAME:AST
DTSTART:20251102T050000
END:STANDARD
BEGIN:DAYLIGHT
TZOFFSETFROM:-0400
TZOFFSETTO:-0300
TZNAME:ADT
DTSTART:20260308T060000
END:DAYLIGHT
BEGIN:STANDARD
TZOFFSETFROM:-0300
TZOFFSETTO:-0400
TZNAME:AST
DTSTART:20261101T050000
END:STANDARD
END:VTIMEZONE
BEGIN:VEVENT
DTSTART;TZID=America/Halifax:20250815T180000
DTEND;TZID=America/Halifax:20250815T220000
DTSTAMP:20260422T081535
CREATED:20251014T191238Z
LAST-MODIFIED:20251014T191238Z
UID:10001745-1755280800-1755295200@livemusichalifax.ca
SUMMARY:Rock the Harbour
DESCRIPTION:Nova Scotia’s Classic Rock festival\nHoneymoon Suite • Sweet • Titan
URL:https://livemusichalifax.ca/event/rock-the-harbour/
LOCATION:Alderney Landing\, 2 Ochterloney St
ATTACH;FMTTYPE=image/jpeg:https://livemusichalifax.ca/wp-content/uploads/2025/07/rock-the-harbour-e1753889360794.jpg
END:VEVENT
BEGIN:VEVENT
DTSTART;TZID=America/Halifax:20250815T200000
DTEND;TZID=America/Halifax:20250815T220000
DTSTAMP:20260422T081535
CREATED:20251014T191259Z
LAST-MODIFIED:20251014T191259Z
UID:10001638-1755288000-1755295200@livemusichalifax.ca
SUMMARY:Tristan Legg & Teddy Zee
DESCRIPTION:Tristan is a well known musician based out of Halifax\, Nova Scotia. Known for his rich\, powerful voice\, strong acoustic guitar playing and outgoing personality on stage\, he is a captivation act to catch. \nGrowing up in the Musquodoboit valley\, Tristan was influenced deeply by the albums his parents had of British & American rock and folk artists. \nSteeped in the love of the blues and traditional music\, Tristan has developed his own style of playing and writing songs that has a new but familiar feeling to them.
URL:https://livemusichalifax.ca/event/tristan-legg-teddy-zee-2/
LOCATION:Old Triangle\, 5136 Prince Street\, Halifax
ATTACH;FMTTYPE=image/jpeg:https://livemusichalifax.ca/wp-content/uploads/2025/07/tristan-legg.jpg
END:VEVENT
BEGIN:VEVENT
DTSTART;TZID=America/Halifax:20250815T200000
DTEND;TZID=America/Halifax:20250815T223000
DTSTAMP:20260422T081535
CREATED:20251014T191259Z
LAST-MODIFIED:20251014T191259Z
UID:10001854-1755288000-1755297000@livemusichalifax.ca
SUMMARY:Craig Cardiff
DESCRIPTION:Songwriter\, troubadour\, Craig Cardiff builds landscapes of sound using live digital loops\, bringing the room to a hush. Edged\, folk\, beautiful\, melancholy and left leaning\, one song breaks your heart and the next one puts it back together. Craig is a Canadian singer-songwriter. Known throughout Canada\, Craig is beginning to develop a following throughout North America and into some parts of Europe. With guitar in Hand\, Craig can turn any setting into an intimate affair\, infusing his music and lyrics with an uncompromising humanism that is rarely seen in today’s production-heavy climate. He makes it a point to keep the relationship with his fans personal\, inviting and accepting any opportunity to make his audience as much a part of the performance as he is. \nTickets
URL:https://livemusichalifax.ca/event/craig-cardiff/
LOCATION:The Carleton\, 1685 Argyle St\, Halifax
ATTACH;FMTTYPE=image/jpeg:https://livemusichalifax.ca/wp-content/uploads/2025/08/craig-cardiff-e1755177470931.jpeg
END:VEVENT
BEGIN:VEVENT
DTSTART;TZID=America/Halifax:20250815T203000
DTEND;TZID=America/Halifax:20250815T233000
DTSTAMP:20260422T081535
CREATED:20251230T143326Z
LAST-MODIFIED:20251230T143326Z
UID:10003733-1755289800-1755300600@livemusichalifax.ca
SUMMARY:The Mellotones
DESCRIPTION:For over two decades\, The Mellotones have been bringing their high-octane party to stages around the world. Lighting up dance floors wherever they go\, the R&B Funk band is an 8-piece powerhouse.
URL:https://livemusichalifax.ca/event/the-mellotones-2/2025-08-15/
LOCATION:Pacifico\, 5171 George St
ATTACH;FMTTYPE=image/avif:https://livemusichalifax.ca/wp-content/uploads/2025/08/mellotones.jpg.avif
END:VEVENT
END:VCALENDAR