BEGIN:VCALENDAR
VERSION:2.0
PRODID:-//Live Music Halifax - ECPv6.15.20//NONSGML v1.0//EN
CALSCALE:GREGORIAN
METHOD:PUBLISH
X-ORIGINAL-URL:https://livemusichalifax.ca
X-WR-CALDESC:Events for Live Music Halifax
REFRESH-INTERVAL;VALUE=DURATION:PT1H
X-Robots-Tag:noindex
X-PUBLISHED-TTL:PT1H
BEGIN:VTIMEZONE
TZID:America/Halifax
BEGIN:DAYLIGHT
TZOFFSETFROM:-0400
TZOFFSETTO:-0300
TZNAME:ADT
DTSTART:20240310T060000
END:DAYLIGHT
BEGIN:STANDARD
TZOFFSETFROM:-0300
TZOFFSETTO:-0400
TZNAME:AST
DTSTART:20241103T050000
END:STANDARD
BEGIN:DAYLIGHT
TZOFFSETFROM:-0400
TZOFFSETTO:-0300
TZNAME:ADT
DTSTART:20250309T060000
END:DAYLIGHT
BEGIN:STANDARD
TZOFFSETFROM:-0300
TZOFFSETTO:-0400
TZNAME:AST
DTSTART:20251102T050000
END:STANDARD
BEGIN:DAYLIGHT
TZOFFSETFROM:-0400
TZOFFSETTO:-0300
TZNAME:ADT
DTSTART:20260308T060000
END:DAYLIGHT
BEGIN:STANDARD
TZOFFSETFROM:-0300
TZOFFSETTO:-0400
TZNAME:AST
DTSTART:20261101T050000
END:STANDARD
END:VTIMEZONE
BEGIN:VEVENT
DTSTART;TZID=America/Halifax:20250813T140000
DTEND;TZID=America/Halifax:20250813T160000
DTSTAMP:20260422T125800
CREATED:20251014T191238Z
LAST-MODIFIED:20251014T191238Z
UID:10001663-1755093600-1755100800@livemusichalifax.ca
SUMMARY:Bedford Brass Quintet
DESCRIPTION:The Bedford Brass Quintet (BBQ) has performed acclaimed shows at concert halls\, bandstands\, churches and schools throughout Nova Scotia. Known for an eclectic repertoire and outside-the-box performances\, the group features accomplished musicians who have played with many of Atlantic Canada’s finest ensembles\, including Symphony Nova Scotia\, the PEI Symphony Orchestra\, the Nanaimo Symphony Orchestra\, Neptune Theatre\, and many more. The BBQ has twice been voted among the best classical ensembles in Halifax by readers of The Coast.
URL:https://livemusichalifax.ca/event/bedford-brass-quintet/
LOCATION:Halifax Public Gardens\, Spring Garden Rd. &\, Summer St\, Halifax
ATTACH;FMTTYPE=image/jpeg:https://livemusichalifax.ca/wp-content/uploads/2025/07/bedford-brass-quintet-e1753123923710.jpg
END:VEVENT
BEGIN:VEVENT
DTSTART;TZID=America/Halifax:20250813T190000
DTEND;TZID=America/Halifax:20250813T220000
DTSTAMP:20260422T125800
CREATED:20251014T191238Z
LAST-MODIFIED:20251014T191238Z
UID:10001690-1755111600-1755122400@livemusichalifax.ca
SUMMARY:Live Jazz with the Matt MacLennan Trio
DESCRIPTION:Matt MacLennan is a bassist and bandleader\, bringing a mix of velvety ballads\, smooth bossa novas\, and breezy swing to Obladee!\nYou can expect balanced and inviting sets with an easy and conversational style that fills the room without crowding it. Lean in and listen\, or simply let the sound and textures carry you away.\nA warm welcome to Matt and his band – we just know you’ll love them!\nPlease reserve your spot as seating is limited.
URL:https://livemusichalifax.ca/event/live-jazz-with-the-matt-maclennan-trio-7/
LOCATION:Obladee wine bar\, 1600 Barrington St\, Halifax
ATTACH;FMTTYPE=image/jpeg:https://livemusichalifax.ca/wp-content/uploads/2025/07/matt-maclennan-e1756945061775.jpg
END:VEVENT
BEGIN:VEVENT
DTSTART;TZID=America/Halifax:20250813T193000
DTEND;TZID=America/Halifax:20250813T230000
DTSTAMP:20260422T125800
CREATED:20251014T191238Z
LAST-MODIFIED:20251014T191238Z
UID:10001407-1755113400-1755126000@livemusichalifax.ca
SUMMARY:Jazz Night @ The Local
DESCRIPTION:Jazz night with Silvio Pupo\, keys\, Ronald Hynes\, bass and Damien Moynihan\, percussion.
URL:https://livemusichalifax.ca/event/jazz-night-the-local/
LOCATION:The Local\, 2037 Gottingen St\, Halifax
ATTACH;FMTTYPE=image/jpeg:https://livemusichalifax.ca/wp-content/uploads/2025/07/the-local-e1751825022755.jpg
END:VEVENT
BEGIN:VEVENT
DTSTART;TZID=America/Halifax:20250813T200000
DTEND;TZID=America/Halifax:20250813T220000
DTSTAMP:20260422T125800
CREATED:20251014T191238Z
LAST-MODIFIED:20251014T191238Z
UID:10001636-1755115200-1755122400@livemusichalifax.ca
SUMMARY:Jordan Leblanc
DESCRIPTION:Jordan LeBlanc took up the guitar at age 15 and started performing live by age 16. He has experience in many settings\, including cover bands\, original projects\, acoustic duos\, solo\, and jazz band. He has developed a diverse repertoire\, comfortable stage presence and a keen ear for improvisation over the years\, making him a great choice for live session work.
URL:https://livemusichalifax.ca/event/jordan-leblanc/
LOCATION:Old Triangle\, 5136 Prince Street\, Halifax
ATTACH;FMTTYPE=image/jpeg:https://livemusichalifax.ca/wp-content/uploads/2025/07/jordan-leblanc.jpg
END:VEVENT
BEGIN:VEVENT
DTSTART;TZID=America/Halifax:20250813T200000
DTEND;TZID=America/Halifax:20250813T223000
DTSTAMP:20260422T125800
CREATED:20251014T191238Z
LAST-MODIFIED:20251014T191238Z
UID:10001861-1755115200-1755124200@livemusichalifax.ca
SUMMARY:The Jazz Spotlight
DESCRIPTION:The Borrowers • KFR • Bard
URL:https://livemusichalifax.ca/event/the-jazz-spotlight/
LOCATION:Gus’ Pub & Grill\, 2605 Agricola St
ATTACH;FMTTYPE=image/jpeg:https://livemusichalifax.ca/wp-content/uploads/2025/08/guss-pub-e1755179917584.jpg
END:VEVENT
END:VCALENDAR