BEGIN:VCALENDAR
VERSION:2.0
PRODID:-//Live Music Halifax - ECPv6.15.20//NONSGML v1.0//EN
CALSCALE:GREGORIAN
METHOD:PUBLISH
X-WR-CALNAME:Live Music Halifax
X-ORIGINAL-URL:https://livemusichalifax.ca
X-WR-CALDESC:Events for Live Music Halifax
REFRESH-INTERVAL;VALUE=DURATION:PT1H
X-Robots-Tag:noindex
X-PUBLISHED-TTL:PT1H
BEGIN:VTIMEZONE
TZID:America/Halifax
BEGIN:DAYLIGHT
TZOFFSETFROM:-0400
TZOFFSETTO:-0300
TZNAME:ADT
DTSTART:20240310T060000
END:DAYLIGHT
BEGIN:STANDARD
TZOFFSETFROM:-0300
TZOFFSETTO:-0400
TZNAME:AST
DTSTART:20241103T050000
END:STANDARD
BEGIN:DAYLIGHT
TZOFFSETFROM:-0400
TZOFFSETTO:-0300
TZNAME:ADT
DTSTART:20250309T060000
END:DAYLIGHT
BEGIN:STANDARD
TZOFFSETFROM:-0300
TZOFFSETTO:-0400
TZNAME:AST
DTSTART:20251102T050000
END:STANDARD
BEGIN:DAYLIGHT
TZOFFSETFROM:-0400
TZOFFSETTO:-0300
TZNAME:ADT
DTSTART:20260308T060000
END:DAYLIGHT
BEGIN:STANDARD
TZOFFSETFROM:-0300
TZOFFSETTO:-0400
TZNAME:AST
DTSTART:20261101T050000
END:STANDARD
END:VTIMEZONE
BEGIN:VEVENT
DTSTART;TZID=America/Halifax:20250807T180000
DTEND;TZID=America/Halifax:20250807T210000
DTSTAMP:20260422T233659
CREATED:20251014T191238Z
LAST-MODIFIED:20251014T191238Z
UID:10001840-1754589600-1754600400@livemusichalifax.ca
SUMMARY:Geordie Haley\, Trevor Wentzell\, Greg Ritchie
DESCRIPTION:Geordie Haley: With more than 25 years of presenting and performing original music guitarist\, composer\, improviser and educator Geordie Haley has been a featured artist in concert and festival programs by creative music presenters Upstream Music\, Suddenly Listen\, Canadian Music Center\, The Motion Ensemble\, Jazz East\, Vocalypse \,Shattering the Silence\, Obey\, Scotia Fest\, Center for Experimental Music and the Harvest Jazz Festival. Geordie teaches guitar and ensembles at the NSCC Music Arts Program and at the Maritime Conservatory for the Performing Arts. He conducts a monthly improvising workshop for Suddenly Listen. As well as leading his own ensembles Geordie is a member of the Upstream Quartet\, Tom Easley’s EQ\, Jamie Gatti’s Riot Squad\, The Back Alley Big Band. Geordie has an active career as a contributor to many creative projects. \nTrevor Wentzell\, a prominent figure in the vibrant music scene of Halifax\, is a highly accomplished musician and dedicated music educator hailing from Lower Sackville\, Nova Scotia. His lifelong musical journey began at the tender age of five\, and since then\, he has immersed himself in the study and performance of music. Trevor’s passion for music is evident as he graces stages with his multi-instrumental talents\, including the organ\, piano\, flute\, clarinet\, and\, of course\, the saxophone. He is a sought-after member of various local jazz\, blues\, and funk bands\, such as the Back Alley Big Band\, the Chronos Band\, Zim Gars Trio\, Tom Collins Band\, Wentzell/Burton/Haley Organ Trio\, and Zulkamoon\, just to name a few. Trevor is also a prolific recording artist\, frequently collaborating with some of the finest musicians in Halifax. \n \nGreg RitDavid Burton has a vast array of recording projects to his credit as composer\, producer\, musical director and studio musician. His talent and musicianship has granted him priority status with CBC\, not only as a drummer\, but also as a musical director and arranger. His career has taken him around the world\, backing Canadian artist like Rita MacNeil\, Natalie MacMaster\, Alanya Miles and Ian Thomas\, to name a few. He has also had the pleasure of performing live with artists like Tony Bennett\, Sara Vaughan and\, the great\, Ella Fitzgerald. He has received a number of awards including Best Live Jazz CD “HavanaFax Live” (East Coast Music Awards)\, Best Instrumental Recording “Collage” (East Coast Music Awards) and for the soundtrack “New World Columbus – The Life of Joshua Slocum” (Houston Film Festival).
URL:https://livemusichalifax.ca/event/geordie-haley-trevor-wentzell-greg-rich/
LOCATION:Wooden Monkey\, Alderney Landing
ATTACH;FMTTYPE=image/jpeg:https://livemusichalifax.ca/wp-content/uploads/2025/08/haley-ritchie-wentzell-e1754595977729.jpg
END:VEVENT
END:VCALENDAR