BEGIN:VCALENDAR
VERSION:2.0
PRODID:-//Live Music Halifax - ECPv6.15.20//NONSGML v1.0//EN
CALSCALE:GREGORIAN
METHOD:PUBLISH
X-WR-CALNAME:Live Music Halifax
X-ORIGINAL-URL:https://livemusichalifax.ca
X-WR-CALDESC:Events for Live Music Halifax
REFRESH-INTERVAL;VALUE=DURATION:PT1H
X-Robots-Tag:noindex
X-PUBLISHED-TTL:PT1H
BEGIN:VTIMEZONE
TZID:America/Halifax
BEGIN:DAYLIGHT
TZOFFSETFROM:-0400
TZOFFSETTO:-0300
TZNAME:ADT
DTSTART:20240310T060000
END:DAYLIGHT
BEGIN:STANDARD
TZOFFSETFROM:-0300
TZOFFSETTO:-0400
TZNAME:AST
DTSTART:20241103T050000
END:STANDARD
BEGIN:DAYLIGHT
TZOFFSETFROM:-0400
TZOFFSETTO:-0300
TZNAME:ADT
DTSTART:20250309T060000
END:DAYLIGHT
BEGIN:STANDARD
TZOFFSETFROM:-0300
TZOFFSETTO:-0400
TZNAME:AST
DTSTART:20251102T050000
END:STANDARD
BEGIN:DAYLIGHT
TZOFFSETFROM:-0400
TZOFFSETTO:-0300
TZNAME:ADT
DTSTART:20260308T060000
END:DAYLIGHT
BEGIN:STANDARD
TZOFFSETFROM:-0300
TZOFFSETTO:-0400
TZNAME:AST
DTSTART:20261101T050000
END:STANDARD
END:VTIMEZONE
BEGIN:VEVENT
DTSTART;TZID=America/Halifax:20250806T200000
DTEND;TZID=America/Halifax:20250806T220000
DTSTAMP:20260423T023805
CREATED:20251014T191238Z
LAST-MODIFIED:20251014T191238Z
UID:10001632-1754510400-1754517600@livemusichalifax.ca
SUMMARY:Scott MacDonald
DESCRIPTION:Scott started gigging at the age of 15 – playing at dance halls in Cape Breton. Moved to Halifax in 1988 and started playing in a classic rock band. Started playing the pubs in 1992 which led to playing in a touring band (Brakin’ Tradition) through the mid to late 90’s. \nScott has also performed on numerous recordings and is a sought after fill in musician as he can play a variety of genres as well as sing lead and backing vocals.
URL:https://livemusichalifax.ca/event/scott-macdonald-2/
LOCATION:Old Triangle\, 5136 Prince Street\, Halifax
ATTACH;FMTTYPE=image/jpeg:https://livemusichalifax.ca/wp-content/uploads/2025/07/scott-macdonald-e1757997949513.jpg
END:VEVENT
END:VCALENDAR