BEGIN:VCALENDAR
VERSION:2.0
PRODID:-//Live Music Halifax - ECPv6.15.20//NONSGML v1.0//EN
CALSCALE:GREGORIAN
METHOD:PUBLISH
X-ORIGINAL-URL:https://livemusichalifax.ca
X-WR-CALDESC:Events for Live Music Halifax
REFRESH-INTERVAL;VALUE=DURATION:PT1H
X-Robots-Tag:noindex
X-PUBLISHED-TTL:PT1H
BEGIN:VTIMEZONE
TZID:America/Halifax
BEGIN:DAYLIGHT
TZOFFSETFROM:-0400
TZOFFSETTO:-0300
TZNAME:ADT
DTSTART:20240310T060000
END:DAYLIGHT
BEGIN:STANDARD
TZOFFSETFROM:-0300
TZOFFSETTO:-0400
TZNAME:AST
DTSTART:20241103T050000
END:STANDARD
BEGIN:DAYLIGHT
TZOFFSETFROM:-0400
TZOFFSETTO:-0300
TZNAME:ADT
DTSTART:20250309T060000
END:DAYLIGHT
BEGIN:STANDARD
TZOFFSETFROM:-0300
TZOFFSETTO:-0400
TZNAME:AST
DTSTART:20251102T050000
END:STANDARD
BEGIN:DAYLIGHT
TZOFFSETFROM:-0400
TZOFFSETTO:-0300
TZNAME:ADT
DTSTART:20260308T060000
END:DAYLIGHT
BEGIN:STANDARD
TZOFFSETFROM:-0300
TZOFFSETTO:-0400
TZNAME:AST
DTSTART:20261101T050000
END:STANDARD
END:VTIMEZONE
BEGIN:VEVENT
DTSTART;TZID=America/Halifax:20250727T140000
DTEND;TZID=America/Halifax:20250727T160000
DTSTAMP:20260423T150147
CREATED:20251014T191238Z
LAST-MODIFIED:20251014T191238Z
UID:10001658-1753624800-1753632000@livemusichalifax.ca
SUMMARY:Huptown Funk
DESCRIPTION:Personnel: \nTom Thomson\, vocals • Trevor Wentzell\, keys • Chris Terry\, guitar & vocals • Ben Tucker. guitar & vocals • Leo Cox\, bass • David Burton\, drums • Charlie Cooley\, percussion • Ken MacKay\, alto & tenor Sax • Sam Withers\, tenor sax • Chris Mitchell\, baritone sax • Luke Dobson\, trumpet • Ryan Cameron\, trumpet • Paul Barrett\, trombone
URL:https://livemusichalifax.ca/event/uptown-funk/
LOCATION:Halifax Public Gardens\, Spring Garden Rd. &\, Summer St\, Halifax
ATTACH;FMTTYPE=image/jpeg:https://livemusichalifax.ca/wp-content/uploads/2025/07/Huptown-Funk-e1753482106684.jpg
END:VEVENT
END:VCALENDAR