BEGIN:VCALENDAR
VERSION:2.0
PRODID:-//Live Music Halifax - ECPv6.15.20//NONSGML v1.0//EN
CALSCALE:GREGORIAN
METHOD:PUBLISH
X-WR-CALNAME:Live Music Halifax
X-ORIGINAL-URL:https://livemusichalifax.ca
X-WR-CALDESC:Events for Live Music Halifax
REFRESH-INTERVAL;VALUE=DURATION:PT1H
X-Robots-Tag:noindex
X-PUBLISHED-TTL:PT1H
BEGIN:VTIMEZONE
TZID:America/Halifax
BEGIN:DAYLIGHT
TZOFFSETFROM:-0400
TZOFFSETTO:-0300
TZNAME:ADT
DTSTART:20240310T060000
END:DAYLIGHT
BEGIN:STANDARD
TZOFFSETFROM:-0300
TZOFFSETTO:-0400
TZNAME:AST
DTSTART:20241103T050000
END:STANDARD
BEGIN:DAYLIGHT
TZOFFSETFROM:-0400
TZOFFSETTO:-0300
TZNAME:ADT
DTSTART:20250309T060000
END:DAYLIGHT
BEGIN:STANDARD
TZOFFSETFROM:-0300
TZOFFSETTO:-0400
TZNAME:AST
DTSTART:20251102T050000
END:STANDARD
BEGIN:DAYLIGHT
TZOFFSETFROM:-0400
TZOFFSETTO:-0300
TZNAME:ADT
DTSTART:20260308T060000
END:DAYLIGHT
BEGIN:STANDARD
TZOFFSETFROM:-0300
TZOFFSETTO:-0400
TZNAME:AST
DTSTART:20261101T050000
END:STANDARD
END:VTIMEZONE
BEGIN:VEVENT
DTSTART;TZID=America/Halifax:20250726T210000
DTEND;TZID=America/Halifax:20250726T230000
DTSTAMP:20260423T175615
CREATED:20251014T191238Z
LAST-MODIFIED:20251014T191238Z
UID:10000073-1753563600-1753570800@livemusichalifax.ca
SUMMARY:The Right Swipes
DESCRIPTION:Classic rock standard-bearers  The Right Swipes play their last 2025 show at The Carleton on Saturday\, July 26th. Live music gets underway at 9 PM and tickets are a measly $10 + HST. If you’re a fan of rock music played very\, very well\, you should grab your dancing shoes and some pals and get out to see these guys! \nThe Right Swipes are: Halifax-based powerhouse guitarist and lead vocalist\, Sasha Brideau with longtime collaborators\, Andrew “Bassman” Morris\, a four-stringed fixture of the Southern New Brunswick’s music scene\, and Eastern Shore\, Nova Scotia’s multi-talented Ryan MacPhee on the drums\, vocals\, and occasional guitar. \nIf your shuffle playlist includes songs by Jimi Hendrix\, Blink 182\, Pink Floyd\, Dire Straits\, Jet\, Tedeschi Trucks Band\, Lit\, The Eagles\, Gov’t Mule\, Radiohead\, Sloan\, Chris Stapleton\, Big Wreck and other rock favourites\, you are bound to love The Right Swipes! Come out\, bring your friends\, be yourself\, be ready to dance\, and rock out with this excellent band..
URL:https://livemusichalifax.ca/event/400/
LOCATION:The Carleton\, 1685 Argyle St\, Halifax
ATTACH;FMTTYPE=image/jpeg:https://livemusichalifax.ca/wp-content/uploads/2025/07/right-swipes.jpeg
END:VEVENT
END:VCALENDAR