BEGIN:VCALENDAR
VERSION:2.0
PRODID:-//Live Music Halifax - ECPv6.15.20//NONSGML v1.0//EN
CALSCALE:GREGORIAN
METHOD:PUBLISH
X-ORIGINAL-URL:https://livemusichalifax.ca
X-WR-CALDESC:Events for Live Music Halifax
REFRESH-INTERVAL;VALUE=DURATION:PT1H
X-Robots-Tag:noindex
X-PUBLISHED-TTL:PT1H
BEGIN:VTIMEZONE
TZID:America/Halifax
BEGIN:DAYLIGHT
TZOFFSETFROM:-0400
TZOFFSETTO:-0300
TZNAME:ADT
DTSTART:20240310T060000
END:DAYLIGHT
BEGIN:STANDARD
TZOFFSETFROM:-0300
TZOFFSETTO:-0400
TZNAME:AST
DTSTART:20241103T050000
END:STANDARD
BEGIN:DAYLIGHT
TZOFFSETFROM:-0400
TZOFFSETTO:-0300
TZNAME:ADT
DTSTART:20250309T060000
END:DAYLIGHT
BEGIN:STANDARD
TZOFFSETFROM:-0300
TZOFFSETTO:-0400
TZNAME:AST
DTSTART:20251102T050000
END:STANDARD
BEGIN:DAYLIGHT
TZOFFSETFROM:-0400
TZOFFSETTO:-0300
TZNAME:ADT
DTSTART:20260308T060000
END:DAYLIGHT
BEGIN:STANDARD
TZOFFSETFROM:-0300
TZOFFSETTO:-0400
TZNAME:AST
DTSTART:20261101T050000
END:STANDARD
END:VTIMEZONE
BEGIN:VEVENT
DTSTART;TZID=America/Halifax:20250725T200000
DTEND;TZID=America/Halifax:20250725T235500
DTSTAMP:20260423T150217
CREATED:20251014T191238Z
LAST-MODIFIED:20251014T191238Z
UID:10000072-1753473600-1753487700@livemusichalifax.ca
SUMMARY:Back to the '80s Pride Party
DESCRIPTION:Featuring Height Requirement   \nProshenna Rett & Anna Mona Pia  \nFive well-dressed dudes and a gal – including Nova Scotia radio host Jeff Douglas – fully (and we do mean FULLY) committed to the ’80s as music’s best decade\, the dancing machine known as Height Requirement returns to The Carleton stage for a special Pride Week Party – with special guests Proshenna Rett & Anna Mona Pia – on Friday\, July 25th. Show time is 8 PM and tickets are $20 + HST. \nThe band always jams the room\, so we suggest you get your tickets quickly\, arrive early\, and prepare to dance!  This is a standing room show with limited seating with arrival by 7 PM  – please email reservations@thecarleton.ca to confirm availability.
URL:https://livemusichalifax.ca/event/back-to-the-80s-pride-party/
LOCATION:The Carleton\, 1685 Argyle St\, Halifax
ATTACH;FMTTYPE=image/jpeg:https://livemusichalifax.ca/wp-content/uploads/2025/07/height-requirement-e1753393778261.jpg
END:VEVENT
END:VCALENDAR